From mboxrd@z Thu Jan 1 00:00:00 1970 Return-Path: Received: from mails.dpdk.org (mails.dpdk.org [217.70.189.124]) by inbox.dpdk.org (Postfix) with ESMTP id B8305466D5 for ; Tue, 6 May 2025 09:24:56 +0200 (CEST) Received: from mails.dpdk.org (localhost [127.0.0.1]) by mails.dpdk.org (Postfix) with ESMTP id 90EC940269; Tue, 6 May 2025 09:24:56 +0200 (CEST) Received: from mail-qk1-f227.google.com (mail-qk1-f227.google.com [209.85.222.227]) by mails.dpdk.org (Postfix) with ESMTP id E068040150 for ; Tue, 6 May 2025 09:24:54 +0200 (CEST) Received: by mail-qk1-f227.google.com with SMTP id af79cd13be357-7cadd46eb07so351059185a.3 for ; Tue, 06 May 2025 00:24:54 -0700 (PDT) DKIM-Signature: v=1; a=rsa-sha256; c=relaxed/relaxed; d=iol.unh.edu; s=unh-iol; t=1746516294; x=1747121094; darn=dpdk.org; h=references:in-reply-to:cc:to:from:subject:message-id:date:from:to :cc:subject:date:message-id:reply-to; bh=xL8KZTeir2att7N897maSc7agBuWB7biUZsxchE5bSQ=; b=jbwoEehGcy9eGSDPBHaeCaYtjpiP/G+/5lrA2obMoll3gwEfXzZ1e3102CQKzHqwyW OaX062bN+s8Dq5+8Qd3d3VXheOab9cwr4lWjTETtY8ruKaTEeCEXon427vXvHFOk3tC4 4apyIKYJIcwPoImCeLnH0ZW0g0/Hqvh33BiKQ= X-Google-DKIM-Signature: v=1; a=rsa-sha256; c=relaxed/relaxed; d=1e100.net; s=20230601; t=1746516294; x=1747121094; h=references:in-reply-to:cc:to:from:subject:message-id:date :x-gm-message-state:from:to:cc:subject:date:message-id:reply-to; bh=xL8KZTeir2att7N897maSc7agBuWB7biUZsxchE5bSQ=; b=nPZeBJzEZObh+6fDEbsrDXEsZjQthIY/QsIW2z/a3oMPzjQyr/aM6plcVhxMQhvkAE x38b4YwK5vR5QpkWsoxf3X6oTYRyklFQVUT3ipAlf8ItZt2jD7/dXhTx6O0rPNxWg2d2 ffUJRwV3cdCr4RlrBiVuKiersnXqicW6mL9YE68prPXDoQ02IQBlbpqzb1FamV8B7JDL ELmT2AxlF4cR4Pa0g50TDtzOJQToTGinS+Xxzqqg42VseOOWNHzRQKXRk+btm/bWplVl gYNp0TArz3Jj3N1mtV6pEZTnuucLVN0RN8JskPP7N9stwoMzxQI4UOiCnhOl+D0gE1ud Yljg== X-Gm-Message-State: AOJu0YxVCeLDP9jedxz+EyFSVx7nUqkvzeTLmMRP6Ac1Fw+k8k1imt3E YlQWc6279I7CtMmm8tbsNGmZtAEXw1GxeHmQVx4jmLKOt7ayinHbuGTcIZtZfWyrpo6T1pm3VzZ ScWu9MjoJ8of4WWhstMWwH7hFyN41BRYKxwCLljwv X-Gm-Gg: ASbGncv+HpxLCHa/Ic4ElaU88wYYYAipChZ/p8N5E6dBu/9wve9ToObjXYMGzUiiVMh uvCP13B2j/CO/ntjQQFRGGnnDyB+CIw1mV0C8hftqiSeH6jl7rERp7rtgVOLaQnV92oNZ6Xm9FQ H6zD5U7kIY+qEf/Xvgx4Q5ksr3JWMcjHA2rX4QfaXEaQxDgVLk/OREnQ9AuEG01JaHKyWBcmRjb 3cMVtNspg4Me27ea7Ro6ApBwnCO4xbKLwi9FBXxAT0tc4edB9JuA5484pK7kGlhPiAXC7mTe3m+ 5gll1qycXdMnMOBlyKWPaMol1XXYRwgmqocmNBn5xixKpbajvEnNkMGZgFM= X-Google-Smtp-Source: AGHT+IEDgGNJvR4Dh2sK2DUfSQGbS5W8mZJjHeAwvmxJp7FT6u2k7I0vSdz2if1xLpNUsCKLXkxqWBd4VQAo X-Received: by 2002:a05:620a:3913:b0:7c7:a5e1:f204 with SMTP id af79cd13be357-7cad5ba5b9amr2433183485a.56.1746516294212; Tue, 06 May 2025 00:24:54 -0700 (PDT) Received: from postal.iol.unh.edu (postal.iol.unh.edu. [132.177.123.84]) by smtp-relay.gmail.com with ESMTPS id af79cd13be357-7cad23b5f39sm129973785a.2.2025.05.06.00.24.54 (version=TLS1_2 cipher=ECDHE-ECDSA-AES128-GCM-SHA256 bits=128/128); Tue, 06 May 2025 00:24:54 -0700 (PDT) X-Relaying-Domain: iol.unh.edu Date: Tue, 06 May 2025 00:24:54 -0700 (PDT) Message-ID: <6819b946.050a0220.2df2e5.f240SMTPIN_ADDED_MISSING@mx.google.com> Received: from [172.21.0.6] (unknown [172.18.0.240]) by postal.iol.unh.edu (Postfix) with ESMTP id B9B3B6052471; Tue, 6 May 2025 03:24:53 -0400 (EDT) Subject: |SUCCESS| pw153303 [PATCH] eal: add getline() function for Windows From: dpdklab@iol.unh.edu To: Test Report Cc: dpdk-test-reports@iol.unh.edu In-Reply-To: <1746477607-14961-1-git-send-email-andremue@linux.microsoft.com> References: <1746477607-14961-1-git-send-email-andremue@linux.microsoft.com> Content-Type: text/plain X-BeenThere: test-report@dpdk.org X-Mailman-Version: 2.1.29 Precedence: list List-Id: automatic DPDK test reports List-Unsubscribe: , List-Archive: List-Post: List-Help: List-Subscribe: , Errors-To: test-report-bounces@dpdk.org Test-Label: iol-compile-arm64-testing Test-Status: SUCCESS http://dpdk.org/patch/153303 _Testing PASS_ Submitter: Andre Muezerie Date: Monday, May 05 2025 20:40:07 DPDK git baseline: Repo:dpdk Branch: master CommitID:ca1690ebd224f148268285b15b97441ccdbdd07e 153303 --> testing pass Upstream job id: Generic-DPDK-Compile-Meson#385431 Test environment and result as below: +----------------------------------------+--------------------+ | Environment | dpdk_meson_compile | +========================================+====================+ | RHEL9 (ARM) | PASS | +----------------------------------------+--------------------+ | Ubuntu 20.04 ARM GCC Cross Compile | PASS | +----------------------------------------+--------------------+ | Ubuntu 20.04 ARM SVE | PASS | +----------------------------------------+--------------------+ | Debian 12 with MUSDK | PASS | +----------------------------------------+--------------------+ | Fedora 41 (ARM) | PASS | +----------------------------------------+--------------------+ | Fedora 40 (ARM) | PASS | +----------------------------------------+--------------------+ | Fedora 40 (ARM Clang) | PASS | +----------------------------------------+--------------------+ | Fedora 41 (ARM Clang) | PASS | +----------------------------------------+--------------------+ | Ubuntu 20.04 (ARM) | PASS | +----------------------------------------+--------------------+ | Ubuntu 22.04 (ARM) | PASS | +----------------------------------------+--------------------+ | Ubuntu 24.04 (ARM) | PASS | +----------------------------------------+--------------------+ | CentOS Stream 9 (ARM) | PASS | +----------------------------------------+--------------------+ | CentOS Stream 10 (ARM) | PASS | +----------------------------------------+--------------------+ | Ubuntu 20.04 aarch32 GCC Cross Compile | PASS | +----------------------------------------+--------------------+ | Ubuntu 20.04 ARM Clang Cross Compile | PASS | +----------------------------------------+--------------------+ | Debian 12 (arm) | PASS | +----------------------------------------+--------------------+ RHEL9 (ARM) Kernel: Depends on container host Compiler: gcc 11.5.0 20240719 (Red Hat 11.5.0-2) Ubuntu 20.04 ARM GCC Cross Compile Kernel: Depends on container host Compiler: aarch64-linux-gnu-gcc (Ubuntu 9.4.0-1ubuntu1~20.04.2) 9.4.0 Ubuntu 20.04 ARM SVE Kernel: Depends on container host Compiler: gcc (Ubuntu 10.5.0-1ubuntu1~20.04) 10.5.0 Debian 12 with MUSDK Kernel: Depends on container host Compiler: gcc (Debian 12.2.0-14) 12.2.0 Fedora 41 (ARM) Kernel: Depends on container host Compiler: gcc 14.2.1 20240912 (Red Hat 14.2.1-3) Fedora 40 (ARM) Kernel: Depends on container host Compiler: gcc 14.2.1 20240912 (Red Hat 14.2.1-3) Fedora 40 (ARM Clang) Kernel: Depends on container host Compiler: clang 18.1.8 (Fedora 18.1.8-1.fc40) Fedora 41 (ARM Clang) Kernel: Depends on container host Compiler: clang 19.1.5 (Fedora 19.1.5-1.fc41) Ubuntu 20.04 (ARM) Kernel: Depends on container host Compiler: gcc (Ubuntu 9.4.0-1ubuntu1~20.04.2) 9.4.0 Ubuntu 22.04 (ARM) Kernel: Depends on container host Compiler: gcc (Ubuntu 11.4.0-1ubuntu1~22.04) 11.4.0 Ubuntu 24.04 (ARM) Kernel: Depends on container host Compiler: gcc (Ubuntu 13.3.0-6ubuntu2~24.04) 13.3.0 CentOS Stream 9 (ARM) Kernel: Depends on container host Compiler: gcc 11.5.0 20240719 (Red Hat 11.5.0-2) CentOS Stream 10 (ARM) Kernel: Depends on container host Compiler: gcc 14.2.1 20241104 (Red Hat 14.2.1-6) Ubuntu 20.04 aarch32 GCC Cross Compile Kernel: Depends on container host Compiler: gcc 9.4.0 Ubuntu 20.04 ARM Clang Cross Compile Kernel: Depends on container host Compiler: clang 10.0.0-4ubuntu1 Debian 12 (arm) Kernel: Depends on container host Compiler: gcc (Debian 12.2.0-14) 12.2.0 To view detailed results, visit: https://lab.dpdk.org/results/dashboard/patchsets/33116/ UNH-IOL DPDK Community Lab To manage your email subscriptions, visit: https://lab.dpdk.org/results/dashboard/preferences/subscriptions/