From mboxrd@z Thu Jan 1 00:00:00 1970 Return-Path: Received: from mails.dpdk.org (mails.dpdk.org [217.70.189.124]) by inbox.dpdk.org (Postfix) with ESMTP id EDA97466D5 for ; Tue, 6 May 2025 09:36:34 +0200 (CEST) Received: from mails.dpdk.org (localhost [127.0.0.1]) by mails.dpdk.org (Postfix) with ESMTP id B334C40269; Tue, 6 May 2025 09:36:34 +0200 (CEST) Received: from mail-pl1-f227.google.com (mail-pl1-f227.google.com [209.85.214.227]) by mails.dpdk.org (Postfix) with ESMTP id 1AF1E40150 for ; Tue, 6 May 2025 09:36:33 +0200 (CEST) Received: by mail-pl1-f227.google.com with SMTP id d9443c01a7336-22e09f57ed4so49783415ad.0 for ; Tue, 06 May 2025 00:36:33 -0700 (PDT) DKIM-Signature: v=1; a=rsa-sha256; c=relaxed/relaxed; d=iol.unh.edu; s=unh-iol; t=1746516992; x=1747121792; darn=dpdk.org; h=cc:to:from:subject:message-id:date:from:to:cc:subject:date :message-id:reply-to; bh=5uuElyUVLvfRCdFCJTM0CxHKK+smE26FMlDpmJnG3tc=; b=PzP1L2xAtfAZNIsgCGuePJPOYlIvj/rfCapKn7Lnwzet0SGP10kP38eBz7YQP3ao2z ZM0csPRN9vAtya2vJpGUwQUWsUQFnSw/d1GuFMyYwsLLEP5hfyM7ZNks7cyAbiP4KOJJ qRYA/WL8OhIqAkN5Tgyf595q+doGH4TnKzdHM= X-Google-DKIM-Signature: v=1; a=rsa-sha256; c=relaxed/relaxed; d=1e100.net; s=20230601; t=1746516992; x=1747121792; h=cc:to:from:subject:message-id:date:x-gm-message-state:from:to:cc :subject:date:message-id:reply-to; bh=5uuElyUVLvfRCdFCJTM0CxHKK+smE26FMlDpmJnG3tc=; b=Pm2Fk38egUWoaaOpx/ibhx+3F5dYaZ2N+/DBZUj12qTpu3z5lQ8BwgbYGARyoUC215 9P3aPbuUx1C10rCCwRMC5bgqdeWC5nTa/n8beE+6NaPbZtbBSUArEUDCA9l3uh6yeJJF W5RUV9YHRDmyQBBJiVo/XD8M8ANVmdOsi4lSHha0mpaBErMTEXh9/N3XxrTUnN2g2LsY EgFx3DkJDfOLpj/htbM95lWfGhQem8B1KVTsah3+9phbUmhZrxVHWgGNN9gniEpglXcZ rNgZESTE3q9FFBiloX4cxX3s8i4HdTD/qEIS/msB/usbdIiMRHbLi9jku2aqMn045qfL X+Ow== X-Gm-Message-State: AOJu0Yyn2/k/dCe9EvSVKlA0vDdBe6qfTfhBNu/jA4bUFm/e4Sm4QAx1 5fioTKsh6/g81XNawrvGWnMIqwlK5LUAyZuJhds4DJeXrIJF4qoqYkS8cu1Nec4NmmQA6MYjVRA nBm9yJ1EDg9+afxHIgqjZJvZPmYJSabQf7FTzo9HY X-Gm-Gg: ASbGncv5w++VkByk2jUPKXp1ZpZ3t46TxIk7xLcwmMvhs2tc07Y6HSSvbmY3YoxqdOt E3elh2kK41c8SCSeeWFAui1vu9xH4i1BYGlcGL9+E/ZvB+YDni34Ow+dpH67YMIzre6OTEnFGa3 4Ur7hJVwoAFHQbqAlGcdu3YenG6UByxMzN/GchXBMj6BORmYdEHvNIBJ5Z0aN8nPzzzFAsV722Y fDZanxtG3nyn9d54dN9A8lTiv6rygeqTIS/8lUH8s5f6j+QVmX72kF54JUUzid+sIpqiRBxTQVC wpEs9XdnRUaAB73c73nCwSdcGBHMEZQgHUfN3YAklYLpR4+YZbjJ6fKU9bU= X-Google-Smtp-Source: AGHT+IFVqslL8QKPZNetM5G9dk3KsQU40LzBvtUBEtpXjxVnPClccn8UV2T/OcffGN4KSIyejvI9CmQopgiW X-Received: by 2002:a17:902:d4d1:b0:21f:40de:ae4e with SMTP id d9443c01a7336-22e3276fa1amr31606375ad.9.1746516991871; Tue, 06 May 2025 00:36:31 -0700 (PDT) Received: from postal.iol.unh.edu (postal.iol.unh.edu. [132.177.123.84]) by smtp-relay.gmail.com with ESMTPS id d9443c01a7336-22e151f020dsm17681235ad.53.2025.05.06.00.36.31 (version=TLS1_2 cipher=ECDHE-ECDSA-AES128-GCM-SHA256 bits=128/128); Tue, 06 May 2025 00:36:31 -0700 (PDT) X-Relaying-Domain: iol.unh.edu Date: Tue, 06 May 2025 00:36:31 -0700 (PDT) Message-ID: <6819bbff.170a0220.273773.5748SMTPIN_ADDED_MISSING@mx.google.com> Received: from [172.21.0.11] (unknown [172.18.0.240]) by postal.iol.unh.edu (Postfix) with ESMTP id EB0A96052471; Tue, 6 May 2025 03:36:30 -0400 (EDT) Subject: |SUCCESS| [GIT MASTER] ca1690ebd224f148268285b15b97441ccdbdd07e From: dpdklab@iol.unh.edu To: Test Report Cc: dpdk-test-reports@iol.unh.edu Content-Type: text/plain X-BeenThere: test-report@dpdk.org X-Mailman-Version: 2.1.29 Precedence: list List-Id: automatic DPDK test reports List-Unsubscribe: , List-Archive: List-Post: List-Help: List-Subscribe: , Errors-To: test-report-bounces@dpdk.org _Testing PASS_ Branch: dpdk ca1690ebd224f148268285b15b97441ccdbdd07e --> testing pass Upstream job id: Generic-DPDK-Compile-Meson#385378 Test environment and result as below: +----------------------------------------+--------------------+ | Environment | dpdk_meson_compile | +========================================+====================+ | RHEL9 (ARM) | PASS | +----------------------------------------+--------------------+ | Ubuntu 20.04 ARM GCC Cross Compile | PASS | +----------------------------------------+--------------------+ | Ubuntu 20.04 ARM SVE | PASS | +----------------------------------------+--------------------+ | Debian 12 with MUSDK | PASS | +----------------------------------------+--------------------+ | Fedora 40 (ARM) | PASS | +----------------------------------------+--------------------+ | Fedora 40 (ARM Clang) | PASS | +----------------------------------------+--------------------+ | Fedora 41 (ARM) | PASS | +----------------------------------------+--------------------+ | Fedora 41 (ARM Clang) | PASS | +----------------------------------------+--------------------+ | Ubuntu 20.04 (ARM) | PASS | +----------------------------------------+--------------------+ | Ubuntu 22.04 (ARM) | PASS | +----------------------------------------+--------------------+ | Ubuntu 24.04 (ARM) | PASS | +----------------------------------------+--------------------+ | CentOS Stream 9 (ARM) | PASS | +----------------------------------------+--------------------+ | CentOS Stream 10 (ARM) | PASS | +----------------------------------------+--------------------+ | Ubuntu 20.04 ARM Clang Cross Compile | PASS | +----------------------------------------+--------------------+ | Ubuntu 20.04 aarch32 GCC Cross Compile | PASS | +----------------------------------------+--------------------+ | Debian 12 (arm) | PASS | +----------------------------------------+--------------------+ RHEL9 (ARM) Kernel: Depends on container host Compiler: gcc 11.5.0 20240719 (Red Hat 11.5.0-2) Ubuntu 20.04 ARM GCC Cross Compile Kernel: Depends on container host Compiler: aarch64-linux-gnu-gcc (Ubuntu 9.4.0-1ubuntu1~20.04.2) 9.4.0 Ubuntu 20.04 ARM SVE Kernel: Depends on container host Compiler: gcc (Ubuntu 10.5.0-1ubuntu1~20.04) 10.5.0 Debian 12 with MUSDK Kernel: Depends on container host Compiler: gcc (Debian 12.2.0-14) 12.2.0 Fedora 40 (ARM) Kernel: Depends on container host Compiler: gcc 14.2.1 20240912 (Red Hat 14.2.1-3) Fedora 40 (ARM Clang) Kernel: Depends on container host Compiler: clang 18.1.8 (Fedora 18.1.8-1.fc40) Fedora 41 (ARM) Kernel: Depends on container host Compiler: gcc 14.2.1 20240912 (Red Hat 14.2.1-3) Fedora 41 (ARM Clang) Kernel: Depends on container host Compiler: clang 19.1.5 (Fedora 19.1.5-1.fc41) Ubuntu 20.04 (ARM) Kernel: Depends on container host Compiler: gcc (Ubuntu 9.4.0-1ubuntu1~20.04.2) 9.4.0 Ubuntu 22.04 (ARM) Kernel: Depends on container host Compiler: gcc (Ubuntu 11.4.0-1ubuntu1~22.04) 11.4.0 Ubuntu 24.04 (ARM) Kernel: Depends on container host Compiler: gcc (Ubuntu 13.3.0-6ubuntu2~24.04) 13.3.0 CentOS Stream 9 (ARM) Kernel: Depends on container host Compiler: gcc 11.5.0 20240719 (Red Hat 11.5.0-2) CentOS Stream 10 (ARM) Kernel: Depends on container host Compiler: gcc 14.2.1 20241104 (Red Hat 14.2.1-6) Ubuntu 20.04 ARM Clang Cross Compile Kernel: Depends on container host Compiler: clang 10.0.0-4ubuntu1 Ubuntu 20.04 aarch32 GCC Cross Compile Kernel: Depends on container host Compiler: gcc 9.4.0 Debian 12 (arm) Kernel: Depends on container host Compiler: gcc (Debian 12.2.0-14) 12.2.0 To view detailed results, visit: https://lab.dpdk.org/results/dashboard/tarballs/33441/ UNH-IOL DPDK Community Lab To manage your email subscriptions, visit: https://lab.dpdk.org/results/dashboard/preferences/subscriptions/