From mboxrd@z Thu Jan 1 00:00:00 1970 Return-Path: Received: from mails.dpdk.org (mails.dpdk.org [217.70.189.124]) by inbox.dpdk.org (Postfix) with ESMTP id 11A17466D8 for ; Tue, 6 May 2025 10:14:07 +0200 (CEST) Received: from mails.dpdk.org (localhost [127.0.0.1]) by mails.dpdk.org (Postfix) with ESMTP id D640940269; Tue, 6 May 2025 10:14:06 +0200 (CEST) Received: from mail-pl1-f228.google.com (mail-pl1-f228.google.com [209.85.214.228]) by mails.dpdk.org (Postfix) with ESMTP id 2C7F940150 for ; Tue, 6 May 2025 10:14:06 +0200 (CEST) Received: by mail-pl1-f228.google.com with SMTP id d9443c01a7336-227b828de00so61175555ad.1 for ; Tue, 06 May 2025 01:14:06 -0700 (PDT) DKIM-Signature: v=1; a=rsa-sha256; c=relaxed/relaxed; d=iol.unh.edu; s=unh-iol; t=1746519245; x=1747124045; darn=dpdk.org; h=cc:to:from:subject:message-id:date:from:to:cc:subject:date :message-id:reply-to; bh=VaEFhKfm5juvnlvLddLrCinMMTfJAD3GDFnnXeKI7JA=; b=GcHHJ/sFspwXLV27DhJIHyJyGtYJMwVjS9A5h/jQuS2Y3jlv/Tn9z+pM1aIP05sVpj WT9B5XUmGPItmC5WWRNdASVJfj6x2vuZxoT55cX4BtNS7o1HwP1enIy3pKgk7kAFHa6H pI3wXrDm+Fp2IpPFaKG/OVcwY56Gfvck3fZi8= X-Google-DKIM-Signature: v=1; a=rsa-sha256; c=relaxed/relaxed; d=1e100.net; s=20230601; t=1746519245; x=1747124045; h=cc:to:from:subject:message-id:date:x-gm-message-state:from:to:cc :subject:date:message-id:reply-to; bh=VaEFhKfm5juvnlvLddLrCinMMTfJAD3GDFnnXeKI7JA=; b=ieUyajBnJdxB825gHVBgBYqP30KKEKRAoIY1uj7tTlgwJAfsBOjxqo13kUK04CGhBw 1YQ82X4FCnXcZe71gFqCG87aRkZExH4/n5OaQHK704fMTw5TJ4GciuyXWDyip1siSInm MBSdY1L4POBN+3CtfKezcM0HsKY+vd1AKKSmdiGkJhi/4jWQ/M57NCGJtD8xLW+O9amX ifnN00okHtNMRqN49req1+1v5MGED37n1R7m4lVQAVJPCMehjj4kk8f+9Oh4EhRp4FeC u3RyuMIFP7GuJwoNVfQt/9UZshDaJ1rbcd8WA8Iu7UQssEhtXMkYlENX+XDDK5QVGWxT eW/A== X-Gm-Message-State: AOJu0Yxjvk3H0TIvOYw0fGDZc1d/ediOuxl2x1RfSgfkL9L8Cd2F7hHS jbH8H4Tm3c3UqQVKShA3+uh0DmENK2Ia12p9Ipuzu4xX/Np3PDn3mM/Wkr1TvoECCa3ussJJBbb +M07KcwdI4grZQy7FfmTUDehFsbIqKSzC X-Gm-Gg: ASbGncvuAxivLPB01nc3pHjo877/qoek3YakF0YVActt+96w18Np5AKLZqxI+axqVA6 U5/PPcdnE6K1LjlognbgZgksNk0BWUgUk8FMOZor/7QcRKVJ9TvAxIqBTL51J0cTgGgcqIR+QW/ 9C9da/+RgUpWa0NoEw/hZDgpqBNrGpmWd+vtLzhwN7IDpj2Zg3Yluky9gegTGJq1FCmKKSyWVs9 ix57r4RgKt8sUtJvaAhTkKTW2uSsLOjb7ObrOV7UWYuHG8VGxnZLpKmLFdFuRWcZFOcwrwYqvYO WVGtH6KwjAH4gbG/KBs8DWKogMSGTV1RQG+pPUZIKbnlCSgoiNKxJKa2NWQ= X-Google-Smtp-Source: AGHT+IF2WVFVHpmO6cKFKCdsUQFc0IQSSlEPvyNvfmiXRrH+NZ9Oq3c0qU+j6N/V7QsknX/hCyDSPIT6Vjha X-Received: by 2002:a17:902:e80a:b0:220:c813:dfce with SMTP id d9443c01a7336-22e363ac721mr26707365ad.39.1746519245009; Tue, 06 May 2025 01:14:05 -0700 (PDT) Received: from postal.iol.unh.edu (postal.iol.unh.edu. [132.177.123.84]) by smtp-relay.gmail.com with ESMTPS id d9443c01a7336-22e23c1d963sm11244475ad.71.2025.05.06.01.14.04 (version=TLS1_2 cipher=ECDHE-ECDSA-AES128-GCM-SHA256 bits=128/128); Tue, 06 May 2025 01:14:04 -0700 (PDT) X-Relaying-Domain: iol.unh.edu Date: Tue, 06 May 2025 01:14:04 -0700 (PDT) Message-ID: <6819c4cc.170a0220.1ca3ad.c127SMTPIN_ADDED_MISSING@mx.google.com> Received: from [172.21.0.11] (unknown [172.18.0.240]) by postal.iol.unh.edu (Postfix) with ESMTP id 635FE6052471; Tue, 6 May 2025 04:14:04 -0400 (EDT) Subject: |SUCCESS| [GIT MASTER] 4c5634de9f933555bab9c64a533d3dca999071cd From: dpdklab@iol.unh.edu To: Test Report Cc: dpdk-test-reports@iol.unh.edu, Xueming Li , Christian Ehrhardt , Kevin Traynor , Luca Boccassi Content-Type: text/plain X-BeenThere: test-report@dpdk.org X-Mailman-Version: 2.1.29 Precedence: list List-Id: automatic DPDK test reports List-Unsubscribe: , List-Archive: List-Post: List-Help: List-Subscribe: , Errors-To: test-report-bounces@dpdk.org _Testing PASS_ Branch: tags/v24.11 4c5634de9f933555bab9c64a533d3dca999071cd --> testing pass Upstream job id: Generic-DPDK-Compile-ABI#125387 Test environment and result as below: +-------------------+----------+ | Environment | abi_test | +===================+==========+ | CentOS Stream 9 | PASS | +-------------------+----------+ | CentOS Stream 10 | PASS | +-------------------+----------+ | Debian 12 | PASS | +-------------------+----------+ | Fedora 40 (Clang) | PASS | +-------------------+----------+ | Fedora 41 (Clang) | PASS | +-------------------+----------+ | Fedora 40 | PASS | +-------------------+----------+ | Fedora 41 | PASS | +-------------------+----------+ | openSUSE Leap 15 | PASS | +-------------------+----------+ | RHEL8 | PASS | +-------------------+----------+ | RHEL9 | PASS | +-------------------+----------+ | Ubuntu 22.04 | PASS | +-------------------+----------+ | Ubuntu 24.04 | PASS | +-------------------+----------+ CentOS Stream 9 Kernel: Depends on container host Compiler: gcc 11.5.0 20240719 (Red Hat 11.5.0-2) CentOS Stream 10 Kernel: Depends on container host Compiler: gcc 14.2.1 20241104 (Red Hat 14.2.1-6) Debian 12 Kernel: Depends on container host Compiler: gcc (Debian 12.2.0-14) 12.2.0 Fedora 40 (Clang) Kernel: Depends on container host Compiler: clang 18.1.8 (Fedora 18.1.8-1.fc40) Fedora 41 (Clang) Kernel: Depends on container host Compiler: clang 19.1.5 (Fedora 19.1.5-1.fc41) Fedora 40 Kernel: Depends on container host Compiler: gcc 14.2.1 20240912 (Red Hat 14.2.1-3) Fedora 41 Kernel: Depends on container host Compiler: gcc 14.2.1 20240912 (Red Hat 14.2.1-3) openSUSE Leap 15 Kernel: Depends on container host Compiler: gcc (SUSE Linux) 7.5.0 RHEL8 Kernel: Depends on container host Compiler: gcc 8.5.0 20210514 (Red Hat 8.5.0-22) RHEL9 Kernel: Depends on container host Compiler: gcc 11.5.0 20240719 (Red Hat 11.5.0-2) Ubuntu 22.04 Kernel: Depends on container host Compiler: gcc (Ubuntu 11.4.0-1ubuntu1~22.04) 11.4.0 Ubuntu 24.04 Kernel: Depends on container host Compiler: gcc (Ubuntu 13.3.0-6ubuntu2~24.04) 13.3.0 To view detailed results, visit: https://lab.dpdk.org/results/dashboard/tarballs/33444/ UNH-IOL DPDK Community Lab To manage your email subscriptions, visit: https://lab.dpdk.org/results/dashboard/preferences/subscriptions/