From mboxrd@z Thu Jan 1 00:00:00 1970 Return-Path: Received: from mails.dpdk.org (mails.dpdk.org [217.70.189.124]) by inbox.dpdk.org (Postfix) with ESMTP id F3CB3466D8 for ; Tue, 6 May 2025 10:38:13 +0200 (CEST) Received: from mails.dpdk.org (localhost [127.0.0.1]) by mails.dpdk.org (Postfix) with ESMTP id CBB5740269; Tue, 6 May 2025 10:38:13 +0200 (CEST) Received: from mail-oa1-f97.google.com (mail-oa1-f97.google.com [209.85.160.97]) by mails.dpdk.org (Postfix) with ESMTP id 42D3F40150 for ; Tue, 6 May 2025 10:38:13 +0200 (CEST) Received: by mail-oa1-f97.google.com with SMTP id 586e51a60fabf-2da3c572a0bso3049031fac.3 for ; Tue, 06 May 2025 01:38:13 -0700 (PDT) DKIM-Signature: v=1; a=rsa-sha256; c=relaxed/relaxed; d=iol.unh.edu; s=unh-iol; t=1746520692; x=1747125492; darn=dpdk.org; h=cc:to:from:subject:message-id:date:from:to:cc:subject:date :message-id:reply-to; bh=gzFZ94T6HNM7KS0bbLIyJPxBd4e4xEN7WrD8u1ctDC4=; b=BYH1mIJoJsHc+wZ5zsTpxR0ZIQSQEJf2AAooKiqoXny8IdVKf9Bmf6S+kFytnIXPwW BnCY66ThPrCc7+ENoNscDCeOdd+fM5/nTdCd8j0Dr+J2b477KlwF+pOADjgpubbdmHzZ 9ozZexNfCLd1X7jaIK4bUsoFNRu9mJJ+A8uVo= X-Google-DKIM-Signature: v=1; a=rsa-sha256; c=relaxed/relaxed; d=1e100.net; s=20230601; t=1746520692; x=1747125492; h=cc:to:from:subject:message-id:date:x-gm-message-state:from:to:cc :subject:date:message-id:reply-to; bh=gzFZ94T6HNM7KS0bbLIyJPxBd4e4xEN7WrD8u1ctDC4=; b=gbC6Ravu8xsbqZEYBikfiUV/o8x/y5Q8acoVOt5kENKH3A+UqCJCwss3c+ipkhre5b VvUmYb4sRd8s5jlwzGKuDaOFZyioWI3Q/mGJbYHEp80mtrrXQ7GKIQ7tsaPt6tra3ZAA oU6kl28hlZXtusKwAbm3hGN/Q8RkiN6hoUdW6vSmUxF/RsQg2OtkrXgo9cVi8unyAopm 4DhbpyM37REzg9fZv3V+625bynn7ciMFhOJJZRX/qh7p4OEceRTJY4koaS3rTtNhVZJf k3jeWrcu9A0Atji9tOdy8cMRuA6q6cnnkl/1t+98lDGFpeM/vbF1g1xtoMms/YuIlWyP Yvfw== X-Gm-Message-State: AOJu0YxtEQguZBA02lVQDA/dn9yUOFUPLF5iJWmcppKdUfbOkpR/aIwg sKT/gXjqXsAlcdV3f4NwuQ79BZB8lKkomWvVAxgfmRQIXE8zJ/kRb+PugT5n9QLFqpyhYPijWlP gXVERXTYoL+Ajul2C4dKaBoayZv8ufmTmC5B0ZQ1UqE2Gtwr2 X-Gm-Gg: ASbGncsGSAsivpUlvbZOLyss6RvD/6K//6YxhPoY3fPqVNNb6Y/1jKR4371n4Am3FCB tRvDyViR0O62ifvHWTfbQE49TXnbwqMxfpCzu3pHenu//qiE5e0g0iFsXZMkIKiA5ZghAQBW3t2 d+BQCIbbSK5+AveW2W0OLU5EweLmEo7koNg/JWN2ojCYotLgUhwpalrUY9dI0T1akFQtx6c/7BL 2M5mA43Inyzz29/llAbzGi897qC0yKs5WKdZpLqeacYPGVQWf42aAR2IN8R/E/R8pVsT6rIr3qv tlZXvqycCaUrp8+Hf03XrzkWxcRNKMSO4b9Z X-Google-Smtp-Source: AGHT+IFKGIR/hJq4jHArCPn7CV2sf4Q1M0xmU8upzOWCb2x2ZhP9zS60LfqNrA03JdBxsVACco9nnyFBwMQi X-Received: by 2002:a05:6870:8301:b0:29e:3921:b1ea with SMTP id 586e51a60fabf-2db3d07f1d3mr1113803fac.30.1746520692397; Tue, 06 May 2025 01:38:12 -0700 (PDT) Received: from postal.iol.unh.edu (postal.iol.unh.edu. [2606:4100:3880:1234::84]) by smtp-relay.gmail.com with ESMTPS id 586e51a60fabf-2daa11a7d32sm2228128fac.32.2025.05.06.01.38.12 (version=TLS1_2 cipher=ECDHE-ECDSA-AES128-GCM-SHA256 bits=128/128); Tue, 06 May 2025 01:38:12 -0700 (PDT) X-Relaying-Domain: iol.unh.edu Date: Tue, 06 May 2025 01:38:12 -0700 (PDT) Message-ID: <6819ca74.050a0220.73ad0.9a7fSMTPIN_ADDED_MISSING@mx.google.com> Received: from [172.21.0.14] (unknown [172.18.0.240]) by postal.iol.unh.edu (Postfix) with ESMTP id B395C6052471; Tue, 6 May 2025 04:38:11 -0400 (EDT) Subject: |SUCCESS| [GIT MASTER] 83a7a648344674c0269fcaeb71d8d16468421a0e From: dpdklab@iol.unh.edu To: Test Report Cc: dpdk-test-reports@iol.unh.edu, Xueming Li , Christian Ehrhardt , Kevin Traynor , Luca Boccassi Content-Type: text/plain X-BeenThere: test-report@dpdk.org X-Mailman-Version: 2.1.29 Precedence: list List-Id: automatic DPDK test reports List-Unsubscribe: , List-Archive: List-Post: List-Help: List-Subscribe: , Errors-To: test-report-bounces@dpdk.org _Testing PASS_ Branch: tags/v23.11 83a7a648344674c0269fcaeb71d8d16468421a0e --> testing pass Upstream job id: Generic-DPDK-Compile-ABI#125394 Test environment and result as below: +-------------------+----------+ | Environment | abi_test | +===================+==========+ | CentOS Stream 9 | PASS | +-------------------+----------+ | Debian 12 | PASS | +-------------------+----------+ | CentOS Stream 10 | PASS | +-------------------+----------+ | Fedora 40 (Clang) | PASS | +-------------------+----------+ | Fedora 40 | PASS | +-------------------+----------+ | Fedora 41 (Clang) | PASS | +-------------------+----------+ | RHEL9 | PASS | +-------------------+----------+ | RHEL8 | PASS | +-------------------+----------+ | openSUSE Leap 15 | PASS | +-------------------+----------+ | Fedora 41 | PASS | +-------------------+----------+ | Ubuntu 22.04 | PASS | +-------------------+----------+ | Ubuntu 24.04 | PASS | +-------------------+----------+ CentOS Stream 9 Kernel: Depends on container host Compiler: gcc 11.5.0 20240719 (Red Hat 11.5.0-2) Debian 12 Kernel: Depends on container host Compiler: gcc (Debian 12.2.0-14) 12.2.0 CentOS Stream 10 Kernel: Depends on container host Compiler: gcc 14.2.1 20241104 (Red Hat 14.2.1-6) Fedora 40 (Clang) Kernel: Depends on container host Compiler: clang 18.1.8 (Fedora 18.1.8-1.fc40) Fedora 40 Kernel: Depends on container host Compiler: gcc 14.2.1 20240912 (Red Hat 14.2.1-3) Fedora 41 (Clang) Kernel: Depends on container host Compiler: clang 19.1.5 (Fedora 19.1.5-1.fc41) RHEL9 Kernel: Depends on container host Compiler: gcc 11.5.0 20240719 (Red Hat 11.5.0-2) RHEL8 Kernel: Depends on container host Compiler: gcc 8.5.0 20210514 (Red Hat 8.5.0-22) openSUSE Leap 15 Kernel: Depends on container host Compiler: gcc (SUSE Linux) 7.5.0 Fedora 41 Kernel: Depends on container host Compiler: gcc 14.2.1 20240912 (Red Hat 14.2.1-3) Ubuntu 22.04 Kernel: Depends on container host Compiler: gcc (Ubuntu 11.4.0-1ubuntu1~22.04) 11.4.0 Ubuntu 24.04 Kernel: Depends on container host Compiler: gcc (Ubuntu 13.3.0-6ubuntu2~24.04) 13.3.0 To view detailed results, visit: https://lab.dpdk.org/results/dashboard/tarballs/33445/ UNH-IOL DPDK Community Lab To manage your email subscriptions, visit: https://lab.dpdk.org/results/dashboard/preferences/subscriptions/