From mboxrd@z Thu Jan 1 00:00:00 1970 Return-Path: Received: from mails.dpdk.org (mails.dpdk.org [217.70.189.124]) by inbox.dpdk.org (Postfix) with ESMTP id 35077466D8 for ; Tue, 6 May 2025 10:52:30 +0200 (CEST) Received: from mails.dpdk.org (localhost [127.0.0.1]) by mails.dpdk.org (Postfix) with ESMTP id 1B12540269; Tue, 6 May 2025 10:52:30 +0200 (CEST) Received: from mail-yw1-f228.google.com (mail-yw1-f228.google.com [209.85.128.228]) by mails.dpdk.org (Postfix) with ESMTP id DA0A140150 for ; Tue, 6 May 2025 10:52:28 +0200 (CEST) Received: by mail-yw1-f228.google.com with SMTP id 00721157ae682-7082ad1355bso41295717b3.1 for ; Tue, 06 May 2025 01:52:28 -0700 (PDT) DKIM-Signature: v=1; a=rsa-sha256; c=relaxed/relaxed; d=iol.unh.edu; s=unh-iol; t=1746521548; x=1747126348; darn=dpdk.org; h=references:in-reply-to:cc:to:from:subject:message-id:date:from:to :cc:subject:date:message-id:reply-to; bh=kWE/ZLBX4EUr1wEsY2UYkuIhEph2Eb1Y75/+X6Fe6ec=; b=EFmK1NJJ8pxjy1VSF0LNZpSuVY+5xP4mWGuZnsJa1EqfDiyZGINznV/1vm147fgjAN avOUqbmvVsTSLkVYCOaUu2bSOdgWBkTY/nEUXfogEDSAUaZM3kNNc9Q43ooIRjZNR1du O2xaT6w9yXZ4ceQhffEkx4smnixOCP3I4TF9U= X-Google-DKIM-Signature: v=1; a=rsa-sha256; c=relaxed/relaxed; d=1e100.net; s=20230601; t=1746521548; x=1747126348; h=references:in-reply-to:cc:to:from:subject:message-id:date :x-gm-message-state:from:to:cc:subject:date:message-id:reply-to; bh=kWE/ZLBX4EUr1wEsY2UYkuIhEph2Eb1Y75/+X6Fe6ec=; b=Y/M97TgJ0Hfz78bZXpwzvB9DWZ956YXdcoczAy3SWleLH9mOBKTSdjhi6pckGPzZb9 aWKEUy6Fpna88ior5R1eyQ9yvpRXBkCZBmHdWWk5RxIG2ky2FdZwY/5LnQ3QIjZEqyjw 7u2xcTE8KfebdMZ54Mn5muyjydPETkjcx5Metsd5dkluooo3Qh8t3/7pVx5xcBYIqsf4 +q7dsBJ+nZ5jxNX8l0sAdZQ9QiKw3fTsJGjdHbyhR1jST/bwuis81wE2+d25gmdCM5Ky 0nlKJx5iI2hRqhOBPAL3YQA3ohURrRYMRMjRovlm/MOWZ9x+nX9q8tuDojVtKHJjksXS A4SQ== X-Gm-Message-State: AOJu0YzzKuM42eIKW40CroSQ1X0crzL7GaOh0Xvskw6kY0hp6RTmTz8A VDOvvyA6/MwZoVKXCKGFI5g1Mkvhy9+7HlKmCbX3cyDf64F6RzMmI540+GUcVaG/rIcEnJ2bKIN /DXhqQ0o6JIKxTNffseDTEi4As4fxq6SFPXj+Ajht X-Gm-Gg: ASbGncuTAU5PrhHAPbgCVavV7UYl9c7Xu/6Y8JSTgq/tT2KcWbCzwF8Hv/e8zGBQ7BV sblLAoDHEKUR4JiuNIjllIiFknETTX+YRA6Rlz/R80NLgN/V72NuJjylNhf1+NeIs2iG8PBn70Q StAka7QdKGtFVgiu9rDSXhFqq0LA51MlC+q5dq+km63iTdtPWNXZrYPy+UA1yj0HLVE2dMhLqaB scWKG7pZtrnckYSImqC5yBQYCYw/M2MrETp9g+RUtBVsfNKRVZHceFIyKf0IwuZlNPgMk3LFA7N PXgqY0nOktw8eXZKI6e96U4eezZ3t5zTPHkHmrR2vGetII8RsL9hCqbcdfo= X-Google-Smtp-Source: AGHT+IFNTA2s7nuuXt/oz89NQhUCKkEq6BB3YKz8l0czhuN/1Me7/5u1mdAcWbBSNoQYEW6vJXouWXygG6vF X-Received: by 2002:a05:690c:4c88:b0:709:1cd0:eada with SMTP id 00721157ae682-7091cd13198mr12598617b3.4.1746521548160; Tue, 06 May 2025 01:52:28 -0700 (PDT) Received: from postal.iol.unh.edu (postal.iol.unh.edu. [132.177.123.84]) by smtp-relay.gmail.com with ESMTPS id 00721157ae682-708c3f1244csm20070437b3.3.2025.05.06.01.52.28 (version=TLS1_2 cipher=ECDHE-ECDSA-AES128-GCM-SHA256 bits=128/128); Tue, 06 May 2025 01:52:28 -0700 (PDT) X-Relaying-Domain: iol.unh.edu Date: Tue, 06 May 2025 01:52:28 -0700 (PDT) Message-ID: <6819cdcc.050a0220.18b7b1.28d7SMTPIN_ADDED_MISSING@mx.google.com> Received: from [172.21.0.6] (unknown [172.18.0.240]) by postal.iol.unh.edu (Postfix) with ESMTP id B09756052471; Tue, 6 May 2025 04:52:27 -0400 (EDT) Subject: |SUCCESS| pw153298 [PATCH] net/mlx5: use portable version of __built From: dpdklab@iol.unh.edu To: Test Report Cc: dpdk-test-reports@iol.unh.edu In-Reply-To: <1746457492-10012-1-git-send-email-andremue@linux.microsoft.com> References: <1746457492-10012-1-git-send-email-andremue@linux.microsoft.com> Content-Type: text/plain X-BeenThere: test-report@dpdk.org X-Mailman-Version: 2.1.29 Precedence: list List-Id: automatic DPDK test reports List-Unsubscribe: , List-Archive: List-Post: List-Help: List-Subscribe: , Errors-To: test-report-bounces@dpdk.org Test-Label: iol-sample-apps-testing Test-Status: SUCCESS http://dpdk.org/patch/153298 _Testing PASS_ Submitter: Andre Muezerie Date: Monday, May 05 2025 15:04:52 DPDK git baseline: Repo:dpdk Branch: master CommitID:edd3f4b1265e6da707c46ca9b6c39d332647baea 153298 --> testing pass Upstream job id: ACVP-FIPS-testing#9715 Test environment and result as below: +--------------------+----------------------+----------------------+ | Environment | compressdev_zlib_pmd | dpdk_fips_validation | +====================+======================+======================+ | Ubuntu 22.04 (ARM) | PASS | SKIPPED | +--------------------+----------------------+----------------------+ | Ubuntu 22.04 | PASS | SKIPPED | +--------------------+----------------------+----------------------+ | Ubuntu 20.04 | SKIPPED | PASS | +--------------------+----------------------+----------------------+ Ubuntu 22.04 (ARM) Kernel: 5.15.0-97-generic Compiler: gcc gcc (Ubuntu 11.4.0-1ubuntu1~22.04) 11.4.0 Ubuntu 22.04 Kernel: 5.15.0-100-generic Compiler: gcc gcc (Ubuntu 11.4.0-1ubuntu1~22.04) 11.4.0 Ubuntu 20.04 Kernel: Depends on container host Compiler: gcc (Ubuntu 9.4.0-1ubuntu1~20.04.2) 9.4.0 To view detailed results, visit: https://lab.dpdk.org/results/dashboard/patchsets/33111/ UNH-IOL DPDK Community Lab To manage your email subscriptions, visit: https://lab.dpdk.org/results/dashboard/preferences/subscriptions/