From mboxrd@z Thu Jan 1 00:00:00 1970 Return-Path: Received: from mails.dpdk.org (mails.dpdk.org [217.70.189.124]) by inbox.dpdk.org (Postfix) with ESMTP id EA5ED466D8 for ; Tue, 6 May 2025 11:13:51 +0200 (CEST) Received: from mails.dpdk.org (localhost [127.0.0.1]) by mails.dpdk.org (Postfix) with ESMTP id E283840269; Tue, 6 May 2025 11:13:51 +0200 (CEST) Received: from mail-pl1-f227.google.com (mail-pl1-f227.google.com [209.85.214.227]) by mails.dpdk.org (Postfix) with ESMTP id DE7D540150 for ; Tue, 6 May 2025 11:13:50 +0200 (CEST) Received: by mail-pl1-f227.google.com with SMTP id d9443c01a7336-2295d78b45cso70117075ad.0 for ; Tue, 06 May 2025 02:13:50 -0700 (PDT) DKIM-Signature: v=1; a=rsa-sha256; c=relaxed/relaxed; d=iol.unh.edu; s=unh-iol; t=1746522830; x=1747127630; darn=dpdk.org; h=references:in-reply-to:cc:to:from:subject:message-id:date:from:to :cc:subject:date:message-id:reply-to; bh=4pHuo4VzfsKvHV6cWE/p2UfTEkThKn/12i+lxs4jnvE=; b=d+aMVMs6bwdfU6o12fDQ9dRdBCuDMP9rXrR/qc3BuQgu/jh6I140UaGvli7Z1/DUO+ spyUYmFToSmO3QXSPI/33onRX6g7Pd27Dp7c0LLS1gZUt8Bss6zeqprsHrh58RJxT5k1 ZYNzKdMPXN/rrmcngv3TIgwALgLZb0sij24MI= X-Google-DKIM-Signature: v=1; a=rsa-sha256; c=relaxed/relaxed; d=1e100.net; s=20230601; t=1746522830; x=1747127630; h=references:in-reply-to:cc:to:from:subject:message-id:date :x-gm-message-state:from:to:cc:subject:date:message-id:reply-to; bh=4pHuo4VzfsKvHV6cWE/p2UfTEkThKn/12i+lxs4jnvE=; b=AHxLoKuta2dQ5YU24OyCHslOVh5kBq6VTqf84+e4jteBvyFKmod4nqPjAVp7gsmbYt iXbFB7NULMiMYNXVrteI+CuAWdJe8B8RqXXsyMGD7/Ujutm6IjvGhZtJX1i2FTOtyujR aHnvM6C8CaF21CaZXY6O9JW3igGTIcLSEM1VT/PswnWRH/5ogn0G8OMISpTIRsUbu2EK qx9rGdcpANIxAkltcxfm5dN+HMOK0wv2Y/SAu4+quj0onm5yO6nIO17rpepi9WGc4U51 rqDiFv/43R/p6pUsyDK5VLzHQYTl87hwV6NlbABnEQaZjEhSbi9vooL3RrzU7g1vVSVg l94Q== X-Gm-Message-State: AOJu0YyyD8nx+LAFslDhGZsoYJlQlw/PEjEyyPii2KA2A3jFE6ns8ZG5 /OnVD3JMULJssrIrgsuc40agO8mxbB0xx91dCFU1YealEy3v597w8tzIgnYV7oX9l8liUJ4xxXp RgSJ6PYAaHlzQQfHCZKBUypGHIN80uv4J+De3uAUW X-Gm-Gg: ASbGncu0BGRESXwyEz9hMvAsWz7rXDlECxkxVvqJ4/gVxCoxNhrHBlfN5CoKuZEg8ut ttqhm3zKjNAMMxFpaMGWv7ujlJf2xhVy9+PAVsCQwEblBXQwbFA1Q2lS0UC+qw+KcXos4msoOFD lHsv2Y4KuqYQ/yrytD9BUSCssm3NBrAXQL0jZJVrezArg/fH6UkzFFT0vSxu8x21vYSSaDIKc7H NMPeZv6K0CI8glU9pQz42XiD3Rr4czE7RNvLtxBzLND6T58sYRciC7xL9Cw0rhfna/ZWvQ28eb6 n3Yb3WASelkECnnUzQUg8E0/GsoGUDiHY6tI6NaIXL2WZv+piEEP1OSiTic= X-Google-Smtp-Source: AGHT+IF83oCWUjrhCC2tF8d3fjuMsAtGuNN0VTq1kXoI+j4cNq/g3VvVqbugUlMNKie3lfd0yDxtyiYF9wl2 X-Received: by 2002:a17:903:2408:b0:223:37ec:63d5 with SMTP id d9443c01a7336-22e32ba8292mr41065235ad.28.1746522829955; Tue, 06 May 2025 02:13:49 -0700 (PDT) Received: from postal.iol.unh.edu (postal.iol.unh.edu. [132.177.123.84]) by smtp-relay.gmail.com with ESMTPS id d9443c01a7336-22e1523cd80sm17732845ad.128.2025.05.06.02.13.49 (version=TLS1_2 cipher=ECDHE-ECDSA-AES128-GCM-SHA256 bits=128/128); Tue, 06 May 2025 02:13:49 -0700 (PDT) X-Relaying-Domain: iol.unh.edu Date: Tue, 06 May 2025 02:13:49 -0700 (PDT) Message-ID: <6819d2cd.170a0220.39a414.57c7SMTPIN_ADDED_MISSING@mx.google.com> Received: from [172.21.0.14] (unknown [172.18.0.240]) by postal.iol.unh.edu (Postfix) with ESMTP id 3005E6052471; Tue, 6 May 2025 05:13:49 -0400 (EDT) Subject: |SUCCESS| pw153303 [PATCH] eal: add getline() function for Windows From: dpdklab@iol.unh.edu To: Test Report Cc: dpdk-test-reports@iol.unh.edu In-Reply-To: <1746477607-14961-1-git-send-email-andremue@linux.microsoft.com> References: <1746477607-14961-1-git-send-email-andremue@linux.microsoft.com> Content-Type: text/plain X-BeenThere: test-report@dpdk.org X-Mailman-Version: 2.1.29 Precedence: list List-Id: automatic DPDK test reports List-Unsubscribe: , List-Archive: List-Post: List-Help: List-Subscribe: , Errors-To: test-report-bounces@dpdk.org Test-Label: iol-abi-testing Test-Status: SUCCESS http://dpdk.org/patch/153303 _Testing PASS_ Submitter: Andre Muezerie Date: Monday, May 05 2025 20:40:07 DPDK git baseline: Repo:dpdk Branch: master CommitID:ca1690ebd224f148268285b15b97441ccdbdd07e 153303 --> testing pass Upstream job id: Generic-DPDK-Compile-ABI#125370 Test environment and result as below: +-------------------+----------+ | Environment | abi_test | +===================+==========+ | CentOS Stream 10 | PASS | +-------------------+----------+ | CentOS Stream 9 | PASS | +-------------------+----------+ | Debian 12 | PASS | +-------------------+----------+ | Fedora 40 (Clang) | PASS | +-------------------+----------+ | Fedora 40 | PASS | +-------------------+----------+ | Fedora 41 | PASS | +-------------------+----------+ | Fedora 41 (Clang) | PASS | +-------------------+----------+ | openSUSE Leap 15 | PASS | +-------------------+----------+ | RHEL8 | PASS | +-------------------+----------+ | RHEL9 | PASS | +-------------------+----------+ | Ubuntu 22.04 | PASS | +-------------------+----------+ | Ubuntu 24.04 | PASS | +-------------------+----------+ CentOS Stream 10 Kernel: Depends on container host Compiler: gcc 14.2.1 20241104 (Red Hat 14.2.1-6) CentOS Stream 9 Kernel: Depends on container host Compiler: gcc 11.5.0 20240719 (Red Hat 11.5.0-2) Debian 12 Kernel: Depends on container host Compiler: gcc (Debian 12.2.0-14) 12.2.0 Fedora 40 (Clang) Kernel: Depends on container host Compiler: clang 18.1.8 (Fedora 18.1.8-1.fc40) Fedora 40 Kernel: Depends on container host Compiler: gcc 14.2.1 20240912 (Red Hat 14.2.1-3) Fedora 41 Kernel: Depends on container host Compiler: gcc 14.2.1 20240912 (Red Hat 14.2.1-3) Fedora 41 (Clang) Kernel: Depends on container host Compiler: clang 19.1.5 (Fedora 19.1.5-1.fc41) openSUSE Leap 15 Kernel: Depends on container host Compiler: gcc (SUSE Linux) 7.5.0 RHEL8 Kernel: Depends on container host Compiler: gcc 8.5.0 20210514 (Red Hat 8.5.0-22) RHEL9 Kernel: Depends on container host Compiler: gcc 11.5.0 20240719 (Red Hat 11.5.0-2) Ubuntu 22.04 Kernel: Depends on container host Compiler: gcc (Ubuntu 11.4.0-1ubuntu1~22.04) 11.4.0 Ubuntu 24.04 Kernel: Depends on container host Compiler: gcc (Ubuntu 13.3.0-6ubuntu2~24.04) 13.3.0 To view detailed results, visit: https://lab.dpdk.org/results/dashboard/patchsets/33116/ UNH-IOL DPDK Community Lab To manage your email subscriptions, visit: https://lab.dpdk.org/results/dashboard/preferences/subscriptions/