From mboxrd@z Thu Jan 1 00:00:00 1970 Return-Path: Received: from mails.dpdk.org (mails.dpdk.org [217.70.189.124]) by inbox.dpdk.org (Postfix) with ESMTP id 1D69B466D8 for ; Tue, 6 May 2025 11:15:18 +0200 (CEST) Received: from mails.dpdk.org (localhost [127.0.0.1]) by mails.dpdk.org (Postfix) with ESMTP id 18DCA40269; Tue, 6 May 2025 11:15:18 +0200 (CEST) Received: from mail-ot1-f100.google.com (mail-ot1-f100.google.com [209.85.210.100]) by mails.dpdk.org (Postfix) with ESMTP id C471A40150 for ; Tue, 6 May 2025 11:15:16 +0200 (CEST) Received: by mail-ot1-f100.google.com with SMTP id 46e09a7af769-7301c227512so3781888a34.2 for ; Tue, 06 May 2025 02:15:16 -0700 (PDT) DKIM-Signature: v=1; a=rsa-sha256; c=relaxed/relaxed; d=iol.unh.edu; s=unh-iol; t=1746522916; x=1747127716; darn=dpdk.org; h=cc:to:from:subject:message-id:date:from:to:cc:subject:date :message-id:reply-to; bh=QegCFWDpXe8M+5nJECFmgnHNZRkUu1CXb+narMmVAxs=; b=PG1ab2hEzRct8t+8zaY7+rLounoH/zW74tNmdp5LMKRT57QTVdj29rGVm2UP5vgOo5 4uHbbHSrRH4N0CigRQTNMu6P5EtPkaqaobIWC2+rsH+/jbb71mibB7n1Dw0uY1XvoYCw QL0WNNs+g3K5aeeSHWsaJGrwtpD4ZMTWPSCgA= X-Google-DKIM-Signature: v=1; a=rsa-sha256; c=relaxed/relaxed; d=1e100.net; s=20230601; t=1746522916; x=1747127716; h=cc:to:from:subject:message-id:date:x-gm-message-state:from:to:cc :subject:date:message-id:reply-to; bh=QegCFWDpXe8M+5nJECFmgnHNZRkUu1CXb+narMmVAxs=; b=PPmuqCpBDrPcfq0uxWcpSHo32emu4iRw77+iIilfWgUPl0EqcJrgCEETZTeUf2SAor maX6AEDJi0ojAyYjuFPWKAwf6E6QhOqSe07lswSpc7SfnJfgXiqisPolSUPXnE3H1iIR EsmufZe+nLkxNvyabXwrOG3vPc2mEapVz9428D+fx6A2adpbeGQU5BAZoWhhm/YZFIZM 5XzGmtSPaJH2a4eUcyb8VIJAVvdOnHxqbBV3YbKCt/ODWrelUoeeEpFf8zCuKZeW1wvE DKh/olPmmS/YUrHfgNXgAF21oLFPRz+Lgn+HVfuIJ1Pc4H5nrK4ABz6TNwCbYezVryc4 yZcQ== X-Gm-Message-State: AOJu0YyIFX/G7SOrSU4rHJ3ajE9DPskJEW+XOWVh7EvM/Ek5OkZFHqMm A85mB8DBrAYbgBDdbzzc73BQVr2tj2HDSsMDQmiUNLu1hUC5IBM3hgie2cdRr2isfxk2pPzVBdi g9GiKMFF6RORMCRZh7a0TB6gUgPLGZUvp X-Gm-Gg: ASbGncsIQOSBSkzhj+DngknQk13fRYHTDzkqZN3B7PmM13Qa8k5Q2TGlmPjMEAap+g7 pOLLZvTeairC3Jg+Yxm6XtbNY2/TZ7A6voSs7A08/rjOFsVWP/J+/bM1GhSdiHPKJ/qDIuz87eO p7fjOCCMVGqiWymZFPLXXvTnxn0FLT+1ns/7r2whCXMvWlmNWzaIT2ZA2leOdGXXu7hnUnjodLK ++1cIiz3JoRxPAzE5TI7we2mP4EO6V9fBx1Ue/HPy+TEqIPzy93yVUqa3Xqn0IkNH5Q9e4lZlqp Aj7arNT3XhLf7BszzV/ziQlK0zs83N1elouYhGjGlEySeRVEkjCpZtezhV4= X-Google-Smtp-Source: AGHT+IEilL53cpIOV08zty92xBV8TMaJ6nXaXpiej7XqxSx0CEn4kFN2yXfMcN0c99zh/O0X1OShZIBT/0dx X-Received: by 2002:a05:6830:3902:b0:72b:9e5f:54a0 with SMTP id 46e09a7af769-73206e7b96amr1620086a34.21.1746522915934; Tue, 06 May 2025 02:15:15 -0700 (PDT) Received: from postal.iol.unh.edu (postal.iol.unh.edu. [132.177.123.84]) by smtp-relay.gmail.com with ESMTPS id 586e51a60fabf-2daa0e63dd6sm2251826fac.5.2025.05.06.02.15.15 (version=TLS1_2 cipher=ECDHE-ECDSA-AES128-GCM-SHA256 bits=128/128); Tue, 06 May 2025 02:15:15 -0700 (PDT) X-Relaying-Domain: iol.unh.edu Date: Tue, 06 May 2025 02:15:15 -0700 (PDT) Message-ID: <6819d323.050a0220.306432.a659SMTPIN_ADDED_MISSING@mx.google.com> Received: from [172.21.0.14] (unknown [172.18.0.240]) by postal.iol.unh.edu (Postfix) with ESMTP id 872A96052471; Tue, 6 May 2025 05:15:15 -0400 (EDT) Subject: |SUCCESS| [GIT MASTER] 4c5634de9f933555bab9c64a533d3dca999071cd From: dpdklab@iol.unh.edu To: Test Report Cc: dpdk-test-reports@iol.unh.edu, Xueming Li , Christian Ehrhardt , Kevin Traynor , Luca Boccassi Content-Type: text/plain X-BeenThere: test-report@dpdk.org X-Mailman-Version: 2.1.29 Precedence: list List-Id: automatic DPDK test reports List-Unsubscribe: , List-Archive: List-Post: List-Help: List-Subscribe: , Errors-To: test-report-bounces@dpdk.org _Testing PASS_ Branch: tags/v24.11 4c5634de9f933555bab9c64a533d3dca999071cd --> testing pass Upstream job id: Generic-Unit-Test-DPDK#335682 Test environment and result as below: +-----------------------------+----------------+--------------+---------------------------+------------------------------+ | Environment | dpdk_unit_test | lpm_autotest | cryptodev_sw_zuc_autotest | cryptodev_sw_snow3g_autotest | +=============================+================+==============+===========================+==============================+ | CentOS Stream 10 (ARM) | PASS | SKIPPED | SKIPPED | SKIPPED | +-----------------------------+----------------+--------------+---------------------------+------------------------------+ | CentOS Stream 9 (ARM) | PASS | SKIPPED | SKIPPED | SKIPPED | +-----------------------------+----------------+--------------+---------------------------+------------------------------+ | Debian 12 (arm) | PASS | SKIPPED | PASS | PASS | +-----------------------------+----------------+--------------+---------------------------+------------------------------+ | Fedora 40 (ARM Clang) | PASS | SKIPPED | SKIPPED | SKIPPED | +-----------------------------+----------------+--------------+---------------------------+------------------------------+ | Fedora 41 (ARM Clang) | PASS | SKIPPED | SKIPPED | SKIPPED | +-----------------------------+----------------+--------------+---------------------------+------------------------------+ | Fedora 41 (ARM) | PASS | SKIPPED | SKIPPED | SKIPPED | +-----------------------------+----------------+--------------+---------------------------+------------------------------+ | Fedora 40 (ARM) | PASS | SKIPPED | SKIPPED | SKIPPED | +-----------------------------+----------------+--------------+---------------------------+------------------------------+ | RHEL9 (ARM) | PASS | SKIPPED | SKIPPED | SKIPPED | +-----------------------------+----------------+--------------+---------------------------+------------------------------+ | Ubuntu 22.04 (ARM) | PASS | SKIPPED | SKIPPED | SKIPPED | +-----------------------------+----------------+--------------+---------------------------+------------------------------+ | Ubuntu 20.04 (ARM) | PASS | SKIPPED | SKIPPED | SKIPPED | +-----------------------------+----------------+--------------+---------------------------+------------------------------+ | Ubuntu 24.04 (ARM) | PASS | SKIPPED | SKIPPED | SKIPPED | +-----------------------------+----------------+--------------+---------------------------+------------------------------+ | 32-bit Ubuntu 22.04.4 (ARM) | PASS | SKIPPED | SKIPPED | SKIPPED | +-----------------------------+----------------+--------------+---------------------------+------------------------------+ | Ubuntu 20.04 ARM SVE | SKIPPED | PASS | SKIPPED | SKIPPED | +-----------------------------+----------------+--------------+---------------------------+------------------------------+ CentOS Stream 10 (ARM) Kernel: Depends on container host Compiler: gcc 14.2.1 20241104 (Red Hat 14.2.1-6) CentOS Stream 9 (ARM) Kernel: Depends on container host Compiler: gcc 11.5.0 20240719 (Red Hat 11.5.0-2) Debian 12 (arm) Kernel: Depends on container host Compiler: gcc (Debian 12.2.0-14) 12.2.0 Fedora 40 (ARM Clang) Kernel: Depends on container host Compiler: clang 18.1.8 (Fedora 18.1.8-1.fc40) Fedora 41 (ARM Clang) Kernel: Depends on container host Compiler: clang 19.1.5 (Fedora 19.1.5-1.fc41) Fedora 41 (ARM) Kernel: Depends on container host Compiler: gcc 14.2.1 20240912 (Red Hat 14.2.1-3) Fedora 40 (ARM) Kernel: Depends on container host Compiler: gcc 14.2.1 20240912 (Red Hat 14.2.1-3) RHEL9 (ARM) Kernel: Depends on container host Compiler: gcc 11.5.0 20240719 (Red Hat 11.5.0-2) Ubuntu 22.04 (ARM) Kernel: Depends on container host Compiler: gcc (Ubuntu 11.4.0-1ubuntu1~22.04) 11.4.0 Ubuntu 20.04 (ARM) Kernel: Depends on container host Compiler: gcc (Ubuntu 9.4.0-1ubuntu1~20.04.2) 9.4.0 Ubuntu 24.04 (ARM) Kernel: Depends on container host Compiler: gcc (Ubuntu 13.3.0-6ubuntu2~24.04) 13.3.0 32-bit Ubuntu 22.04.4 (ARM) Kernel: 5.15.83+ aarch64 Compiler: gcc (Ubuntu 11.4.0-1ubuntu1~22.04) 11.4.0 Ubuntu 20.04 ARM SVE Kernel: Depends on container host Compiler: gcc (Ubuntu 10.5.0-1ubuntu1~20.04) 10.5.0 To view detailed results, visit: https://lab.dpdk.org/results/dashboard/tarballs/33444/ UNH-IOL DPDK Community Lab To manage your email subscriptions, visit: https://lab.dpdk.org/results/dashboard/preferences/subscriptions/