From mboxrd@z Thu Jan 1 00:00:00 1970 Return-Path: Received: from mails.dpdk.org (mails.dpdk.org [217.70.189.124]) by inbox.dpdk.org (Postfix) with ESMTP id 85C12466D8 for ; Tue, 6 May 2025 11:30:59 +0200 (CEST) Received: from mails.dpdk.org (localhost [127.0.0.1]) by mails.dpdk.org (Postfix) with ESMTP id 593F740269; Tue, 6 May 2025 11:30:59 +0200 (CEST) Received: from mail-io1-f100.google.com (mail-io1-f100.google.com [209.85.166.100]) by mails.dpdk.org (Postfix) with ESMTP id A081740150 for ; Tue, 6 May 2025 11:30:57 +0200 (CEST) Received: by mail-io1-f100.google.com with SMTP id ca18e2360f4ac-85dac9729c3so562528839f.2 for ; Tue, 06 May 2025 02:30:57 -0700 (PDT) DKIM-Signature: v=1; a=rsa-sha256; c=relaxed/relaxed; d=iol.unh.edu; s=unh-iol; t=1746523857; x=1747128657; darn=dpdk.org; h=references:in-reply-to:cc:to:from:subject:message-id:date:from:to :cc:subject:date:message-id:reply-to; bh=5ppNH4Zcau4C5gQdkfU+vYEFNUerET2D1j/Kmy3x3jA=; b=i5un2xZNjahDDlaEgqrou8cLrUrKPYuk6qTp9WKSC6v4OFhI5xy1WEIA0mrm//cWeU j1mFel5JkflLmJY3Em/nzJoVpbmPR5HOXVFHqVsxn/eAs2W2ZilxBPQIgSb0a6LWN7O5 aQ+lggjQMxPWdKwRS9U32ZrHxAZFyNqXN1SOM= X-Google-DKIM-Signature: v=1; a=rsa-sha256; c=relaxed/relaxed; d=1e100.net; s=20230601; t=1746523857; x=1747128657; h=references:in-reply-to:cc:to:from:subject:message-id:date :x-gm-message-state:from:to:cc:subject:date:message-id:reply-to; bh=5ppNH4Zcau4C5gQdkfU+vYEFNUerET2D1j/Kmy3x3jA=; b=pBiyzWMzdBwBI70ZI9HicL5tgxX08KKUOYGZ7LLmd8dqWRq//3gC3f0N/Kc1XbENOH 9tltvvzjhEYk/80vzmqvE8btrKHUn7YtE/eT/PfJPJdSiUNsL7IZXW0reKFNfJwmwUU6 EE8jL+OoLsXmh+k9bItNvxFE9+rIjJZUxGoDA9IrNMBw66yM/duopfrf6fo0KiQ/RoWH 17YnXv+5CwCvUnarwqXeGyeMrD5zpFvXS7Q+MrRv7dyP83k7vyhGIxziz0CS7AoF0S+x Z8HTtCs8QWG796P9pJ4ZNSXAG14WOxfpVGLMBPaQYHXr/7gDVMtImV2s+8jYu4NneI58 02DA== X-Gm-Message-State: AOJu0YzUoKv/ihJLIahNd7jQdVdCuOxNj3Ij4bGALveUy7db39BVa6x3 DRjkcIyIauc/BEfe1W/mg0d/+aWLdobj23lBf6y80yLxj51vCcJviHj3jTVoJ8nsbILMa7ezxS0 k69mHOqcKqVrlcJS2B1xmZZ3FqEkni8yybw8JORuB9xqw3du47Qrj8TM2 X-Gm-Gg: ASbGncs2LW5tvBZtoVyRzC+tg+oIEL9lPuS0FNcS6o6UBauiRABbk5lTINfQ2O5B8YV uohAdo3dt7y2w048wlHF+HlpeJ7btXqHbldxI9w4PCzqUO03eCVmdpNlnY2Kz34B7mo3qiXABZI l+P0G+66xRDrz+lDNVxYspW/cPsA3HnyrFr7IzrsUeSYgMNRrPvbYYZJaGaWbYHLbPZD5cNv5b8 2To49Dp5KrQ3sQVEoXRhiKLAKdI2VHZmgnnKYPV8HzivlyV1DBmK1bx9DEuPgz20rGoyhat0gRT TlpvFZVVJT/5en5nuLDc6nnc3tb0EzSGS2Yj X-Google-Smtp-Source: AGHT+IF1l/9HVyai3RUu307B2sSitx68hgO8oYXQXAPJXQxBWI23//vW8jZ7fGjeiGA9N8+RQkCn3UTjTZHP X-Received: by 2002:a05:6602:6b0e:b0:867:97b:2268 with SMTP id ca18e2360f4ac-86733f03c46mr270464639f.1.1746523856913; Tue, 06 May 2025 02:30:56 -0700 (PDT) Received: from postal.iol.unh.edu (postal.iol.unh.edu. [2606:4100:3880:1234::84]) by smtp-relay.gmail.com with ESMTPS id ca18e2360f4ac-864aa3381fbsm216057339f.15.2025.05.06.02.30.56 (version=TLS1_2 cipher=ECDHE-ECDSA-AES128-GCM-SHA256 bits=128/128); Tue, 06 May 2025 02:30:56 -0700 (PDT) X-Relaying-Domain: iol.unh.edu Date: Tue, 06 May 2025 02:30:56 -0700 (PDT) Message-ID: <6819d6d0.050a0220.29b03b.9fe0SMTPIN_ADDED_MISSING@mx.google.com> Received: from [172.21.0.6] (unknown [172.18.0.240]) by postal.iol.unh.edu (Postfix) with ESMTP id 5B3816052471; Tue, 6 May 2025 05:30:56 -0400 (EDT) Subject: |SUCCESS| pw153300 [PATCH] net/mlx5: avoid implicit conversion to 64 From: dpdklab@iol.unh.edu To: Test Report Cc: dpdk-test-reports@iol.unh.edu In-Reply-To: <1746458202-12356-1-git-send-email-andremue@linux.microsoft.com> References: <1746458202-12356-1-git-send-email-andremue@linux.microsoft.com> Content-Type: text/plain X-BeenThere: test-report@dpdk.org X-Mailman-Version: 2.1.29 Precedence: list List-Id: automatic DPDK test reports List-Unsubscribe: , List-Archive: List-Post: List-Help: List-Subscribe: , Errors-To: test-report-bounces@dpdk.org Test-Label: iol-unit-amd64-testing Test-Status: SUCCESS http://dpdk.org/patch/153300 _Testing PASS_ Submitter: Andre Muezerie Date: Monday, May 05 2025 15:16:42 DPDK git baseline: Repo:dpdk Branch: master CommitID:ca1690ebd224f148268285b15b97441ccdbdd07e 153300 --> testing pass Upstream job id: Generic-VM-Unit-Test-DPDK#28339 Test environment and result as below: +---------------------+----------------+ | Environment | dpdk_unit_test | +=====================+================+ | CentOS Stream 10 | PASS | +---------------------+----------------+ | CentOS Stream 9 | PASS | +---------------------+----------------+ | Fedora 41 (Clang) | PASS | +---------------------+----------------+ | Fedora 41 | PASS | +---------------------+----------------+ | Fedora 40 (Clang) | PASS | +---------------------+----------------+ | Fedora 40 | PASS | +---------------------+----------------+ | Debian 12 | PASS | +---------------------+----------------+ | RHEL8 | PASS | +---------------------+----------------+ | Ubuntu 20.04 | PASS | +---------------------+----------------+ | RHEL9 | PASS | +---------------------+----------------+ | Ubuntu 22.04 | PASS | +---------------------+----------------+ | Ubuntu 24.04 | PASS | +---------------------+----------------+ | Windows Server 2022 | PASS | +---------------------+----------------+ CentOS Stream 10 Kernel: Depends on container host Compiler: gcc 14.2.1 20241104 (Red Hat 14.2.1-6) CentOS Stream 9 Kernel: Depends on container host Compiler: gcc 11.5.0 20240719 (Red Hat 11.5.0-2) Fedora 41 (Clang) Kernel: Depends on container host Compiler: clang 19.1.5 (Fedora 19.1.5-1.fc41) Fedora 41 Kernel: Depends on container host Compiler: gcc 14.2.1 20240912 (Red Hat 14.2.1-3) Fedora 40 (Clang) Kernel: Depends on container host Compiler: clang 18.1.8 (Fedora 18.1.8-1.fc40) Fedora 40 Kernel: Depends on container host Compiler: gcc 14.2.1 20240912 (Red Hat 14.2.1-3) Debian 12 Kernel: Depends on container host Compiler: gcc (Debian 12.2.0-14) 12.2.0 RHEL8 Kernel: Depends on container host Compiler: gcc 8.5.0 20210514 (Red Hat 8.5.0-22) Ubuntu 20.04 Kernel: Depends on container host Compiler: gcc (Ubuntu 9.4.0-1ubuntu1~20.04.2) 9.4.0 RHEL9 Kernel: Depends on container host Compiler: gcc 11.5.0 20240719 (Red Hat 11.5.0-2) Ubuntu 22.04 Kernel: Depends on container host Compiler: gcc (Ubuntu 11.4.0-1ubuntu1~22.04) 11.4.0 Ubuntu 24.04 Kernel: Depends on container host Compiler: gcc (Ubuntu 13.3.0-6ubuntu2~24.04) 13.3.0 Windows Server 2022 Kernel: 10.0.20348.2031 Compiler: clang 15.0.7, gcc 14.1.0 (MinGW), and MSVC VS 19.39.33521 To view detailed results, visit: https://lab.dpdk.org/results/dashboard/patchsets/33113/ UNH-IOL DPDK Community Lab To manage your email subscriptions, visit: https://lab.dpdk.org/results/dashboard/preferences/subscriptions/