From mboxrd@z Thu Jan 1 00:00:00 1970 Return-Path: Received: from mails.dpdk.org (mails.dpdk.org [217.70.189.124]) by inbox.dpdk.org (Postfix) with ESMTP id ADE66466D8 for ; Tue, 6 May 2025 11:57:30 +0200 (CEST) Received: from mails.dpdk.org (localhost [127.0.0.1]) by mails.dpdk.org (Postfix) with ESMTP id 933C440269; Tue, 6 May 2025 11:57:30 +0200 (CEST) Received: from mail-pl1-f228.google.com (mail-pl1-f228.google.com [209.85.214.228]) by mails.dpdk.org (Postfix) with ESMTP id 1E9CF40150 for ; Tue, 6 May 2025 11:57:29 +0200 (CEST) Received: by mail-pl1-f228.google.com with SMTP id d9443c01a7336-223f4c06e9fso49827375ad.1 for ; Tue, 06 May 2025 02:57:29 -0700 (PDT) DKIM-Signature: v=1; a=rsa-sha256; c=relaxed/relaxed; d=iol.unh.edu; s=unh-iol; t=1746525448; x=1747130248; darn=dpdk.org; h=cc:to:from:subject:message-id:date:from:to:cc:subject:date :message-id:reply-to; bh=7FAde/Dm2DkrytIacDvAH1BMFs2TCgsxaw14SZVeN8c=; b=dg0jAKMpC0qr9EyBK+yqZXB7avL8IguAtF9liDuuzay2nM4Tiw6w6VIbldc1C0Dsa3 b8PNJIbeW+MDKsg6bejeagyn1w0Z8eFi5xW+61KIdtwEldZYSYDbzdMoOr1zmGxZvxkL YKr9f/6h48ew/5bsxJY4qoV41lWmG3tcu0cOk= X-Google-DKIM-Signature: v=1; a=rsa-sha256; c=relaxed/relaxed; d=1e100.net; s=20230601; t=1746525448; x=1747130248; h=cc:to:from:subject:message-id:date:x-gm-message-state:from:to:cc :subject:date:message-id:reply-to; bh=7FAde/Dm2DkrytIacDvAH1BMFs2TCgsxaw14SZVeN8c=; b=osvD2xCIGXEwqzyr/MeWChyeCuAP3feKJygL04xF7dok8FTq0Eox7c7gp2RhXQpbML r2OOF4zgy2qnQSBMw+lhM6ZrZAra6ZaBRh5w2lT7ObRc/DYzNie5vZSiiXrN2RlQzjOe NHkTeyhRGgBH2YmkvqEXmercikc0wsP6LjuV1ijV1aMX36hsA84tivVGx68AEYepVlBV vb9iAY40gFGaAK/fVvsZBcNbgse18kHPAVUW/baxNHGc+dkozKKg3fqcFKvMuPhaFsQe 6eO9Cuf4EQjrdfR01JrseBwraQUsoUWYUYfp7XTIjRatbrWuABodhBk2u44DcNcdUYcW uI0g== X-Gm-Message-State: AOJu0Yzq/dGTyP6u9xe6MKxgme7v6JfIHv3zfStZrgAw2hePQ9NTgiiW Pv7tphORNSioq6O9XqG0pwnohuaRYEMeLHKIrxT+g1AN8FwByyJhvu0i6aPMemYg9FH7q3jZqsN TuBEc7lFqxjOOFQDq6ap5ho9oPOEq8Aipcx6bkXDlQAZogDEd X-Gm-Gg: ASbGncuLZCi8jlrpiPT5lsC2ZQGqWZsG0CDl9M9wLhEa4efUG3yauQkbcJJZYSKZUfi BigKmUgOZQfrK/yZ8NJjyzW1wxdscaKYD15tG1bJ/G+1aPukNDPXg7hxJXSZkShaM5n7CEKeZyp UUnma6MiJVcP+75ATNfje4WEB+aDbQJo0AQ9a4tWBkYXDjIURFjHwU7zUJ51Mw9dH+0BtIaP324 zU8cgMuSz6zB9TRYFGWfRLldLoRYjrD6OpzMBjC9z2l1m3PFAwz3zzQR+wEWyGrXhcBncH66DiG fFF1lAQd2Ivq7sg9tn/zTZmcA9paw/qjronB X-Google-Smtp-Source: AGHT+IGe0z45htpiNhMcJtD2Og9UGlK7CJE4TqBLc5Ak97vG/PDSsu+D5nM0WSUH8B82ojmmDtq6zMZscSo0 X-Received: by 2002:a17:903:290:b0:220:ff82:1c60 with SMTP id d9443c01a7336-22e3280a6e2mr42292355ad.14.1746525448024; Tue, 06 May 2025 02:57:28 -0700 (PDT) Received: from postal.iol.unh.edu (postal.iol.unh.edu. [2606:4100:3880:1234::84]) by smtp-relay.gmail.com with ESMTPS id d9443c01a7336-22e1523cd80sm17761125ad.128.2025.05.06.02.57.27 (version=TLS1_2 cipher=ECDHE-ECDSA-AES128-GCM-SHA256 bits=128/128); Tue, 06 May 2025 02:57:28 -0700 (PDT) X-Relaying-Domain: iol.unh.edu Date: Tue, 06 May 2025 02:57:28 -0700 (PDT) Message-ID: <6819dd08.170a0220.39a414.59a8SMTPIN_ADDED_MISSING@mx.google.com> Received: from [172.21.0.6] (unknown [172.18.0.240]) by postal.iol.unh.edu (Postfix) with ESMTP id 30B556052471; Tue, 6 May 2025 05:57:27 -0400 (EDT) Subject: |SUCCESS| [GIT MASTER] 4c5634de9f933555bab9c64a533d3dca999071cd From: dpdklab@iol.unh.edu To: Test Report Cc: dpdk-test-reports@iol.unh.edu, Xueming Li , Christian Ehrhardt , Kevin Traynor , Luca Boccassi Content-Type: text/plain X-BeenThere: test-report@dpdk.org X-Mailman-Version: 2.1.29 Precedence: list List-Id: automatic DPDK test reports List-Unsubscribe: , List-Archive: List-Post: List-Help: List-Subscribe: , Errors-To: test-report-bounces@dpdk.org _Testing PASS_ Branch: tags/v24.11 4c5634de9f933555bab9c64a533d3dca999071cd --> testing pass Upstream job id: Generic-Unit-Test-DPDK#335692 Test environment and result as below: +-------------------+----------------+ | Environment | dpdk_unit_test | +===================+================+ | CentOS Stream 9 | PASS | +-------------------+----------------+ | CentOS Stream 10 | PASS | +-------------------+----------------+ | Fedora 40 | PASS | +-------------------+----------------+ | Debian 12 | PASS | +-------------------+----------------+ | Fedora 41 | PASS | +-------------------+----------------+ | Fedora 40 (Clang) | PASS | +-------------------+----------------+ | RHEL8 | PASS | +-------------------+----------------+ | RHEL9 | PASS | +-------------------+----------------+ | Fedora 41 (Clang) | PASS | +-------------------+----------------+ | Ubuntu 20.04 | PASS | +-------------------+----------------+ | Ubuntu 22.04 | PASS | +-------------------+----------------+ | Ubuntu 24.04 | PASS | +-------------------+----------------+ CentOS Stream 9 Kernel: Depends on container host Compiler: gcc 11.5.0 20240719 (Red Hat 11.5.0-2) CentOS Stream 10 Kernel: Depends on container host Compiler: gcc 14.2.1 20241104 (Red Hat 14.2.1-6) Fedora 40 Kernel: Depends on container host Compiler: gcc 14.2.1 20240912 (Red Hat 14.2.1-3) Debian 12 Kernel: Depends on container host Compiler: gcc (Debian 12.2.0-14) 12.2.0 Fedora 41 Kernel: Depends on container host Compiler: gcc 14.2.1 20240912 (Red Hat 14.2.1-3) Fedora 40 (Clang) Kernel: Depends on container host Compiler: clang 18.1.8 (Fedora 18.1.8-1.fc40) RHEL8 Kernel: Depends on container host Compiler: gcc 8.5.0 20210514 (Red Hat 8.5.0-22) RHEL9 Kernel: Depends on container host Compiler: gcc 11.5.0 20240719 (Red Hat 11.5.0-2) Fedora 41 (Clang) Kernel: Depends on container host Compiler: clang 19.1.5 (Fedora 19.1.5-1.fc41) Ubuntu 20.04 Kernel: Depends on container host Compiler: gcc (Ubuntu 9.4.0-1ubuntu1~20.04.2) 9.4.0 Ubuntu 22.04 Kernel: Depends on container host Compiler: gcc (Ubuntu 11.4.0-1ubuntu1~22.04) 11.4.0 Ubuntu 24.04 Kernel: Depends on container host Compiler: gcc (Ubuntu 13.3.0-6ubuntu2~24.04) 13.3.0 To view detailed results, visit: https://lab.dpdk.org/results/dashboard/tarballs/33444/ UNH-IOL DPDK Community Lab To manage your email subscriptions, visit: https://lab.dpdk.org/results/dashboard/preferences/subscriptions/