From mboxrd@z Thu Jan 1 00:00:00 1970 Return-Path: Received: from mails.dpdk.org (mails.dpdk.org [217.70.189.124]) by inbox.dpdk.org (Postfix) with ESMTP id ACD86466D8 for ; Tue, 6 May 2025 11:57:39 +0200 (CEST) Received: from mails.dpdk.org (localhost [127.0.0.1]) by mails.dpdk.org (Postfix) with ESMTP id A88CC40269; Tue, 6 May 2025 11:57:39 +0200 (CEST) Received: from mail-pf1-f225.google.com (mail-pf1-f225.google.com [209.85.210.225]) by mails.dpdk.org (Postfix) with ESMTP id 085CA40150 for ; Tue, 6 May 2025 11:57:38 +0200 (CEST) Received: by mail-pf1-f225.google.com with SMTP id d2e1a72fcca58-7370a2d1981so4464040b3a.2 for ; Tue, 06 May 2025 02:57:37 -0700 (PDT) DKIM-Signature: v=1; a=rsa-sha256; c=relaxed/relaxed; d=iol.unh.edu; s=unh-iol; t=1746525457; x=1747130257; darn=dpdk.org; h=cc:to:from:subject:message-id:date:from:to:cc:subject:date :message-id:reply-to; bh=AEgVwUkCj1iRAc7bbLUEDGokaoZs4PLKTG+veO/7mBM=; b=GtRkmN42Qz7YRbXkDWSGuowe36WvIvJ/0KlDqAlMf0L9bQZO8Qbzy/cLnXm5UP/KaM SWKK+dmCE6KlRe3ptWO3oML7OWw6fVAAJtgD8BqrPU1GLOqW+YNQBKidEcSraJz1EeoA wqDFS+Zt63Z3taQX7bGGM8XjlKVTM4HFgq3Nw= X-Google-DKIM-Signature: v=1; a=rsa-sha256; c=relaxed/relaxed; d=1e100.net; s=20230601; t=1746525457; x=1747130257; h=cc:to:from:subject:message-id:date:x-gm-message-state:from:to:cc :subject:date:message-id:reply-to; bh=AEgVwUkCj1iRAc7bbLUEDGokaoZs4PLKTG+veO/7mBM=; b=ZVAyfUSfTAxJYm7AtU+QKEUL8PuUfitInZeJTTJYfiIJ7Q6CktZrnUW1cndjJe5W05 iEyGZkgdX67/7hGn3NgxeMScEqhvgKlLP122y6HZoBcpKuiZDOgceo+VTdADxS+SR44m rKgessPZzJ3uj7vMgHKCht/ORah4gJk1QgpG21uOgKCKXPFwrZsEr53qSYMLw29/QQh7 klvQ78XRIsVCv2/PyaJuxcVAAop7GMov49D2u7Jo/ajbfXngylWo3AkAU9r3wWhOXCrb VcXUOeHUwCM0mirhoaqbtZL7JzSjXD2HGiMRbI/E5b2iYysoS81Z3rIBSs92MYVyZvs6 BGsA== X-Gm-Message-State: AOJu0Yxv9gqqKA5lp9u5/MSwKiJ1ADNz6cdFXw0/QY3p/DGUyFDg0Oyb uAjOqlg+Diqt3lCkI3uD6D1YO5Mq20h9vr8H8iDACedj/QCMa7+SBfuaoriptQ/rbJctNr5A9om 9MKueqKYpPGq3OQghZL/Y1IPg0sAN+x9W X-Gm-Gg: ASbGncuvchHvS0WWRfXTPEeMcsccojKtUOv0av9x03Zod4DjxRrbHvlRyTBDts96F+5 l4wpP/0IhDCkV1rXF1pF0VN1pAEVYAP/qK+TF6PeYufvkt6BgHjxcXwDvh+FQPP9lhvWVxJbhGZ idFc3ZFxo6hNd0nlZfnTN1DHe1CN8LOeug5GqxtyK+e4JL/MmrEP1YUsHy0x2c+5pR0/9ze081a swCbn3YnDJY+3bvyF683DxR3F4wfl3aKnalKGzSQyuLyWDvOQdBfFmDbng7TU8xpaRHdlDlplAi +A+qDelD8XmKWOUFvzQRJEQ5UArEBJ6kazKkdZUeUz0C+z+SMydq5rrK8h4= X-Google-Smtp-Source: AGHT+IH6LCwqMVHQn5e6RGWft0i3zBRi9Wpzs29wL6+05FMv/bUwXzbixMGBuwXGiAH+W6OWh6axzuyN4ae3 X-Received: by 2002:a05:6a21:9210:b0:1f5:83da:2f9f with SMTP id adf61e73a8af0-20e96604cd8mr14311165637.12.1746525456875; Tue, 06 May 2025 02:57:36 -0700 (PDT) Received: from postal.iol.unh.edu (postal.iol.unh.edu. [132.177.123.84]) by smtp-relay.gmail.com with ESMTPS id d2e1a72fcca58-7405902155asm2099555b3a.17.2025.05.06.02.57.36 (version=TLS1_2 cipher=ECDHE-ECDSA-AES128-GCM-SHA256 bits=128/128); Tue, 06 May 2025 02:57:36 -0700 (PDT) X-Relaying-Domain: iol.unh.edu Date: Tue, 06 May 2025 02:57:36 -0700 (PDT) Message-ID: <6819dd10.050a0220.7f9c.96a9SMTPIN_ADDED_MISSING@mx.google.com> Received: from [172.21.0.11] (unknown [172.18.0.240]) by postal.iol.unh.edu (Postfix) with ESMTP id 2C6F76052471; Tue, 6 May 2025 05:57:36 -0400 (EDT) Subject: |SUCCESS| [GIT MASTER] 4c5634de9f933555bab9c64a533d3dca999071cd From: dpdklab@iol.unh.edu To: Test Report Cc: dpdk-test-reports@iol.unh.edu, Xueming Li , Christian Ehrhardt , Kevin Traynor , Luca Boccassi Content-Type: text/plain X-BeenThere: test-report@dpdk.org X-Mailman-Version: 2.1.29 Precedence: list List-Id: automatic DPDK test reports List-Unsubscribe: , List-Archive: List-Post: List-Help: List-Subscribe: , Errors-To: test-report-bounces@dpdk.org _Testing PASS_ Branch: tags/v24.11 4c5634de9f933555bab9c64a533d3dca999071cd --> testing pass Upstream job id: Generic-Unit-Test-DPDK#335670 Test environment and result as below: +-------------------+----------------+ | Environment | dpdk_unit_test | +===================+================+ | CentOS Stream 9 | PASS | +-------------------+----------------+ | CentOS Stream 10 | PASS | +-------------------+----------------+ | Fedora 40 | PASS | +-------------------+----------------+ | Debian 12 | PASS | +-------------------+----------------+ | Fedora 41 | PASS | +-------------------+----------------+ | Fedora 40 (Clang) | PASS | +-------------------+----------------+ | RHEL8 | PASS | +-------------------+----------------+ | RHEL9 | PASS | +-------------------+----------------+ | Fedora 41 (Clang) | PASS | +-------------------+----------------+ | Ubuntu 20.04 | PASS | +-------------------+----------------+ | Ubuntu 22.04 | PASS | +-------------------+----------------+ | Ubuntu 24.04 | PASS | +-------------------+----------------+ CentOS Stream 9 Kernel: Depends on container host Compiler: gcc 11.5.0 20240719 (Red Hat 11.5.0-2) CentOS Stream 10 Kernel: Depends on container host Compiler: gcc 14.2.1 20241104 (Red Hat 14.2.1-6) Fedora 40 Kernel: Depends on container host Compiler: gcc 14.2.1 20240912 (Red Hat 14.2.1-3) Debian 12 Kernel: Depends on container host Compiler: gcc (Debian 12.2.0-14) 12.2.0 Fedora 41 Kernel: Depends on container host Compiler: gcc 14.2.1 20240912 (Red Hat 14.2.1-3) Fedora 40 (Clang) Kernel: Depends on container host Compiler: clang 18.1.8 (Fedora 18.1.8-1.fc40) RHEL8 Kernel: Depends on container host Compiler: gcc 8.5.0 20210514 (Red Hat 8.5.0-22) RHEL9 Kernel: Depends on container host Compiler: gcc 11.5.0 20240719 (Red Hat 11.5.0-2) Fedora 41 (Clang) Kernel: Depends on container host Compiler: clang 19.1.5 (Fedora 19.1.5-1.fc41) Ubuntu 20.04 Kernel: Depends on container host Compiler: gcc (Ubuntu 9.4.0-1ubuntu1~20.04.2) 9.4.0 Ubuntu 22.04 Kernel: Depends on container host Compiler: gcc (Ubuntu 11.4.0-1ubuntu1~22.04) 11.4.0 Ubuntu 24.04 Kernel: Depends on container host Compiler: gcc (Ubuntu 13.3.0-6ubuntu2~24.04) 13.3.0 To view detailed results, visit: https://lab.dpdk.org/results/dashboard/tarballs/33444/ UNH-IOL DPDK Community Lab To manage your email subscriptions, visit: https://lab.dpdk.org/results/dashboard/preferences/subscriptions/