From mboxrd@z Thu Jan 1 00:00:00 1970 Return-Path: Received: from mails.dpdk.org (mails.dpdk.org [217.70.189.124]) by inbox.dpdk.org (Postfix) with ESMTP id 0E5B2466D9 for ; Tue, 6 May 2025 12:17:21 +0200 (CEST) Received: from mails.dpdk.org (localhost [127.0.0.1]) by mails.dpdk.org (Postfix) with ESMTP id DEDB440269; Tue, 6 May 2025 12:17:20 +0200 (CEST) Received: from mail-pf1-f226.google.com (mail-pf1-f226.google.com [209.85.210.226]) by mails.dpdk.org (Postfix) with ESMTP id B8EE040150 for ; Tue, 6 May 2025 12:17:19 +0200 (CEST) Received: by mail-pf1-f226.google.com with SMTP id d2e1a72fcca58-7376e311086so7757603b3a.3 for ; Tue, 06 May 2025 03:17:19 -0700 (PDT) DKIM-Signature: v=1; a=rsa-sha256; c=relaxed/relaxed; d=iol.unh.edu; s=unh-iol; t=1746526638; x=1747131438; darn=dpdk.org; h=cc:to:from:subject:message-id:date:from:to:cc:subject:date :message-id:reply-to; bh=tuBOw3E316Of32ZZpNNoy5fisGuTMM9civF1khDfz8M=; b=iGppHlkBZHadSQ7oPvAEvlNtevOgHd/eW0Heiv+9Yx4m8DVPSe9PsZ0q8SlsN8sJUj bGbnlAGFNiT4zWiVkIgaIyw/mNzsyytI1P6Yb1C9uQzM5g0Gzrk391ZnSn5kRKIUfvZv oCQq8g0LM9YWUIETBbhBbJW2ba73cf0hTY3AA= X-Google-DKIM-Signature: v=1; a=rsa-sha256; c=relaxed/relaxed; d=1e100.net; s=20230601; t=1746526638; x=1747131438; h=cc:to:from:subject:message-id:date:x-gm-message-state:from:to:cc :subject:date:message-id:reply-to; bh=tuBOw3E316Of32ZZpNNoy5fisGuTMM9civF1khDfz8M=; b=ZqhmzI/yQEZPQwAlhyw1z7n68doOUZFxhHF86whjwbbbz8PJM+VOSTrOFQT3ZMq7uv C9ebrlDny1nrrKQW0dOODITZ18hOFda+Q/uoo9NT4agKbRa4W0Y54Zan2n5T1zD9CMxE 2qoh8AZJm9dHXd/VdsI8GW+m5o0JRxRYgryWZPS+1niMEIAUxekM5+A0N+gzTf7vUWk/ XVpJ95dCfObjXKMA2Nf+4UIFwHF/icJlztzYeiFN5tHFlNy0o/O6MfR3T3si6Djl5giX 8dHouJCgfEjGp55Vi1jvbskkxW7sZUJ6pU0/mxgUmZfYF2GcFufApRp/qtGG+KEOnDNQ a+0g== X-Gm-Message-State: AOJu0YwRv+mz747OXQqY2qc1TEUUgyF0Xlu1iTe8/yCvz0+GfI+kKsky i7wmwGE15at/mzg4aDG7EKUxX14ZVppUog1DDVn+EGE0gvQ9WG31WYTyc5o3dl0Nt+7BQ8JtxrM jskSKWv60iMyLsYZxH8mgTM/MLZjkDsNyZSZPcqxC4Y3bb8FQkAh7+YZ/ X-Gm-Gg: ASbGncs1bw+W53Xek9my5P6/a13j+Z7wB74kqjvEOqEcapmg0SNlrOWJojCALzprRC2 c3El4aIbXYrVGsb6NTC4kWxrbJxJm5uLBbi7Bk8ZfeIr43wpIpigsuG1Bsf/ImsJPg6ILefkVu2 XXvnRd2M8J5C+2eSB0OBqjgwdWhyb6FgHYiGhBBz5nAliZyW0NhUAQqBo9gHuR/pWWnP24A5TAl fd7fJw+9e2qGuOr+xbVXdg8kCxyevcfMFon61qV8eAruGFFm4rRu7Eab2s6PWGWPWIR2TkcvVBe qKAoe5hcALdctREtf345kyMsCY3sI7JiA5Rz X-Google-Smtp-Source: AGHT+IEXGIuNAIE3rTGi7lk2XpcJR0OrkU7Rii0jz6wnKd0dgH77fPveUjrJc83BKqz0JqvyweXU1nclu0hQ X-Received: by 2002:a05:6a00:2a07:b0:736:73ad:365b with SMTP id d2e1a72fcca58-7406f0ea30emr15296510b3a.14.1746526638552; Tue, 06 May 2025 03:17:18 -0700 (PDT) Received: from postal.iol.unh.edu (postal.iol.unh.edu. [2606:4100:3880:1234::84]) by smtp-relay.gmail.com with ESMTPS id d2e1a72fcca58-74058b7eccesm2092071b3a.0.2025.05.06.03.17.18 (version=TLS1_2 cipher=ECDHE-ECDSA-AES128-GCM-SHA256 bits=128/128); Tue, 06 May 2025 03:17:18 -0700 (PDT) X-Relaying-Domain: iol.unh.edu Date: Tue, 06 May 2025 03:17:18 -0700 (PDT) Message-ID: <6819e1ae.050a0220.118557.9162SMTPIN_ADDED_MISSING@mx.google.com> Received: from [172.21.0.6] (unknown [172.18.0.240]) by postal.iol.unh.edu (Postfix) with ESMTP id 40C196052471; Tue, 6 May 2025 06:17:17 -0400 (EDT) Subject: |SUCCESS| [GIT MASTER] ca1690ebd224f148268285b15b97441ccdbdd07e From: dpdklab@iol.unh.edu To: Test Report Cc: dpdk-test-reports@iol.unh.edu Content-Type: text/plain X-BeenThere: test-report@dpdk.org X-Mailman-Version: 2.1.29 Precedence: list List-Id: automatic DPDK test reports List-Unsubscribe: , List-Archive: List-Post: List-Help: List-Subscribe: , Errors-To: test-report-bounces@dpdk.org _Testing PASS_ Branch: dpdk ca1690ebd224f148268285b15b97441ccdbdd07e --> testing pass Upstream job id: Generic-VM-Unit-Test-DPDK#28342 Test environment and result as below: +---------------------+----------------+ | Environment | dpdk_unit_test | +=====================+================+ | Arch Linux | PASS | +---------------------+----------------+ | CentOS Stream 10 | PASS | +---------------------+----------------+ | CentOS Stream 9 | PASS | +---------------------+----------------+ | Fedora 40 | PASS | +---------------------+----------------+ | Fedora 41 (Clang) | PASS | +---------------------+----------------+ | Debian 12 | PASS | +---------------------+----------------+ | Fedora 40 (Clang) | PASS | +---------------------+----------------+ | Fedora 41 | PASS | +---------------------+----------------+ | RHEL8 | PASS | +---------------------+----------------+ | RHEL9 | PASS | +---------------------+----------------+ | Ubuntu 22.04 | PASS | +---------------------+----------------+ | Ubuntu 20.04 | PASS | +---------------------+----------------+ | Ubuntu 24.04 | PASS | +---------------------+----------------+ | Windows Server 2022 | PASS | +---------------------+----------------+ Arch Linux Kernel: Depends on container host Compiler: gcc 14.2.1 20240910 CentOS Stream 10 Kernel: Depends on container host Compiler: gcc 14.2.1 20241104 (Red Hat 14.2.1-6) CentOS Stream 9 Kernel: Depends on container host Compiler: gcc 11.5.0 20240719 (Red Hat 11.5.0-2) Fedora 40 Kernel: Depends on container host Compiler: gcc 14.2.1 20240912 (Red Hat 14.2.1-3) Fedora 41 (Clang) Kernel: Depends on container host Compiler: clang 19.1.5 (Fedora 19.1.5-1.fc41) Debian 12 Kernel: Depends on container host Compiler: gcc (Debian 12.2.0-14) 12.2.0 Fedora 40 (Clang) Kernel: Depends on container host Compiler: clang 18.1.8 (Fedora 18.1.8-1.fc40) Fedora 41 Kernel: Depends on container host Compiler: gcc 14.2.1 20240912 (Red Hat 14.2.1-3) RHEL8 Kernel: Depends on container host Compiler: gcc 8.5.0 20210514 (Red Hat 8.5.0-22) RHEL9 Kernel: Depends on container host Compiler: gcc 11.5.0 20240719 (Red Hat 11.5.0-2) Ubuntu 22.04 Kernel: Depends on container host Compiler: gcc (Ubuntu 11.4.0-1ubuntu1~22.04) 11.4.0 Ubuntu 20.04 Kernel: Depends on container host Compiler: gcc (Ubuntu 9.4.0-1ubuntu1~20.04.2) 9.4.0 Ubuntu 24.04 Kernel: Depends on container host Compiler: gcc (Ubuntu 13.3.0-6ubuntu2~24.04) 13.3.0 Windows Server 2022 Kernel: 10.0.20348.2031 Compiler: clang 15.0.7, gcc 14.1.0 (MinGW), and MSVC VS 19.39.33521 To view detailed results, visit: https://lab.dpdk.org/results/dashboard/tarballs/33441/ UNH-IOL DPDK Community Lab To manage your email subscriptions, visit: https://lab.dpdk.org/results/dashboard/preferences/subscriptions/