From mboxrd@z Thu Jan 1 00:00:00 1970 Return-Path: Received: from mails.dpdk.org (mails.dpdk.org [217.70.189.124]) by inbox.dpdk.org (Postfix) with ESMTP id C33F0466D9 for ; Tue, 6 May 2025 12:48:02 +0200 (CEST) Received: from mails.dpdk.org (localhost [127.0.0.1]) by mails.dpdk.org (Postfix) with ESMTP id A2C7240269; Tue, 6 May 2025 12:48:02 +0200 (CEST) Received: from mail-io1-f98.google.com (mail-io1-f98.google.com [209.85.166.98]) by mails.dpdk.org (Postfix) with ESMTP id BA29940150 for ; Tue, 6 May 2025 12:48:01 +0200 (CEST) Received: by mail-io1-f98.google.com with SMTP id ca18e2360f4ac-85b3f92c8f8so626286439f.1 for ; Tue, 06 May 2025 03:48:01 -0700 (PDT) DKIM-Signature: v=1; a=rsa-sha256; c=relaxed/relaxed; d=iol.unh.edu; s=unh-iol; t=1746528481; x=1747133281; darn=dpdk.org; h=cc:to:from:subject:message-id:date:from:to:cc:subject:date :message-id:reply-to; bh=iJ9C9rf5TMMnoDktWF0TNP10ogMUIVQW4wf/qyzSlNQ=; b=it109zk9oigkeqhH6ZV4hwHnqdw7zkMkZXfDsJf0hrOVYCFT0LsycLmcnNTOkE1oZj eXX951FZDjJ86MHJdD7hfDgwi99n5vpnMTGyajYJd0dy5M5LJ3E4GX6bAF69kewVPco4 rgSjFhU3THKytwLKhck89UnCMILb9AJf3whuA= X-Google-DKIM-Signature: v=1; a=rsa-sha256; c=relaxed/relaxed; d=1e100.net; s=20230601; t=1746528481; x=1747133281; h=cc:to:from:subject:message-id:date:x-gm-message-state:from:to:cc :subject:date:message-id:reply-to; bh=iJ9C9rf5TMMnoDktWF0TNP10ogMUIVQW4wf/qyzSlNQ=; b=pd9KYZOL19TxbsVfGWvsKgLH8LQUC0APnfrMXC1qRUMQi2uEpWnP0yH5gmR48j2K24 d3rQaLLCVqGj0PNjhFK2bti7J/NOLyw45R7oZd56coa74HpYoE+Mbwo01rw1M9MKx5dY fpYpAU64uYw5vfPOh/QkMsL1yYAeDtKoor78o54mWDJVRWJ1yurDhDluKGQs6TOUdbWI LIaZqfacYJ+Vhbj68z0Eauw4IiR8tO63dHd4ywu8PSqyzDQ4ZvvrwVBlfqiTQEn01uCs astegTbR01aUhDQrJKdWX20Wu7e+MrbDlwXDCDHpYCb7mw9w/a7hFK3hsPOiK420Ue73 d1EQ== X-Gm-Message-State: AOJu0YzFiXB38bUsMdqkSCJ8k/KvbPV79bvDTI+WDuBYXs6G/Rli0qKd iLxOrXTWqAhh2mQARxnyDZ7HhNwF026kp8vPhAmP0cLcvPZiWpT4F5xxCZQYgrDBf9bzCTYUIm7 67BJaf4pLEOYyVh9emAk5RV5r7FwAdVJa X-Gm-Gg: ASbGncvFO/78dulNuloapEaqC5yr1MJRvtexBifzy3S+iouy5KLw9icQheZ0XKsliNP 24kF6xI2dIBlqFNfp3ZTBl3vxMGcnTuIseipXy29mmOyqFb4qJ549NmIzL6qczBomS8T/Zm7UpO /K4kZe8UBa3ehsE+1fICbwFZOhvZTdZvxSdnT9BDdP9xxKZPQNeMFWjGE3TMXI4LhzvOhJFwRRn kuKLIcozKAbxDbdUdzE6q8zMMwDLdM9ocAbNKmonJUzDWvOqayW559xAmIWh49wx1gUKbm1r0aZ 7xtR8vfpLfDHqmWQZSagTqZEBjV8QfH04Af0BJ2HO6slG6N9g46eOqA3yDA= X-Google-Smtp-Source: AGHT+IFZ4OXMJp/KNSeVgUjiVQ+wjmPNeVaU0QcjPqtws/vynZycGDrIxnAuDhB0kS1TbrK0858bJmWSKLD2 X-Received: by 2002:a05:6602:3c6:b0:864:488e:a581 with SMTP id ca18e2360f4ac-86733f7e3admr260946739f.4.1746528480953; Tue, 06 May 2025 03:48:00 -0700 (PDT) Received: from postal.iol.unh.edu (postal.iol.unh.edu. [132.177.123.84]) by smtp-relay.gmail.com with ESMTPS id ca18e2360f4ac-864aa30c276sm214858439f.9.2025.05.06.03.48.00 (version=TLS1_2 cipher=ECDHE-ECDSA-AES128-GCM-SHA256 bits=128/128); Tue, 06 May 2025 03:48:00 -0700 (PDT) X-Relaying-Domain: iol.unh.edu Date: Tue, 06 May 2025 03:48:00 -0700 (PDT) Message-ID: <6819e8e0.050a0220.1f2310.8df0SMTPIN_ADDED_MISSING@mx.google.com> Received: from [172.21.0.11] (unknown [172.18.0.240]) by postal.iol.unh.edu (Postfix) with ESMTP id 47C9D6052471; Tue, 6 May 2025 06:48:00 -0400 (EDT) Subject: |SUCCESS| [GIT MASTER] 83a7a648344674c0269fcaeb71d8d16468421a0e From: dpdklab@iol.unh.edu To: Test Report Cc: dpdk-test-reports@iol.unh.edu, Xueming Li , Christian Ehrhardt , Kevin Traynor , Luca Boccassi Content-Type: text/plain X-BeenThere: test-report@dpdk.org X-Mailman-Version: 2.1.29 Precedence: list List-Id: automatic DPDK test reports List-Unsubscribe: , List-Archive: List-Post: List-Help: List-Subscribe: , Errors-To: test-report-bounces@dpdk.org _Testing PASS_ Branch: tags/v23.11 83a7a648344674c0269fcaeb71d8d16468421a0e --> testing pass Upstream job id: Generic-Unit-Test-DPDK#335717 Test environment and result as below: +-----------------------------+----------------+---------------------------+--------------+------------------------------+ | Environment | dpdk_unit_test | cryptodev_sw_zuc_autotest | lpm_autotest | cryptodev_sw_snow3g_autotest | +=============================+================+===========================+==============+==============================+ | CentOS Stream 9 (ARM) | PASS | SKIPPED | SKIPPED | SKIPPED | +-----------------------------+----------------+---------------------------+--------------+------------------------------+ | Fedora 40 (ARM) | PASS | SKIPPED | SKIPPED | SKIPPED | +-----------------------------+----------------+---------------------------+--------------+------------------------------+ | CentOS Stream 10 (ARM) | PASS | SKIPPED | SKIPPED | SKIPPED | +-----------------------------+----------------+---------------------------+--------------+------------------------------+ | Debian 12 (arm) | PASS | PASS | SKIPPED | PASS | +-----------------------------+----------------+---------------------------+--------------+------------------------------+ | Fedora 40 (ARM Clang) | PASS | SKIPPED | SKIPPED | SKIPPED | +-----------------------------+----------------+---------------------------+--------------+------------------------------+ | Fedora 41 (ARM) | PASS | SKIPPED | SKIPPED | SKIPPED | +-----------------------------+----------------+---------------------------+--------------+------------------------------+ | RHEL9 (ARM) | PASS | SKIPPED | SKIPPED | SKIPPED | +-----------------------------+----------------+---------------------------+--------------+------------------------------+ | Fedora 41 (ARM Clang) | PASS | SKIPPED | SKIPPED | SKIPPED | +-----------------------------+----------------+---------------------------+--------------+------------------------------+ | Ubuntu 22.04 (ARM) | PASS | SKIPPED | SKIPPED | SKIPPED | +-----------------------------+----------------+---------------------------+--------------+------------------------------+ | Ubuntu 20.04 (ARM) | PASS | SKIPPED | SKIPPED | SKIPPED | +-----------------------------+----------------+---------------------------+--------------+------------------------------+ | Ubuntu 24.04 (ARM) | PASS | SKIPPED | SKIPPED | SKIPPED | +-----------------------------+----------------+---------------------------+--------------+------------------------------+ | 32-bit Ubuntu 22.04.4 (ARM) | PASS | SKIPPED | SKIPPED | SKIPPED | +-----------------------------+----------------+---------------------------+--------------+------------------------------+ | Ubuntu 20.04 ARM SVE | SKIPPED | SKIPPED | PASS | SKIPPED | +-----------------------------+----------------+---------------------------+--------------+------------------------------+ CentOS Stream 9 (ARM) Kernel: Depends on container host Compiler: gcc 11.5.0 20240719 (Red Hat 11.5.0-2) Fedora 40 (ARM) Kernel: Depends on container host Compiler: gcc 14.2.1 20240912 (Red Hat 14.2.1-3) CentOS Stream 10 (ARM) Kernel: Depends on container host Compiler: gcc 14.2.1 20241104 (Red Hat 14.2.1-6) Debian 12 (arm) Kernel: Depends on container host Compiler: gcc (Debian 12.2.0-14) 12.2.0 Fedora 40 (ARM Clang) Kernel: Depends on container host Compiler: clang 18.1.8 (Fedora 18.1.8-1.fc40) Fedora 41 (ARM) Kernel: Depends on container host Compiler: gcc 14.2.1 20240912 (Red Hat 14.2.1-3) RHEL9 (ARM) Kernel: Depends on container host Compiler: gcc 11.5.0 20240719 (Red Hat 11.5.0-2) Fedora 41 (ARM Clang) Kernel: Depends on container host Compiler: clang 19.1.5 (Fedora 19.1.5-1.fc41) Ubuntu 22.04 (ARM) Kernel: Depends on container host Compiler: gcc (Ubuntu 11.4.0-1ubuntu1~22.04) 11.4.0 Ubuntu 20.04 (ARM) Kernel: Depends on container host Compiler: gcc (Ubuntu 9.4.0-1ubuntu1~20.04.2) 9.4.0 Ubuntu 24.04 (ARM) Kernel: Depends on container host Compiler: gcc (Ubuntu 13.3.0-6ubuntu2~24.04) 13.3.0 32-bit Ubuntu 22.04.4 (ARM) Kernel: 5.15.83+ aarch64 Compiler: gcc (Ubuntu 11.4.0-1ubuntu1~22.04) 11.4.0 Ubuntu 20.04 ARM SVE Kernel: Depends on container host Compiler: gcc (Ubuntu 10.5.0-1ubuntu1~20.04) 10.5.0 To view detailed results, visit: https://lab.dpdk.org/results/dashboard/tarballs/33445/ UNH-IOL DPDK Community Lab To manage your email subscriptions, visit: https://lab.dpdk.org/results/dashboard/preferences/subscriptions/