From mboxrd@z Thu Jan 1 00:00:00 1970 Return-Path: Received: from mails.dpdk.org (mails.dpdk.org [217.70.189.124]) by inbox.dpdk.org (Postfix) with ESMTP id 1D6B2466D9 for ; Tue, 6 May 2025 12:51:21 +0200 (CEST) Received: from mails.dpdk.org (localhost [127.0.0.1]) by mails.dpdk.org (Postfix) with ESMTP id 1671340269; Tue, 6 May 2025 12:51:21 +0200 (CEST) Received: from mail-qv1-f100.google.com (mail-qv1-f100.google.com [209.85.219.100]) by mails.dpdk.org (Postfix) with ESMTP id B658340150 for ; Tue, 6 May 2025 12:51:19 +0200 (CEST) Received: by mail-qv1-f100.google.com with SMTP id 6a1803df08f44-6f0ad74483fso64354286d6.1 for ; Tue, 06 May 2025 03:51:19 -0700 (PDT) DKIM-Signature: v=1; a=rsa-sha256; c=relaxed/relaxed; d=iol.unh.edu; s=unh-iol; t=1746528679; x=1747133479; darn=dpdk.org; h=cc:to:from:subject:message-id:date:from:to:cc:subject:date :message-id:reply-to; bh=cqcZOQ95I1nbd8H3gEZcZkD+DM3Uqo2DcPV7lm5POqE=; b=Di9rBxDbYtBwSIG/4TTsOygTmJY/rBIG5JunjQwXwEfDG3l05g1xfjC4rao2zEe+EA gId1RJVvKjcuTiTbnW6chBi5h/ukyPBfdcD2U7Y6hSC3ZUVMG8Y71W4q6fmt/OCO7RAh QQVTTBYH0AXkHY5uv9N8QbChbeS8+t5nh5DEY= X-Google-DKIM-Signature: v=1; a=rsa-sha256; c=relaxed/relaxed; d=1e100.net; s=20230601; t=1746528679; x=1747133479; h=cc:to:from:subject:message-id:date:x-gm-message-state:from:to:cc :subject:date:message-id:reply-to; bh=cqcZOQ95I1nbd8H3gEZcZkD+DM3Uqo2DcPV7lm5POqE=; b=FT0SIqBMqA62Lo9uaS5pODguQ1R/kq2Hx0tLswggmhRzIcTL9pBBgsBbq8IBfw1TI5 A17/l+FjNszIdnQJuLY/6RWZRkecWNOe23T4WNCKIJJFj0L5LT5o4QtlGRLs7UXuXf7r rCg/vQvlMcrKGYF0DbJwD1NFRY8q6gEDNcMLRNkBaW3UpLnfCbytHj1dpkhHVrC1uFb8 W0+dV7G7REcsKdDI5RczjcyyGlEM3L3SfioD9iGZ4psh7ebH4SrN4rPhn+FToU074wWl fOgV20sutggTyqTF17o1/Vw8rSonzUg5NfXT1W+0skACDBWE7dHJFldAhSbgvxEdtbSm WNRw== X-Gm-Message-State: AOJu0YwW7tuKBUTzA0jF5WHcdPNT6mTc92qV7H4qekPBVoqSljeXQcZo Xx0vPvKgNZpcGP7QxJSN9fp/0xGH6BfGH4K9dOm3Ijtd2jSImgMtA/1f6tnp8cl4EL5hnhvv1ME esXOuAQgYJp971fbGKWy1CZj4jrFlYicN X-Gm-Gg: ASbGnctc66zFxw3tNob7ipFVjcYiAh6+qT0sDFJFmlinKTqN225p63YYT6LYVwwftI/ MiEPzSyhwQ6G6YLsThnzesT5FU0vKHAuUUcIh9eSWhs81h3bJAppamV25DZuYyolrTY+EWsb/r9 oz5dLFoRUu3WG0qV+g4YKNe5ZlscIq3SIbKVC3CnZ7gI/6LRyr5pHLDchCh8T24poQctxsqIzo/ jj51Y6LV+5Ujbuqn2fWJrb476zgEG/hEKS5zgNwbusYQWswvVKlzo/OJ2PoK3ayPwLK9aqc1NAE EPxaypVMORxq54QdLyH7vheLn06KSGkAl5zNaKG5Bl9Y0KVv/hU8ohS+qyk= X-Google-Smtp-Source: AGHT+IEE++NdIxNOvoFnQmG9lQ2fP48HQm0hQA+B1xwrHIDnb/Nn1lIJMfhg7KN0YpLLtmRFeMqoQj9sed51 X-Received: by 2002:a05:6214:224d:b0:6f2:a537:f47e with SMTP id 6a1803df08f44-6f5358ee4a9mr45779336d6.42.1746528679073; Tue, 06 May 2025 03:51:19 -0700 (PDT) Received: from postal.iol.unh.edu (postal.iol.unh.edu. [132.177.123.84]) by smtp-relay.gmail.com with ESMTPS id 6a1803df08f44-6f53e3861d3sm204596d6.53.2025.05.06.03.51.19 (version=TLS1_2 cipher=ECDHE-ECDSA-AES128-GCM-SHA256 bits=128/128); Tue, 06 May 2025 03:51:19 -0700 (PDT) X-Relaying-Domain: iol.unh.edu Date: Tue, 06 May 2025 03:51:19 -0700 (PDT) Message-ID: <6819e9a7.050a0220.13fce4.0f9cSMTPIN_ADDED_MISSING@mx.google.com> Received: from [172.21.0.6] (unknown [172.18.0.240]) by postal.iol.unh.edu (Postfix) with ESMTP id BBE196052471; Tue, 6 May 2025 06:51:18 -0400 (EDT) Subject: |SUCCESS| [GIT MASTER] 4c5634de9f933555bab9c64a533d3dca999071cd From: dpdklab@iol.unh.edu To: Test Report Cc: dpdk-test-reports@iol.unh.edu, Xueming Li , Christian Ehrhardt , Kevin Traynor , Luca Boccassi Content-Type: text/plain X-BeenThere: test-report@dpdk.org X-Mailman-Version: 2.1.29 Precedence: list List-Id: automatic DPDK test reports List-Unsubscribe: , List-Archive: List-Post: List-Help: List-Subscribe: , Errors-To: test-report-bounces@dpdk.org _Testing PASS_ Branch: tags/v24.11 4c5634de9f933555bab9c64a533d3dca999071cd --> testing pass Upstream job id: Generic-DPDK-Compile-Meson#385471 Test environment and result as below: +------------------------------------+--------------------+ | Environment | dpdk_meson_compile | +====================================+====================+ | RHEL9 (ARM) | PASS | +------------------------------------+--------------------+ | Ubuntu 20.04 ARM GCC Cross Compile | PASS | +------------------------------------+--------------------+ | Ubuntu 20.04 ARM SVE | PASS | +------------------------------------+--------------------+ | Fedora 40 (ARM) | PASS | +------------------------------------+--------------------+ | Debian 12 with MUSDK | PASS | +------------------------------------+--------------------+ | Fedora 40 (ARM Clang) | PASS | +------------------------------------+--------------------+ | Fedora 41 (ARM) | PASS | +------------------------------------+--------------------+ | Fedora 41 (ARM Clang) | PASS | +------------------------------------+--------------------+ | CentOS Stream 9 (ARM) | PASS | +------------------------------------+--------------------+ | Ubuntu 22.04 (ARM) | PASS | +------------------------------------+--------------------+ | Ubuntu 20.04 (ARM) | PASS | +------------------------------------+--------------------+ | Ubuntu 24.04 (ARM) | PASS | +------------------------------------+--------------------+ | CentOS Stream 10 (ARM) | PASS | +------------------------------------+--------------------+ | Debian 12 (arm) | PASS | +------------------------------------+--------------------+ RHEL9 (ARM) Kernel: Depends on container host Compiler: gcc 11.5.0 20240719 (Red Hat 11.5.0-2) Ubuntu 20.04 ARM GCC Cross Compile Kernel: Depends on container host Compiler: aarch64-linux-gnu-gcc (Ubuntu 9.4.0-1ubuntu1~20.04.2) 9.4.0 Ubuntu 20.04 ARM SVE Kernel: Depends on container host Compiler: gcc (Ubuntu 10.5.0-1ubuntu1~20.04) 10.5.0 Fedora 40 (ARM) Kernel: Depends on container host Compiler: gcc 14.2.1 20240912 (Red Hat 14.2.1-3) Debian 12 with MUSDK Kernel: Depends on container host Compiler: gcc (Debian 12.2.0-14) 12.2.0 Fedora 40 (ARM Clang) Kernel: Depends on container host Compiler: clang 18.1.8 (Fedora 18.1.8-1.fc40) Fedora 41 (ARM) Kernel: Depends on container host Compiler: gcc 14.2.1 20240912 (Red Hat 14.2.1-3) Fedora 41 (ARM Clang) Kernel: Depends on container host Compiler: clang 19.1.5 (Fedora 19.1.5-1.fc41) CentOS Stream 9 (ARM) Kernel: Depends on container host Compiler: gcc 11.5.0 20240719 (Red Hat 11.5.0-2) Ubuntu 22.04 (ARM) Kernel: Depends on container host Compiler: gcc (Ubuntu 11.4.0-1ubuntu1~22.04) 11.4.0 Ubuntu 20.04 (ARM) Kernel: Depends on container host Compiler: gcc (Ubuntu 9.4.0-1ubuntu1~20.04.2) 9.4.0 Ubuntu 24.04 (ARM) Kernel: Depends on container host Compiler: gcc (Ubuntu 13.3.0-6ubuntu2~24.04) 13.3.0 CentOS Stream 10 (ARM) Kernel: Depends on container host Compiler: gcc 14.2.1 20241104 (Red Hat 14.2.1-6) Debian 12 (arm) Kernel: Depends on container host Compiler: gcc (Debian 12.2.0-14) 12.2.0 To view detailed results, visit: https://lab.dpdk.org/results/dashboard/tarballs/33444/ UNH-IOL DPDK Community Lab To manage your email subscriptions, visit: https://lab.dpdk.org/results/dashboard/preferences/subscriptions/