From mboxrd@z Thu Jan 1 00:00:00 1970 Return-Path: Received: from mails.dpdk.org (mails.dpdk.org [217.70.189.124]) by inbox.dpdk.org (Postfix) with ESMTP id 82AFC466D9 for ; Tue, 6 May 2025 12:54:11 +0200 (CEST) Received: from mails.dpdk.org (localhost [127.0.0.1]) by mails.dpdk.org (Postfix) with ESMTP id 55C0340269; Tue, 6 May 2025 12:54:11 +0200 (CEST) Received: from mail-pl1-f228.google.com (mail-pl1-f228.google.com [209.85.214.228]) by mails.dpdk.org (Postfix) with ESMTP id 69D5040150 for ; Tue, 6 May 2025 12:54:10 +0200 (CEST) Received: by mail-pl1-f228.google.com with SMTP id d9443c01a7336-227d6b530d8so50921725ad.3 for ; Tue, 06 May 2025 03:54:10 -0700 (PDT) DKIM-Signature: v=1; a=rsa-sha256; c=relaxed/relaxed; d=iol.unh.edu; s=unh-iol; t=1746528849; x=1747133649; darn=dpdk.org; h=cc:to:from:subject:message-id:date:from:to:cc:subject:date :message-id:reply-to; bh=dg7a3yJ7Y46Hs2A0lDvhjBLMBFSL49uGpvwk1usNz7c=; b=CKfKE6vOPN5CY3DaXpdFcKuGNoQPBLfZ/C9GwAkFXsi1E6Gu4xe6NmcMZWJbX4pDn7 y1x5PLe3UsoL8sX2ZZVpooDaMuUonn+S2H2KsWxznPPXEj6GGoLqdnTjW0842F1OmEwe dwbUUtjTCI1M+vJxZjjQZkM/j5sh+z+jqb5gw= X-Google-DKIM-Signature: v=1; a=rsa-sha256; c=relaxed/relaxed; d=1e100.net; s=20230601; t=1746528849; x=1747133649; h=cc:to:from:subject:message-id:date:x-gm-message-state:from:to:cc :subject:date:message-id:reply-to; bh=dg7a3yJ7Y46Hs2A0lDvhjBLMBFSL49uGpvwk1usNz7c=; b=fAEKJzhGBehRA/Qpn+ZpMCXN5l2uv9WzcQqUHG4g419SjlHzFz+GMGmZb9pFEhONEQ kQ2fhUXqnGF49BgCMrIGkn0ZX5A5QGRndvP+/yli1s4VE636QCFiUk8PmODzkH8Jz6dw bx9DlMFnVZret86zUShYTOkVRMDbIG/gAjryvjcnNlV143ZxfbxT5gMYaJR7rPtYbTJP ZnewXPxiYjOq4GTKrP5PDoSfWpO+Ojq+r7OPFNre8jf4BQY0UhtAKwHWxHeSAwsD29/F 1rWa6MpisEzxP/Ydzx3cCOTl7hcFG8+h3P6dDrstf61vRVfN+uHU3O1dtXaTHfplHjg9 IiGA== X-Gm-Message-State: AOJu0YwEFdmfYOO7pCAsv+hiOiDKID70+SykEoWmiRhHZdjGNXSMUjkJ NEeidpYHws/fqGTemnFGovdysMZJEU+Jvi+CceYlojI2/sPLVNIk5/578DDmhgTUaBeSw9IKwLF lLMB3NyXBQJMpV022fMv9Iy4aZ9c5Hx8K X-Gm-Gg: ASbGncusePUBsYLtklCrLlgeDoS/N19xcGGFUX60G95YmaoeUYEA77FJysedsT8qxU5 klwN6o23GZbDTkig79A35i1YJNs/kPFeOMOcUYuDy4HD06AcAvxwV1cPMxF6IUY7GxL/GNYz9rp PDflETL0A+ju+XDj0RZqQmf+ZzGbOg8XwhA/7iVBsRgNQCChkfgC9z6v24v8LNNMe5ZQG5CkGx9 KNc2bWDyWLekVPQgPQOQOAd4nPFHvVLffh/UaHH4ZhgUi+ULHFdzcgIcwUtxLx4OcEBQlklc+Tc zTzy3QyHdBv7H3hLLPAvIuSg2TQyWGbKWA3kT2WXu+9IYvEF15wDrEjal7I= X-Google-Smtp-Source: AGHT+IH+xmJIvHv0g9DiYcVEUlyEXJmYLjrbGoNMh8YjL60dcbI9jd+PHbqIpZirrWWIq29cXlmJtY13BxMX X-Received: by 2002:a17:903:120f:b0:220:eade:d77e with SMTP id d9443c01a7336-22e103559d3mr262097285ad.40.1746528849467; Tue, 06 May 2025 03:54:09 -0700 (PDT) Received: from postal.iol.unh.edu (postal.iol.unh.edu. [132.177.123.84]) by smtp-relay.gmail.com with ESMTPS id d9443c01a7336-22e150eb90csm17800985ad.19.2025.05.06.03.54.09 (version=TLS1_2 cipher=ECDHE-ECDSA-AES128-GCM-SHA256 bits=128/128); Tue, 06 May 2025 03:54:09 -0700 (PDT) X-Relaying-Domain: iol.unh.edu Date: Tue, 06 May 2025 03:54:09 -0700 (PDT) Message-ID: <6819ea51.170a0220.a4ab5.5fb1SMTPIN_ADDED_MISSING@mx.google.com> Received: from [172.21.0.6] (unknown [172.18.0.240]) by postal.iol.unh.edu (Postfix) with ESMTP id DE87B6052471; Tue, 6 May 2025 06:54:08 -0400 (EDT) Subject: |SUCCESS| [GIT MASTER] 83a7a648344674c0269fcaeb71d8d16468421a0e From: dpdklab@iol.unh.edu To: Test Report Cc: dpdk-test-reports@iol.unh.edu, Xueming Li , Christian Ehrhardt , Kevin Traynor , Luca Boccassi Content-Type: text/plain X-BeenThere: test-report@dpdk.org X-Mailman-Version: 2.1.29 Precedence: list List-Id: automatic DPDK test reports List-Unsubscribe: , List-Archive: List-Post: List-Help: List-Subscribe: , Errors-To: test-report-bounces@dpdk.org _Testing PASS_ Branch: tags/v23.11 83a7a648344674c0269fcaeb71d8d16468421a0e --> testing pass Upstream job id: Generic-Unit-Test-DPDK#335715 Test environment and result as below: +-------------------+----------------+ | Environment | dpdk_unit_test | +===================+================+ | CentOS Stream 9 | PASS | +-------------------+----------------+ | CentOS Stream 10 | PASS | +-------------------+----------------+ | Debian 12 | PASS | +-------------------+----------------+ | Fedora 40 (Clang) | PASS | +-------------------+----------------+ | Fedora 40 | PASS | +-------------------+----------------+ | Fedora 41 | PASS | +-------------------+----------------+ | Ubuntu 20.04 | PASS | +-------------------+----------------+ | Fedora 41 (Clang) | PASS | +-------------------+----------------+ | RHEL9 | PASS | +-------------------+----------------+ | RHEL8 | PASS | +-------------------+----------------+ | Ubuntu 22.04 | PASS | +-------------------+----------------+ | Ubuntu 24.04 | PASS | +-------------------+----------------+ CentOS Stream 9 Kernel: Depends on container host Compiler: gcc 11.5.0 20240719 (Red Hat 11.5.0-2) CentOS Stream 10 Kernel: Depends on container host Compiler: gcc 14.2.1 20241104 (Red Hat 14.2.1-6) Debian 12 Kernel: Depends on container host Compiler: gcc (Debian 12.2.0-14) 12.2.0 Fedora 40 (Clang) Kernel: Depends on container host Compiler: clang 18.1.8 (Fedora 18.1.8-1.fc40) Fedora 40 Kernel: Depends on container host Compiler: gcc 14.2.1 20240912 (Red Hat 14.2.1-3) Fedora 41 Kernel: Depends on container host Compiler: gcc 14.2.1 20240912 (Red Hat 14.2.1-3) Ubuntu 20.04 Kernel: Depends on container host Compiler: gcc (Ubuntu 9.4.0-1ubuntu1~20.04.2) 9.4.0 Fedora 41 (Clang) Kernel: Depends on container host Compiler: clang 19.1.5 (Fedora 19.1.5-1.fc41) RHEL9 Kernel: Depends on container host Compiler: gcc 11.5.0 20240719 (Red Hat 11.5.0-2) RHEL8 Kernel: Depends on container host Compiler: gcc 8.5.0 20210514 (Red Hat 8.5.0-22) Ubuntu 22.04 Kernel: Depends on container host Compiler: gcc (Ubuntu 11.4.0-1ubuntu1~22.04) 11.4.0 Ubuntu 24.04 Kernel: Depends on container host Compiler: gcc (Ubuntu 13.3.0-6ubuntu2~24.04) 13.3.0 To view detailed results, visit: https://lab.dpdk.org/results/dashboard/tarballs/33445/ UNH-IOL DPDK Community Lab To manage your email subscriptions, visit: https://lab.dpdk.org/results/dashboard/preferences/subscriptions/