From mboxrd@z Thu Jan 1 00:00:00 1970 Return-Path: Received: from mails.dpdk.org (mails.dpdk.org [217.70.189.124]) by inbox.dpdk.org (Postfix) with ESMTP id BDE8A466D9 for ; Tue, 6 May 2025 13:08:52 +0200 (CEST) Received: from mails.dpdk.org (localhost [127.0.0.1]) by mails.dpdk.org (Postfix) with ESMTP id AE1AC40269; Tue, 6 May 2025 13:08:52 +0200 (CEST) Received: from mail-yw1-f227.google.com (mail-yw1-f227.google.com [209.85.128.227]) by mails.dpdk.org (Postfix) with ESMTP id D0A7F40150 for ; Tue, 6 May 2025 13:08:51 +0200 (CEST) Received: by mail-yw1-f227.google.com with SMTP id 00721157ae682-7082ad1355bso42313047b3.1 for ; Tue, 06 May 2025 04:08:51 -0700 (PDT) DKIM-Signature: v=1; a=rsa-sha256; c=relaxed/relaxed; d=iol.unh.edu; s=unh-iol; t=1746529731; x=1747134531; darn=dpdk.org; h=references:in-reply-to:cc:to:from:subject:message-id:date:from:to :cc:subject:date:message-id:reply-to; bh=pWs8n0dQDt8WiHhlxEwo34qx3Fm6CmwrmjNB/TuuAf4=; b=ibV64jszhRbKlCleeNtWNztaNdobf2IEoFtmEmtrKY/mM6k6+0OrsvR61Bc7FSHdkS oLsFfUwkSizMSFXO1fWop0gvMJ22ISGWdt80ef3uO2eCyhVchag2ZzcOLXWcrk8apbvg qRsCX33zoPnYFcyP3mokdsnwh8+Tinb/Y4hMc= X-Google-DKIM-Signature: v=1; a=rsa-sha256; c=relaxed/relaxed; d=1e100.net; s=20230601; t=1746529731; x=1747134531; h=references:in-reply-to:cc:to:from:subject:message-id:date :x-gm-message-state:from:to:cc:subject:date:message-id:reply-to; bh=pWs8n0dQDt8WiHhlxEwo34qx3Fm6CmwrmjNB/TuuAf4=; b=QQvymbJoh9Xdu82Qz+31FYV6jBdGyQGooUwN78AZ3vujE2hD/EXIeTCmb6S4Ule19A bblPHarA6g0kmPoYxiej2l2Z3Cht6GIhwoUcvrX8fLURK7cHpkA1wo+xoqYUEn7iZj7Z m1skFGMe+b9X8U5C5u72bOyc7i4wU428glgxS/jwuqw2byw19bPZoRqpzqW2Bjd/v2vO 6moPYahmoG3H7Lr7Qe5nswOK2DMYy7/TudhQeLmK7cs4eR168MA1GBh0yV/SqlangD2p KvwD2aM5B7ARCuBxalEzf/N1bTMAGBRcdpT/f29PXXN/6XpThvnn7j1a4fqY0vv9m65n Ddgw== X-Gm-Message-State: AOJu0YyTk7HaotALedJSCscCv/wS/RXXTb2uWXxGSPFCrwsPy3BPFpQD XBaPoJjkC5Gthyra0Rwcqw7UoaJJTmD3Eg0nykHSHRtHMc5dGFCcRXtnFm0WlG5tNLdHnjLcxZO HuhdYi58NIMUrumPTxt9o3LCwknh9ljclQHz0RXwBik3qNDCvK5kkNgf0 X-Gm-Gg: ASbGncsFVpFCv9nhmyB+E53zscSyLaJjomM+vJgsFCJ8914SkDgKNE2IU3AQl2g8xnO 2dwWGgXN1L46TJ2U5XSoBKnba0at54cvtaleM+P+dbPGFbqnItWe/RwoBje+PUg4yMa1IuDMEbl XV4HBF7ph25YyTiEDJyTZayEXI0Eje6gBvPscRx9cGJFStKe9/ZdzoGZ2Vy4F1QSqY41HiSrlZA B4kWPiE33Jvl4Kh3O4H8tmTDU3pOtOdfs4y2OB1H3TGaOKJA3Tk2F+h2Mp/v6h59PKj3NpnCu1E vDYfAZNUz7WX65vWQWqmVuGlqBZ+IjAd6YDQ X-Google-Smtp-Source: AGHT+IFip2Op3H5FlWMJvKgV1+ASUIQgfrJQeNN6veT9iuG8KBMutcmPztdqXJruZwsppJ3GExwQlRvf5I3A X-Received: by 2002:a05:690c:600a:b0:708:7b42:7b98 with SMTP id 00721157ae682-708cf033a4dmr187894647b3.9.1746529731122; Tue, 06 May 2025 04:08:51 -0700 (PDT) Received: from postal.iol.unh.edu (postal.iol.unh.edu. [2606:4100:3880:1234::84]) by smtp-relay.gmail.com with ESMTPS id 00721157ae682-708c412d83dsm19754447b3.22.2025.05.06.04.08.51 (version=TLS1_2 cipher=ECDHE-ECDSA-AES128-GCM-SHA256 bits=128/128); Tue, 06 May 2025 04:08:51 -0700 (PDT) X-Relaying-Domain: iol.unh.edu Date: Tue, 06 May 2025 04:08:51 -0700 (PDT) Message-ID: <6819edc3.050a0220.3da7ae.5684SMTPIN_ADDED_MISSING@mx.google.com> Received: from [172.21.0.6] (unknown [172.18.0.240]) by postal.iol.unh.edu (Postfix) with ESMTP id AFF9E6052471; Tue, 6 May 2025 07:08:50 -0400 (EDT) Subject: |SUCCESS| pw153303 [PATCH] eal: add getline() function for Windows From: dpdklab@iol.unh.edu To: Test Report Cc: dpdk-test-reports@iol.unh.edu In-Reply-To: <1746477607-14961-1-git-send-email-andremue@linux.microsoft.com> References: <1746477607-14961-1-git-send-email-andremue@linux.microsoft.com> Content-Type: text/plain X-BeenThere: test-report@dpdk.org X-Mailman-Version: 2.1.29 Precedence: list List-Id: automatic DPDK test reports List-Unsubscribe: , List-Archive: List-Post: List-Help: List-Subscribe: , Errors-To: test-report-bounces@dpdk.org Test-Label: iol-unit-amd64-testing Test-Status: SUCCESS http://dpdk.org/patch/153303 _Testing PASS_ Submitter: Andre Muezerie Date: Monday, May 05 2025 20:40:07 DPDK git baseline: Repo:dpdk Branch: master CommitID:ca1690ebd224f148268285b15b97441ccdbdd07e 153303 --> testing pass Upstream job id: Generic-VM-Unit-Test-DPDK#28345 Test environment and result as below: +---------------------+----------------+ | Environment | dpdk_unit_test | +=====================+================+ | Debian 12 | PASS | +---------------------+----------------+ | CentOS Stream 9 | PASS | +---------------------+----------------+ | CentOS Stream 10 | PASS | +---------------------+----------------+ | Fedora 40 | PASS | +---------------------+----------------+ | Fedora 40 (Clang) | PASS | +---------------------+----------------+ | Fedora 41 | PASS | +---------------------+----------------+ | Fedora 41 (Clang) | PASS | +---------------------+----------------+ | RHEL9 | PASS | +---------------------+----------------+ | RHEL8 | PASS | +---------------------+----------------+ | Ubuntu 20.04 | PASS | +---------------------+----------------+ | Ubuntu 24.04 | PASS | +---------------------+----------------+ | Ubuntu 22.04 | PASS | +---------------------+----------------+ | Windows Server 2022 | PASS | +---------------------+----------------+ Debian 12 Kernel: Depends on container host Compiler: gcc (Debian 12.2.0-14) 12.2.0 CentOS Stream 9 Kernel: Depends on container host Compiler: gcc 11.5.0 20240719 (Red Hat 11.5.0-2) CentOS Stream 10 Kernel: Depends on container host Compiler: gcc 14.2.1 20241104 (Red Hat 14.2.1-6) Fedora 40 Kernel: Depends on container host Compiler: gcc 14.2.1 20240912 (Red Hat 14.2.1-3) Fedora 40 (Clang) Kernel: Depends on container host Compiler: clang 18.1.8 (Fedora 18.1.8-1.fc40) Fedora 41 Kernel: Depends on container host Compiler: gcc 14.2.1 20240912 (Red Hat 14.2.1-3) Fedora 41 (Clang) Kernel: Depends on container host Compiler: clang 19.1.5 (Fedora 19.1.5-1.fc41) RHEL9 Kernel: Depends on container host Compiler: gcc 11.5.0 20240719 (Red Hat 11.5.0-2) RHEL8 Kernel: Depends on container host Compiler: gcc 8.5.0 20210514 (Red Hat 8.5.0-22) Ubuntu 20.04 Kernel: Depends on container host Compiler: gcc (Ubuntu 9.4.0-1ubuntu1~20.04.2) 9.4.0 Ubuntu 24.04 Kernel: Depends on container host Compiler: gcc (Ubuntu 13.3.0-6ubuntu2~24.04) 13.3.0 Ubuntu 22.04 Kernel: Depends on container host Compiler: gcc (Ubuntu 11.4.0-1ubuntu1~22.04) 11.4.0 Windows Server 2022 Kernel: 10.0.20348.2031 Compiler: clang 15.0.7, gcc 14.1.0 (MinGW), and MSVC VS 19.39.33521 To view detailed results, visit: https://lab.dpdk.org/results/dashboard/patchsets/33116/ UNH-IOL DPDK Community Lab To manage your email subscriptions, visit: https://lab.dpdk.org/results/dashboard/preferences/subscriptions/