From mboxrd@z Thu Jan 1 00:00:00 1970 Return-Path: Received: from mails.dpdk.org (mails.dpdk.org [217.70.189.124]) by inbox.dpdk.org (Postfix) with ESMTP id 5A40A466D9 for ; Tue, 6 May 2025 13:44:40 +0200 (CEST) Received: from mails.dpdk.org (localhost [127.0.0.1]) by mails.dpdk.org (Postfix) with ESMTP id 54D1140269; Tue, 6 May 2025 13:44:40 +0200 (CEST) Received: from mail-pl1-f226.google.com (mail-pl1-f226.google.com [209.85.214.226]) by mails.dpdk.org (Postfix) with ESMTP id 7C4C640150 for ; Tue, 6 May 2025 13:44:39 +0200 (CEST) Received: by mail-pl1-f226.google.com with SMTP id d9443c01a7336-224019ad9edso81968255ad.1 for ; Tue, 06 May 2025 04:44:39 -0700 (PDT) DKIM-Signature: v=1; a=rsa-sha256; c=relaxed/relaxed; d=iol.unh.edu; s=unh-iol; t=1746531878; x=1747136678; darn=dpdk.org; h=cc:to:from:subject:message-id:date:from:to:cc:subject:date :message-id:reply-to; bh=zdXUqGsxLYqZr4jqJTAjSeEXrLKXcfpD5ff65+zJCTY=; b=EW4Xlcxt1x4H+hjmP+o+YR6HrY92VtuEzq2Qa6iYUfpAWmHSXoiWCdHM3l3wFRIwJz 7xWaybEZS+/b6iuspWWRW+bUc9N4yQbgpkgtrwsCCfn6v25bFojyxtcEJtiuBB9s0w79 LAszfgYvl554LNz2as3ViU94Xu1YGxSwO7beU= X-Google-DKIM-Signature: v=1; a=rsa-sha256; c=relaxed/relaxed; d=1e100.net; s=20230601; t=1746531878; x=1747136678; h=cc:to:from:subject:message-id:date:x-gm-message-state:from:to:cc :subject:date:message-id:reply-to; bh=zdXUqGsxLYqZr4jqJTAjSeEXrLKXcfpD5ff65+zJCTY=; b=GyhdoceacIG+bHP1jvLK9Q/G7QxAsfZCtfhR0jjsE8et1kfBV/PBM8xjgwr5GRodff RTO3wmHauS9t8z+MPFdMtTRlBPpiBQ9xHuyjntj3fEcFGra4WX+ufwnlwNvmIl0PGICT E5grENxfW0nCSsPXtjraNjUuBG8INLINnmNyQnKtVfAsMLQvUhrpniM2cB7x0rsnobtS IAKB0TeMWyGYiqYqMwI7J/0quq+qX4jH2Z3NKVnKH9zmolSWyFnjk+Lz7XmICakfxNn8 Q0VO1FIA/2KgyfM/YYyQdatKBeRU/nfMI2nM5wFHS9UjQHLV/gUN+74keLnFmpspHuKd bNrQ== X-Gm-Message-State: AOJu0YwRdSa0IsRcf4JxLvy/Ij5wQE3SUOXl3tuuG3zgffVEMy6d+Y0p MYY0P1QjkIpMg9UsavCvKOH/9VUvXBQw5RwsW1AMN7yj7iGMSiau2Bel6uuEjB5lgOnaRtYA4oh yfJPzQjAkQld/cjWHFWoQVbVk4Zwev87HkVm+KV6ticjGMxEd X-Gm-Gg: ASbGncvcDkW+e/6MPFhCdufK9jLuJr+/1WuHFjKez/AAjwxf+0F0an0SV+00e+E4mAS s254lAfISzdhFSuU9Lxx93mU7+acuh1PtVjDlWMu4Mmwl23wRBLUcOvl4zljFEngK1oPdq93A9/ SL3Gcf0mj85+6p7MtGq233TXHU5jXI9agcIqj5gjM7nwdkgxZZkCXCXhL+pU6XKr1Ij31y2sFka rOGrmO3ebi262l5X9xoIot1WdIcHJ2eJhhH6mbXGHdeofOGMHYl1PQr+QqsrIVAI9yD6KcSKXxL fGZJRgQ5HoPgwOWPxWb55kfWRCVShAdZtUQH X-Google-Smtp-Source: AGHT+IGqgAW0tyAFGFAzRklGn49JuzT5R5DAMz1iKtls2nwjbL+ltyBHK0COFQslak158NQ46wWMOkCMGHek X-Received: by 2002:a17:903:228d:b0:223:6744:bfb9 with SMTP id d9443c01a7336-22e36394216mr36603535ad.41.1746531878649; Tue, 06 May 2025 04:44:38 -0700 (PDT) Received: from postal.iol.unh.edu (postal.iol.unh.edu. [2606:4100:3880:1234::84]) by smtp-relay.gmail.com with ESMTPS id d9443c01a7336-22e151f28aasm17491815ad.63.2025.05.06.04.44.38 (version=TLS1_2 cipher=ECDHE-ECDSA-AES128-GCM-SHA256 bits=128/128); Tue, 06 May 2025 04:44:38 -0700 (PDT) X-Relaying-Domain: iol.unh.edu Date: Tue, 06 May 2025 04:44:38 -0700 (PDT) Message-ID: <6819f626.170a0220.f7dfa.5e6eSMTPIN_ADDED_MISSING@mx.google.com> Received: from [172.21.0.11] (unknown [172.18.0.240]) by postal.iol.unh.edu (Postfix) with ESMTP id C60C06052471; Tue, 6 May 2025 07:44:37 -0400 (EDT) Subject: |SUCCESS| [GIT MASTER] 4401486b5e30d43a134f80f9802f60b5f43e74a8 From: dpdklab@iol.unh.edu To: Test Report Cc: dpdk-test-reports@iol.unh.edu, Xueming Li , Christian Ehrhardt , Kevin Traynor , Luca Boccassi Content-Type: text/plain X-BeenThere: test-report@dpdk.org X-Mailman-Version: 2.1.29 Precedence: list List-Id: automatic DPDK test reports List-Unsubscribe: , List-Archive: List-Post: List-Help: List-Subscribe: , Errors-To: test-report-bounces@dpdk.org _Testing PASS_ Branch: tags/v22.11 4401486b5e30d43a134f80f9802f60b5f43e74a8 --> testing pass Upstream job id: Generic-Unit-Test-DPDK#335732 Test environment and result as below: +-----------------------------+--------------+------------------------------+---------------------------+----------------+ | Environment | lpm_autotest | cryptodev_sw_snow3g_autotest | cryptodev_sw_zuc_autotest | dpdk_unit_test | +=============================+==============+==============================+===========================+================+ | Ubuntu 20.04 ARM SVE | PASS | SKIPPED | SKIPPED | SKIPPED | +-----------------------------+--------------+------------------------------+---------------------------+----------------+ | Debian 12 (arm) | SKIPPED | PASS | PASS | SKIPPED | +-----------------------------+--------------+------------------------------+---------------------------+----------------+ | 32-bit Ubuntu 22.04.4 (ARM) | SKIPPED | SKIPPED | SKIPPED | PASS | +-----------------------------+--------------+------------------------------+---------------------------+----------------+ Ubuntu 20.04 ARM SVE Kernel: Depends on container host Compiler: gcc (Ubuntu 10.5.0-1ubuntu1~20.04) 10.5.0 Debian 12 (arm) Kernel: Depends on container host Compiler: gcc (Debian 12.2.0-14) 12.2.0 32-bit Ubuntu 22.04.4 (ARM) Kernel: 5.15.83+ aarch64 Compiler: gcc (Ubuntu 11.4.0-1ubuntu1~22.04) 11.4.0 To view detailed results, visit: https://lab.dpdk.org/results/dashboard/tarballs/33446/ UNH-IOL DPDK Community Lab To manage your email subscriptions, visit: https://lab.dpdk.org/results/dashboard/preferences/subscriptions/