From mboxrd@z Thu Jan 1 00:00:00 1970 Return-Path: Received: from mails.dpdk.org (mails.dpdk.org [217.70.189.124]) by inbox.dpdk.org (Postfix) with ESMTP id 9F390466D9 for ; Tue, 6 May 2025 13:46:57 +0200 (CEST) Received: from mails.dpdk.org (localhost [127.0.0.1]) by mails.dpdk.org (Postfix) with ESMTP id 9B30F40269; Tue, 6 May 2025 13:46:57 +0200 (CEST) Received: from mail-pg1-f227.google.com (mail-pg1-f227.google.com [209.85.215.227]) by mails.dpdk.org (Postfix) with ESMTP id 6F09C40150 for ; Tue, 6 May 2025 13:46:56 +0200 (CEST) Received: by mail-pg1-f227.google.com with SMTP id 41be03b00d2f7-b1fcb97d209so1986620a12.1 for ; Tue, 06 May 2025 04:46:56 -0700 (PDT) DKIM-Signature: v=1; a=rsa-sha256; c=relaxed/relaxed; d=iol.unh.edu; s=unh-iol; t=1746532015; x=1747136815; darn=dpdk.org; h=cc:to:from:subject:message-id:date:from:to:cc:subject:date :message-id:reply-to; bh=nRe/0gsEWex1JEi6Yz/lFhmVUwPHbKjGfyXJTJAm+TY=; b=ZvER42jGvCMUeez1baiM5frrMoMt2IAYSPLpx7aUt7YnteFYGjkX7y3eGCh3wKtgTz WCAEDtqd/LqSDitr2xerlI9nY1Mh6IScYV2T7I3q63MtwMtUCouiowhRJV34K9Xb2G4D WmWzkfN78V7iflfD7D5VuiZeIBZp37YSDfpco= X-Google-DKIM-Signature: v=1; a=rsa-sha256; c=relaxed/relaxed; d=1e100.net; s=20230601; t=1746532015; x=1747136815; h=cc:to:from:subject:message-id:date:x-gm-message-state:from:to:cc :subject:date:message-id:reply-to; bh=nRe/0gsEWex1JEi6Yz/lFhmVUwPHbKjGfyXJTJAm+TY=; b=EahJhtMchhruTCXCeyJw+zWq8EKVBX7v8a6zlvsP4tMBYWZOGyC3Uv2PRQxE8BJT6m LiZz0S7yX95h1WYctbosfuzQ/YsHhTx8kZSVp/43bXcR0ZST2NnbkVOOGIGoEjVkOs3y u86ZGPX3J6Ql1A2rI/4tondkqS5MCEizK7IFIERFcSFlSEChlUrfupoSOXRRHrmcEjwK ++AyIgpt09BaW3iYCZTkR3q+myNvEbcp5wXe/bmN0LmbfxtLpGL1ebvF4A4KQUOm6npS MxkTUJLOVLxbCCFbN8xrED18qJVUzNDWlTsEHFgyy8xqoFTV/E1MMcGcRcy+PZWj7gUv wcgQ== X-Gm-Message-State: AOJu0YxbBuNJrjTOlL8RylaPl8sQjFWFvkPsB8uzvWhkA0z6EFE7v9bo ngP7m/fmbUcLQb5LHD/RS0YVAp9udAzn8cAhsjIamvGOpUlMjPBH//QXE1WAlvEi5GfvE1M8i9w 5TcO5V2yBNpj4oIvEtpFgX2LEWbB92iOfW6DA90x2LHOd9557 X-Gm-Gg: ASbGnct2C4xMXD5YI0AkNhhqtXadC8sXYvwe5etErTK5T+tD4I3cQB+P3d/is8KMhlB HU+dGlw7nRRZmdSMvfw2iRJqFJddD8zAQgIyHkpOyEuuVYJg3a7oQvJPg9XZu9N8m8qJAzOGiRH vFBpvak+88wDW+te7fTtcjEJJ9aOQ3THfTO8+rK4NuIuNXIFP3TvwYfBFgTIscCis63XQsnhcns seTc5x8FUSDOCx4LU1jVBBi3GNXSKkozboaSn4niC+YWFEllmMig6xzwjsGTO5DVUtR9QRtunHT HTtadzgD4D8bGUfpNWX5SS/X4MppBVqRLp7q X-Google-Smtp-Source: AGHT+IFUSCpU3w6mD7MuMyt7CnX3pYYJpYAJVimQqgoOQtgE/3X7xC3NkhYFvQvBDFxUJnK0AEJLE7L4EwiA X-Received: by 2002:a17:902:ecc4:b0:220:fe36:650c with SMTP id d9443c01a7336-22e328077efmr43095035ad.23.1746532015333; Tue, 06 May 2025 04:46:55 -0700 (PDT) Received: from postal.iol.unh.edu (postal.iol.unh.edu. [2606:4100:3880:1234::84]) by smtp-relay.gmail.com with ESMTPS id d9443c01a7336-22e151f1b0asm18057095ad.55.2025.05.06.04.46.55 (version=TLS1_2 cipher=ECDHE-ECDSA-AES128-GCM-SHA256 bits=128/128); Tue, 06 May 2025 04:46:55 -0700 (PDT) X-Relaying-Domain: iol.unh.edu Date: Tue, 06 May 2025 04:46:55 -0700 (PDT) Message-ID: <6819f6af.170a0220.2abf75.6d00SMTPIN_ADDED_MISSING@mx.google.com> Received: from [172.21.0.11] (unknown [172.18.0.240]) by postal.iol.unh.edu (Postfix) with ESMTP id 832176052471; Tue, 6 May 2025 07:46:54 -0400 (EDT) Subject: |SUCCESS| [GIT MASTER] 83a7a648344674c0269fcaeb71d8d16468421a0e From: dpdklab@iol.unh.edu To: Test Report Cc: dpdk-test-reports@iol.unh.edu, Xueming Li , Christian Ehrhardt , Kevin Traynor , Luca Boccassi Content-Type: text/plain X-BeenThere: test-report@dpdk.org X-Mailman-Version: 2.1.29 Precedence: list List-Id: automatic DPDK test reports List-Unsubscribe: , List-Archive: List-Post: List-Help: List-Subscribe: , Errors-To: test-report-bounces@dpdk.org _Testing PASS_ Branch: tags/v23.11 83a7a648344674c0269fcaeb71d8d16468421a0e --> testing pass Upstream job id: Generic-DPDK-Compile-Meson#385499 Test environment and result as below: +------------------------------------+--------------------+ | Environment | dpdk_meson_compile | +====================================+====================+ | RHEL9 (ARM) | PASS | +------------------------------------+--------------------+ | Ubuntu 20.04 ARM GCC Cross Compile | PASS | +------------------------------------+--------------------+ | Ubuntu 20.04 ARM SVE | PASS | +------------------------------------+--------------------+ | Debian 12 with MUSDK | PASS | +------------------------------------+--------------------+ | Fedora 40 (ARM Clang) | PASS | +------------------------------------+--------------------+ | Fedora 40 (ARM) | PASS | +------------------------------------+--------------------+ | Fedora 41 (ARM) | PASS | +------------------------------------+--------------------+ | Ubuntu 20.04 (ARM) | PASS | +------------------------------------+--------------------+ | Fedora 41 (ARM Clang) | PASS | +------------------------------------+--------------------+ | Ubuntu 22.04 (ARM) | PASS | +------------------------------------+--------------------+ | Ubuntu 24.04 (ARM) | PASS | +------------------------------------+--------------------+ | CentOS Stream 9 (ARM) | PASS | +------------------------------------+--------------------+ | CentOS Stream 10 (ARM) | PASS | +------------------------------------+--------------------+ | Debian 12 (arm) | PASS | +------------------------------------+--------------------+ RHEL9 (ARM) Kernel: Depends on container host Compiler: gcc 11.5.0 20240719 (Red Hat 11.5.0-2) Ubuntu 20.04 ARM GCC Cross Compile Kernel: Depends on container host Compiler: aarch64-linux-gnu-gcc (Ubuntu 9.4.0-1ubuntu1~20.04.2) 9.4.0 Ubuntu 20.04 ARM SVE Kernel: Depends on container host Compiler: gcc (Ubuntu 10.5.0-1ubuntu1~20.04) 10.5.0 Debian 12 with MUSDK Kernel: Depends on container host Compiler: gcc (Debian 12.2.0-14) 12.2.0 Fedora 40 (ARM Clang) Kernel: Depends on container host Compiler: clang 18.1.8 (Fedora 18.1.8-1.fc40) Fedora 40 (ARM) Kernel: Depends on container host Compiler: gcc 14.2.1 20240912 (Red Hat 14.2.1-3) Fedora 41 (ARM) Kernel: Depends on container host Compiler: gcc 14.2.1 20240912 (Red Hat 14.2.1-3) Ubuntu 20.04 (ARM) Kernel: Depends on container host Compiler: gcc (Ubuntu 9.4.0-1ubuntu1~20.04.2) 9.4.0 Fedora 41 (ARM Clang) Kernel: Depends on container host Compiler: clang 19.1.5 (Fedora 19.1.5-1.fc41) Ubuntu 22.04 (ARM) Kernel: Depends on container host Compiler: gcc (Ubuntu 11.4.0-1ubuntu1~22.04) 11.4.0 Ubuntu 24.04 (ARM) Kernel: Depends on container host Compiler: gcc (Ubuntu 13.3.0-6ubuntu2~24.04) 13.3.0 CentOS Stream 9 (ARM) Kernel: Depends on container host Compiler: gcc 11.5.0 20240719 (Red Hat 11.5.0-2) CentOS Stream 10 (ARM) Kernel: Depends on container host Compiler: gcc 14.2.1 20241104 (Red Hat 14.2.1-6) Debian 12 (arm) Kernel: Depends on container host Compiler: gcc (Debian 12.2.0-14) 12.2.0 To view detailed results, visit: https://lab.dpdk.org/results/dashboard/tarballs/33445/ UNH-IOL DPDK Community Lab To manage your email subscriptions, visit: https://lab.dpdk.org/results/dashboard/preferences/subscriptions/