From mboxrd@z Thu Jan 1 00:00:00 1970 Return-Path: Received: from mails.dpdk.org (mails.dpdk.org [217.70.189.124]) by inbox.dpdk.org (Postfix) with ESMTP id 3382C466D9 for ; Tue, 6 May 2025 13:50:50 +0200 (CEST) Received: from mails.dpdk.org (localhost [127.0.0.1]) by mails.dpdk.org (Postfix) with ESMTP id 2D02440269; Tue, 6 May 2025 13:50:50 +0200 (CEST) Received: from mail-yw1-f227.google.com (mail-yw1-f227.google.com [209.85.128.227]) by mails.dpdk.org (Postfix) with ESMTP id D54B240150 for ; Tue, 6 May 2025 13:50:48 +0200 (CEST) Received: by mail-yw1-f227.google.com with SMTP id 00721157ae682-6ff4faf858cso38014867b3.2 for ; Tue, 06 May 2025 04:50:48 -0700 (PDT) DKIM-Signature: v=1; a=rsa-sha256; c=relaxed/relaxed; d=iol.unh.edu; s=unh-iol; t=1746532248; x=1747137048; darn=dpdk.org; h=references:in-reply-to:cc:to:from:subject:message-id:date:from:to :cc:subject:date:message-id:reply-to; bh=QDDXk/0l5+QaDGUs7bxYRI36UXN5ut22YYCjs+u2gws=; b=dH/bOgAk+h2lZS7mG+wXmBnNVCdxHUEcjhND9SsI7voEbT+eVpdvg6lGSRMmvSZROZ nLPMi2ghK1M5sxbbxOCalQR7Te+fOPJvJZ/7RFOp08+PUbPfkBXlYa6vuxwci0/mWVui jpuCWxXoFTm6Bz0gWnf+C8Uq/Le4wd3ov8gt0= X-Google-DKIM-Signature: v=1; a=rsa-sha256; c=relaxed/relaxed; d=1e100.net; s=20230601; t=1746532248; x=1747137048; h=references:in-reply-to:cc:to:from:subject:message-id:date :x-gm-message-state:from:to:cc:subject:date:message-id:reply-to; bh=QDDXk/0l5+QaDGUs7bxYRI36UXN5ut22YYCjs+u2gws=; b=bjhy2G1AqLUe5Stw13aXhHp3+7Ht2/gnhjjWQkI35E9o/jlcEbuinJQoXxc8yCUN3J d9zTn9VhvZva0VlQUj7T3DgUQa4U870KRZqm5UHnKvJ0KHFmbznuowHrmz+HyTwQohYG fPor74+NoPUPVl7d4yvGs082KMsIQbSlwox7wCat1KkmpSIqQlpY6S/Aq8l7Uh8rEHuz 8Tc5yFvJlxTdCHOjvewtbOJuvSPL9v1qOHpWulSA1GCim3FxkDAJaHDAZ7xNKVByfZ9T lykeCEh9vEbUN208PWnYLnPDL/gDRG36ZGR/YQsfQMEN9daTEdXgMZ58nXF/arUaAhmw wypA== X-Gm-Message-State: AOJu0YwS3x/fRluMnL1HaneSKPufqPhhww6wIfYMKKVLOo508ho7OEfl /eeXk0ETVjWVnJZ1CD9oMkjQCCRm2DOEJ7938vNF0yeZFrzvQBZjUp0MC3SJCLYgBZ/+m4nRVKg W2m7LlFMZPXVjVd/k/nNulXklWrwVul1kaHsnZfw8QPkgmiyD8wWa/phe X-Gm-Gg: ASbGncu7Ku2ZwoR/qWZVxCyUsqd1SRg3NL0Aj1AVR30YWoL5MqwRdbgAxn3epUWXJOD xsxtbfnHDkaofFAAO3qrL9hFm0B5Z9nfPrBSku/AKzGZzUC2PEy7XPZma9v7ERQi3LsBzAAN2AE 0/U0qeSSkFh4h6HqN65DeCnS/e8SnJ9tvzYPkOSn5ChGwRnmlWVw0TQMtNoVfB1F5Ofv8AEtjBn BYKdGwfbVIGxG/sZV63FvlqPywPoePKU4v6vrrmO8f2lmt5HSuggYyuBazxKSJ2pdfUxhRVU33M KnMvUFx4jmLrEZdsNAbtGI0qp8afw6OIX8fF X-Google-Smtp-Source: AGHT+IEQpm3g6ph0W6OBP8rkZ/xiKHarlakHiJ5/AmN0YQMOZDfxMwAxKSvwdmEmxdn0Ht5k0JM0hIB9ATfs X-Received: by 2002:a05:690c:30b:b0:702:5134:aab0 with SMTP id 00721157ae682-708eaf6d7d2mr144701117b3.32.1746532248208; Tue, 06 May 2025 04:50:48 -0700 (PDT) Received: from postal.iol.unh.edu (postal.iol.unh.edu. [2606:4100:3880:1234::84]) by smtp-relay.gmail.com with ESMTPS id 00721157ae682-708c3f11b61sm19827257b3.8.2025.05.06.04.50.48 (version=TLS1_2 cipher=ECDHE-ECDSA-AES128-GCM-SHA256 bits=128/128); Tue, 06 May 2025 04:50:48 -0700 (PDT) X-Relaying-Domain: iol.unh.edu Date: Tue, 06 May 2025 04:50:48 -0700 (PDT) Message-ID: <6819f798.050a0220.fcadc.326dSMTPIN_ADDED_MISSING@mx.google.com> Received: from [172.21.0.6] (unknown [172.18.0.240]) by postal.iol.unh.edu (Postfix) with ESMTP id C4BDD6052471; Tue, 6 May 2025 07:50:47 -0400 (EDT) Subject: |SUCCESS| pw153303 [PATCH] eal: add getline() function for Windows From: dpdklab@iol.unh.edu To: Test Report Cc: dpdk-test-reports@iol.unh.edu In-Reply-To: <1746477607-14961-1-git-send-email-andremue@linux.microsoft.com> References: <1746477607-14961-1-git-send-email-andremue@linux.microsoft.com> Content-Type: text/plain X-BeenThere: test-report@dpdk.org X-Mailman-Version: 2.1.29 Precedence: list List-Id: automatic DPDK test reports List-Unsubscribe: , List-Archive: List-Post: List-Help: List-Subscribe: , Errors-To: test-report-bounces@dpdk.org Test-Label: iol-unit-amd64-testing Test-Status: SUCCESS http://dpdk.org/patch/153303 _Testing PASS_ Submitter: Andre Muezerie Date: Monday, May 05 2025 20:40:07 DPDK git baseline: Repo:dpdk Branch: master CommitID:ca1690ebd224f148268285b15b97441ccdbdd07e 153303 --> testing pass Upstream job id: Generic-VM-Unit-Test-DPDK#28346 Test environment and result as below: +---------------------+----------------+ | Environment | dpdk_unit_test | +=====================+================+ | Debian 12 | PASS | +---------------------+----------------+ | CentOS Stream 9 | PASS | +---------------------+----------------+ | CentOS Stream 10 | PASS | +---------------------+----------------+ | Fedora 40 | PASS | +---------------------+----------------+ | Fedora 40 (Clang) | PASS | +---------------------+----------------+ | Fedora 41 | PASS | +---------------------+----------------+ | Fedora 41 (Clang) | PASS | +---------------------+----------------+ | RHEL9 | PASS | +---------------------+----------------+ | RHEL8 | PASS | +---------------------+----------------+ | Ubuntu 20.04 | PASS | +---------------------+----------------+ | Ubuntu 24.04 | PASS | +---------------------+----------------+ | Ubuntu 22.04 | PASS | +---------------------+----------------+ | Windows Server 2022 | PASS | +---------------------+----------------+ Debian 12 Kernel: Depends on container host Compiler: gcc (Debian 12.2.0-14) 12.2.0 CentOS Stream 9 Kernel: Depends on container host Compiler: gcc 11.5.0 20240719 (Red Hat 11.5.0-2) CentOS Stream 10 Kernel: Depends on container host Compiler: gcc 14.2.1 20241104 (Red Hat 14.2.1-6) Fedora 40 Kernel: Depends on container host Compiler: gcc 14.2.1 20240912 (Red Hat 14.2.1-3) Fedora 40 (Clang) Kernel: Depends on container host Compiler: clang 18.1.8 (Fedora 18.1.8-1.fc40) Fedora 41 Kernel: Depends on container host Compiler: gcc 14.2.1 20240912 (Red Hat 14.2.1-3) Fedora 41 (Clang) Kernel: Depends on container host Compiler: clang 19.1.5 (Fedora 19.1.5-1.fc41) RHEL9 Kernel: Depends on container host Compiler: gcc 11.5.0 20240719 (Red Hat 11.5.0-2) RHEL8 Kernel: Depends on container host Compiler: gcc 8.5.0 20210514 (Red Hat 8.5.0-22) Ubuntu 20.04 Kernel: Depends on container host Compiler: gcc (Ubuntu 9.4.0-1ubuntu1~20.04.2) 9.4.0 Ubuntu 24.04 Kernel: Depends on container host Compiler: gcc (Ubuntu 13.3.0-6ubuntu2~24.04) 13.3.0 Ubuntu 22.04 Kernel: Depends on container host Compiler: gcc (Ubuntu 11.4.0-1ubuntu1~22.04) 11.4.0 Windows Server 2022 Kernel: 10.0.20348.2031 Compiler: clang 15.0.7, gcc 14.1.0 (MinGW), and MSVC VS 19.39.33521 To view detailed results, visit: https://lab.dpdk.org/results/dashboard/patchsets/33116/ UNH-IOL DPDK Community Lab To manage your email subscriptions, visit: https://lab.dpdk.org/results/dashboard/preferences/subscriptions/