From: dpdklab@iol.unh.edu
To: Test Report <test-report@dpdk.org>
Cc: dpdk-test-reports@iol.unh.edu
Subject: |SUCCESS| pw153297 [PATCH] common/mlx5: use intrinsics instead of in
Date: Tue, 06 May 2025 04:52:27 -0700 (PDT) [thread overview]
Message-ID: <6819f7fb.050a0220.30f39e.a3a4SMTPIN_ADDED_MISSING@mx.google.com> (raw)
In-Reply-To: <1746457062-8502-1-git-send-email-andremue@linux.microsoft.com>
Test-Label: iol-sample-apps-testing
Test-Status: SUCCESS
http://dpdk.org/patch/153297
_Testing PASS_
Submitter: Andre Muezerie <andremue@linux.microsoft.com>
Date: Monday, May 05 2025 14:57:42
DPDK git baseline: Repo:dpdk
Branch: master
CommitID:edd3f4b1265e6da707c46ca9b6c39d332647baea
153297 --> testing pass
Upstream job id: ACVP-FIPS-testing#9716
Test environment and result as below:
+--------------------+----------------------+----------------------+
| Environment | compressdev_zlib_pmd | dpdk_fips_validation |
+====================+======================+======================+
| Ubuntu 22.04 (ARM) | PASS | SKIPPED |
+--------------------+----------------------+----------------------+
| Ubuntu 22.04 | PASS | SKIPPED |
+--------------------+----------------------+----------------------+
| Ubuntu 20.04 | SKIPPED | PASS |
+--------------------+----------------------+----------------------+
Ubuntu 22.04 (ARM)
Kernel: 5.15.0-97-generic
Compiler: gcc gcc (Ubuntu 11.4.0-1ubuntu1~22.04) 11.4.0
Ubuntu 22.04
Kernel: 5.15.0-100-generic
Compiler: gcc gcc (Ubuntu 11.4.0-1ubuntu1~22.04) 11.4.0
Ubuntu 20.04
Kernel: Depends on container host
Compiler: gcc (Ubuntu 9.4.0-1ubuntu1~20.04.2) 9.4.0
To view detailed results, visit:
https://lab.dpdk.org/results/dashboard/patchsets/33110/
UNH-IOL DPDK Community Lab
To manage your email subscriptions, visit:
https://lab.dpdk.org/results/dashboard/preferences/subscriptions/
prev parent reply other threads:[~2025-05-06 11:52 UTC|newest]
Thread overview: 18+ messages / expand[flat|nested] mbox.gz Atom feed top
[not found] <1746457062-8502-1-git-send-email-andremue@linux.microsoft.com>
2025-05-05 14:29 ` |SUCCESS| pw153297 [PATCH] common/mlx5: use intrinsics instead of inline assembly qemudev
2025-05-05 14:33 ` qemudev
2025-05-05 14:59 ` |WARNING| " checkpatch
2025-05-05 15:44 ` |SUCCESS| " 0-day Robot
2025-05-05 18:10 ` |SUCCESS| pw153297 [PATCH] common/mlx5: use intrinsics instead of in dpdklab
2025-05-05 18:23 ` dpdklab
2025-05-05 18:23 ` dpdklab
2025-05-05 18:26 ` dpdklab
2025-05-05 18:28 ` dpdklab
2025-05-05 18:29 ` dpdklab
2025-05-05 18:37 ` dpdklab
2025-05-05 19:19 ` dpdklab
2025-05-05 19:40 ` |PENDING| " dpdklab
2025-05-05 19:42 ` |SUCCESS| " dpdklab
2025-05-05 20:23 ` dpdklab
2025-05-05 21:10 ` |PENDING| " dpdklab
2025-05-05 21:28 ` dpdklab
2025-05-06 11:52 ` dpdklab [this message]
Reply instructions:
You may reply publicly to this message via plain-text email
using any one of the following methods:
* Save the following mbox file, import it into your mail client,
and reply-to-all from there: mbox
Avoid top-posting and favor interleaved quoting:
https://en.wikipedia.org/wiki/Posting_style#Interleaved_style
* Reply using the --to, --cc, and --in-reply-to
switches of git-send-email(1):
git send-email \
--in-reply-to=6819f7fb.050a0220.30f39e.a3a4SMTPIN_ADDED_MISSING@mx.google.com \
--to=dpdklab@iol.unh.edu \
--cc=dpdk-test-reports@iol.unh.edu \
--cc=test-report@dpdk.org \
/path/to/YOUR_REPLY
https://kernel.org/pub/software/scm/git/docs/git-send-email.html
* If your mail client supports setting the In-Reply-To header
via mailto: links, try the mailto: link
Be sure your reply has a Subject: header at the top and a blank line
before the message body.
This is a public inbox, see mirroring instructions
for how to clone and mirror all data and code used for this inbox;
as well as URLs for NNTP newsgroup(s).