From mboxrd@z Thu Jan 1 00:00:00 1970 Return-Path: Received: from mails.dpdk.org (mails.dpdk.org [217.70.189.124]) by inbox.dpdk.org (Postfix) with ESMTP id 5DB49466D9 for ; Tue, 6 May 2025 13:52:29 +0200 (CEST) Received: from mails.dpdk.org (localhost [127.0.0.1]) by mails.dpdk.org (Postfix) with ESMTP id 5874740269; Tue, 6 May 2025 13:52:29 +0200 (CEST) Received: from mail-oa1-f100.google.com (mail-oa1-f100.google.com [209.85.160.100]) by mails.dpdk.org (Postfix) with ESMTP id 4310940150 for ; Tue, 6 May 2025 13:52:28 +0200 (CEST) Received: by mail-oa1-f100.google.com with SMTP id 586e51a60fabf-2d4f832069bso2503673fac.3 for ; Tue, 06 May 2025 04:52:28 -0700 (PDT) DKIM-Signature: v=1; a=rsa-sha256; c=relaxed/relaxed; d=iol.unh.edu; s=unh-iol; t=1746532347; x=1747137147; darn=dpdk.org; h=references:in-reply-to:cc:to:from:subject:message-id:date:from:to :cc:subject:date:message-id:reply-to; bh=2UWi6GZCTFXqAzur9icwBmO35nCin1tB3QiRHzQu5Mo=; b=fj9y9jxJpDSg4LBgpeRVOUlgJocY81DLMoqOsucwU+U+1A2Ni5xbapCXfvHuXR2r7E yTSgzIzuwam98QrJAH5auItXtV7FuYl7fbgxEYNciebn5hpnOy3OdM+D9jZVo5V96vov b/32Ejq/3m4nPXQjKYhhyPk38ST9JDxRxY+2Y= X-Google-DKIM-Signature: v=1; a=rsa-sha256; c=relaxed/relaxed; d=1e100.net; s=20230601; t=1746532347; x=1747137147; h=references:in-reply-to:cc:to:from:subject:message-id:date :x-gm-message-state:from:to:cc:subject:date:message-id:reply-to; bh=2UWi6GZCTFXqAzur9icwBmO35nCin1tB3QiRHzQu5Mo=; b=cEqLU3NgdkMpW3uhbgjp37dFkPbvzlAaPupkjICjTExlYQSs7INSqayv11Ef9EqPVu BPfq9+u6O6zyyqdS3Au3CXgt/yPIJDxEAQRiBTqpyCMvixh3qqMwDBY1xOxNMGgjUpyr OHD7BEGOxBsQZTGASgm+6G9d3bYRgZ32HsRPh244thXVPRI130VpVQ3WkWEQCCv92vwg ks+ZuinNwNQetN6X38qy/usU8nIVDcrpFWFLEW3NBgWGP1VeDo2gjaQ9GPAwqWhmG7uR nL5X4qwpMkXHz8Cj1tEeXgJoxD4C1QcyumvILfaEH3Q/qGm0MGW6xgkEtcuRHh2gQYks CJhA== X-Gm-Message-State: AOJu0YyTldJd6ITIrnzpTLbnfGGIlV6UAQwmKPWzCrVOmm6pqTGeHADD JjHdimjnTOIsHowjtUsoUukiAuVHqqv58zyIv+PE8kHjona/cwCPhgRJWzK3NzUXzhu2reArUZa W+Y48Y7bLWetbPrDoX+PCKNBiPWFGNgXLyW7NTBwZ X-Gm-Gg: ASbGncuSCnb3WnHdm6uQs6hZVB+CapoAwMrex3t2MysWQCKeQUyOTJNYhHkwvaDawb1 c3Pc7pt54dKb53q8xal7B6Z9G6s/LQryRQDLUZVInzZrt+D6v7JKOGTfh++0rD6GQBIeqQtNoqc htoqmQyziolcPzG/CyXGjtREZo/UQJunqJPWYYFYp4UQoOcpAlmB95QanAkjcmY6liqbU9kvfwY 3jWHzfBb9BImAyrE8FO1ogYkmTshGUosYVZtsy/pfhsMPcxE3wPbDW760wH2zsINs6jintOPxbB EPCbqmFeVoTy+r2z8VwbuwxH/G3eaK8/SzBjBKVIDWS3Ar6zRKHpyGyWlJg= X-Google-Smtp-Source: AGHT+IEPbQCAwSPlJz3mVl9iCenLjjpndm5zzze45NcsV6kcVPF8h7tQa9SklXE44xSHz8y2gXAoBUaOd/sQ X-Received: by 2002:a05:6871:339f:b0:2b3:55b3:e38 with SMTP id 586e51a60fabf-2dab3077375mr8446782fac.21.1746532347418; Tue, 06 May 2025 04:52:27 -0700 (PDT) Received: from postal.iol.unh.edu (postal.iol.unh.edu. [132.177.123.84]) by smtp-relay.gmail.com with ESMTPS id 586e51a60fabf-2daa0efe04asm2224648fac.16.2025.05.06.04.52.27 (version=TLS1_2 cipher=ECDHE-ECDSA-AES128-GCM-SHA256 bits=128/128); Tue, 06 May 2025 04:52:27 -0700 (PDT) X-Relaying-Domain: iol.unh.edu Date: Tue, 06 May 2025 04:52:27 -0700 (PDT) Message-ID: <6819f7fb.050a0220.30f39e.a3a4SMTPIN_ADDED_MISSING@mx.google.com> Received: from [172.21.0.11] (unknown [172.18.0.240]) by postal.iol.unh.edu (Postfix) with ESMTP id E099D6052471; Tue, 6 May 2025 07:52:26 -0400 (EDT) Subject: |SUCCESS| pw153297 [PATCH] common/mlx5: use intrinsics instead of in From: dpdklab@iol.unh.edu To: Test Report Cc: dpdk-test-reports@iol.unh.edu In-Reply-To: <1746457062-8502-1-git-send-email-andremue@linux.microsoft.com> References: <1746457062-8502-1-git-send-email-andremue@linux.microsoft.com> Content-Type: text/plain X-BeenThere: test-report@dpdk.org X-Mailman-Version: 2.1.29 Precedence: list List-Id: automatic DPDK test reports List-Unsubscribe: , List-Archive: List-Post: List-Help: List-Subscribe: , Errors-To: test-report-bounces@dpdk.org Test-Label: iol-sample-apps-testing Test-Status: SUCCESS http://dpdk.org/patch/153297 _Testing PASS_ Submitter: Andre Muezerie Date: Monday, May 05 2025 14:57:42 DPDK git baseline: Repo:dpdk Branch: master CommitID:edd3f4b1265e6da707c46ca9b6c39d332647baea 153297 --> testing pass Upstream job id: ACVP-FIPS-testing#9716 Test environment and result as below: +--------------------+----------------------+----------------------+ | Environment | compressdev_zlib_pmd | dpdk_fips_validation | +====================+======================+======================+ | Ubuntu 22.04 (ARM) | PASS | SKIPPED | +--------------------+----------------------+----------------------+ | Ubuntu 22.04 | PASS | SKIPPED | +--------------------+----------------------+----------------------+ | Ubuntu 20.04 | SKIPPED | PASS | +--------------------+----------------------+----------------------+ Ubuntu 22.04 (ARM) Kernel: 5.15.0-97-generic Compiler: gcc gcc (Ubuntu 11.4.0-1ubuntu1~22.04) 11.4.0 Ubuntu 22.04 Kernel: 5.15.0-100-generic Compiler: gcc gcc (Ubuntu 11.4.0-1ubuntu1~22.04) 11.4.0 Ubuntu 20.04 Kernel: Depends on container host Compiler: gcc (Ubuntu 9.4.0-1ubuntu1~20.04.2) 9.4.0 To view detailed results, visit: https://lab.dpdk.org/results/dashboard/patchsets/33110/ UNH-IOL DPDK Community Lab To manage your email subscriptions, visit: https://lab.dpdk.org/results/dashboard/preferences/subscriptions/