From mboxrd@z Thu Jan 1 00:00:00 1970 Return-Path: Received: from mails.dpdk.org (mails.dpdk.org [217.70.189.124]) by inbox.dpdk.org (Postfix) with ESMTP id 17B03466DA for ; Tue, 6 May 2025 14:19:15 +0200 (CEST) Received: from mails.dpdk.org (localhost [127.0.0.1]) by mails.dpdk.org (Postfix) with ESMTP id 064A840269; Tue, 6 May 2025 14:19:15 +0200 (CEST) Received: from mail-pl1-f226.google.com (mail-pl1-f226.google.com [209.85.214.226]) by mails.dpdk.org (Postfix) with ESMTP id 5E25040150 for ; Tue, 6 May 2025 14:19:14 +0200 (CEST) Received: by mail-pl1-f226.google.com with SMTP id d9443c01a7336-227d6b530d8so51664765ad.3 for ; Tue, 06 May 2025 05:19:14 -0700 (PDT) DKIM-Signature: v=1; a=rsa-sha256; c=relaxed/relaxed; d=iol.unh.edu; s=unh-iol; t=1746533953; x=1747138753; darn=dpdk.org; h=references:in-reply-to:cc:to:from:subject:message-id:date:from:to :cc:subject:date:message-id:reply-to; bh=5Bmb44iWkjKz1HWeGpzEQrj3GBTK/i5MEUKrpeOdigE=; b=Os0rVd7lcj7o5H1RdshKcrDcNf9tdiRy6Lwfc+WaS2hvWHdZ3WuRMHLQqVnGsjbpA7 NOBPCNMje21YxBrTg16RR2PnjmW27qjtk5A11GXFbYwgBI6rlJ/oDTQuDGYWvg0FBz2o WDUQWSEd7D0EMAF6dW6slwvf4hTrgjpHk11YY= X-Google-DKIM-Signature: v=1; a=rsa-sha256; c=relaxed/relaxed; d=1e100.net; s=20230601; t=1746533953; x=1747138753; h=references:in-reply-to:cc:to:from:subject:message-id:date :x-gm-message-state:from:to:cc:subject:date:message-id:reply-to; bh=5Bmb44iWkjKz1HWeGpzEQrj3GBTK/i5MEUKrpeOdigE=; b=lqRbolSo8nfXAVSQx91iCxXcHVhsj4SUWC4YPx+bIVth+EuJ8aWq+cwauxjazL8Z4Y 7+fFgV+CAXWITBp0xHcniVtqyVMZXMtSDDGRRyEGl8E1/VocJuGl+zo+MJV3X6M6NvJn +wJhxvZ+PT9E3q7iHDyjMVYooOLO8+Ly09G6HySmQijwTlbe4QcNzgv6j6vqfiEfwqcV 5ljOcIs8ADEj5Y+aznWz9QG7B0SP8pF5jWBhwpbCfpF1ezPK7NVcy03EtWXI99xDeGk0 ZWATJ/a2q3SCPufa/U5N0zhPNmrasmJtdhXwb6shXOcEFwq7Af80SabPhKp4YE/WfRli roJA== X-Gm-Message-State: AOJu0YxdO9fAa3qcEHyBB0dzwbIRdfpGSoPZ0oHIm7pIMUPJ8/IyLBcX WjWN2Qoxlq+QqBJGX7ViLbLTjGutHA1znCjlu37opFIiSb+FVhdeqipwPsfX3DwvNny+HXfN6i7 f0DpdAGC1krFhRHwt5226fICLaB/YeR6w9gNFitNW X-Gm-Gg: ASbGncvUiiTkNyaj23Y5h9AkD89HurDz3KSJkQXMEK2BRdpFNco78Qyyq4ATWspXJf/ EVy2Kmb8tVONKmGRLWDyk7wPR3MXXvKNdkLeSqtUAKwvR4Ig5uYNLe6RkQst2b9dvI/KanZddg6 Pc5HpDPnmlMG3GV9K7CKUkaEgdDtFsgsKFAuphM/zulFRiwxVkCZoBwnnGxWi//V27g7s9iiXed T8pBzdfCcGFeAuxsMYLcGC+Ctomzh4MIDKmh41xQkMUiclhBIwNYYcEL+fey1s8urfmM4+NN9U1 i3/HrnF1EV7aZIfpltmOW+dskPmPL4FH3ykfUb9oDMUBLZKE850Pz2u8e4o= X-Google-Smtp-Source: AGHT+IFgSQPA7Ag0CI0l6s7CA/gR74RWkWDLcBxxsneisAMSxmGZ6t+6Z+2hUIrAnb+V+3zO42Ie4RaXwpZJ X-Received: by 2002:a17:903:1aa3:b0:224:76f:9e4a with SMTP id d9443c01a7336-22e102d01ebmr262374995ad.14.1746533953448; Tue, 06 May 2025 05:19:13 -0700 (PDT) Received: from postal.iol.unh.edu (postal.iol.unh.edu. [132.177.123.84]) by smtp-relay.gmail.com with ESMTPS id d9443c01a7336-22e151ea16dsm17748965ad.41.2025.05.06.05.19.13 (version=TLS1_2 cipher=ECDHE-ECDSA-AES128-GCM-SHA256 bits=128/128); Tue, 06 May 2025 05:19:13 -0700 (PDT) X-Relaying-Domain: iol.unh.edu Date: Tue, 06 May 2025 05:19:13 -0700 (PDT) Message-ID: <6819fe41.170a0220.1c9e66.4f24SMTPIN_ADDED_MISSING@mx.google.com> Received: from [172.21.0.6] (unknown [172.18.0.240]) by postal.iol.unh.edu (Postfix) with ESMTP id A592E6052471; Tue, 6 May 2025 08:19:12 -0400 (EDT) Subject: |SUCCESS| pw153305 [PATCH] net/ice: fix support for 3 scheduler leve From: dpdklab@iol.unh.edu To: Test Report Cc: dpdk-test-reports@iol.unh.edu In-Reply-To: <20250506103414.892849-1-bruce.richardson@intel.com> References: <20250506103414.892849-1-bruce.richardson@intel.com> Content-Type: text/plain X-BeenThere: test-report@dpdk.org X-Mailman-Version: 2.1.29 Precedence: list List-Id: automatic DPDK test reports List-Unsubscribe: , List-Archive: List-Post: List-Help: List-Subscribe: , Errors-To: test-report-bounces@dpdk.org Test-Label: iol-unit-amd64-testing Test-Status: SUCCESS http://dpdk.org/patch/153305 _Testing PASS_ Submitter: Bruce Richardson Date: Tuesday, May 06 2025 10:34:14 DPDK git baseline: Repo:dpdk Branch: master CommitID:2665bfb9838fec7ea6c3b2be5831f93ee087b288 153305 --> testing pass Upstream job id: Generic-Unit-Test-DPDK#335752 Test environment and result as below: +-------------------+----------------+ | Environment | dpdk_unit_test | +===================+================+ | CentOS Stream 9 | PASS | +-------------------+----------------+ | CentOS Stream 10 | PASS | +-------------------+----------------+ | Fedora 40 | PASS | +-------------------+----------------+ | Debian 12 | PASS | +-------------------+----------------+ | RHEL8 | PASS | +-------------------+----------------+ | RHEL9 | PASS | +-------------------+----------------+ | Fedora 40 (Clang) | PASS | +-------------------+----------------+ | Fedora 41 (Clang) | PASS | +-------------------+----------------+ | Fedora 41 | PASS | +-------------------+----------------+ | Ubuntu 20.04 | PASS | +-------------------+----------------+ | Ubuntu 24.04 | PASS | +-------------------+----------------+ | Ubuntu 22.04 | PASS | +-------------------+----------------+ CentOS Stream 9 Kernel: Depends on container host Compiler: gcc 11.5.0 20240719 (Red Hat 11.5.0-2) CentOS Stream 10 Kernel: Depends on container host Compiler: gcc 14.2.1 20241104 (Red Hat 14.2.1-6) Fedora 40 Kernel: Depends on container host Compiler: gcc 14.2.1 20240912 (Red Hat 14.2.1-3) Debian 12 Kernel: Depends on container host Compiler: gcc (Debian 12.2.0-14) 12.2.0 RHEL8 Kernel: Depends on container host Compiler: gcc 8.5.0 20210514 (Red Hat 8.5.0-22) RHEL9 Kernel: Depends on container host Compiler: gcc 11.5.0 20240719 (Red Hat 11.5.0-2) Fedora 40 (Clang) Kernel: Depends on container host Compiler: clang 18.1.8 (Fedora 18.1.8-1.fc40) Fedora 41 (Clang) Kernel: Depends on container host Compiler: clang 19.1.5 (Fedora 19.1.5-1.fc41) Fedora 41 Kernel: Depends on container host Compiler: gcc 14.2.1 20240912 (Red Hat 14.2.1-3) Ubuntu 20.04 Kernel: Depends on container host Compiler: gcc (Ubuntu 9.4.0-1ubuntu1~20.04.2) 9.4.0 Ubuntu 24.04 Kernel: Depends on container host Compiler: gcc (Ubuntu 13.3.0-6ubuntu2~24.04) 13.3.0 Ubuntu 22.04 Kernel: Depends on container host Compiler: gcc (Ubuntu 11.4.0-1ubuntu1~22.04) 11.4.0 To view detailed results, visit: https://lab.dpdk.org/results/dashboard/patchsets/33118/ UNH-IOL DPDK Community Lab To manage your email subscriptions, visit: https://lab.dpdk.org/results/dashboard/preferences/subscriptions/