From mboxrd@z Thu Jan 1 00:00:00 1970 Return-Path: Received: from mails.dpdk.org (mails.dpdk.org [217.70.189.124]) by inbox.dpdk.org (Postfix) with ESMTP id 1B2EB466DA for ; Tue, 6 May 2025 14:19:29 +0200 (CEST) Received: from mails.dpdk.org (localhost [127.0.0.1]) by mails.dpdk.org (Postfix) with ESMTP id 1653F40269; Tue, 6 May 2025 14:19:29 +0200 (CEST) Received: from mail-pf1-f228.google.com (mail-pf1-f228.google.com [209.85.210.228]) by mails.dpdk.org (Postfix) with ESMTP id 1C64040150 for ; Tue, 6 May 2025 14:19:28 +0200 (CEST) Received: by mail-pf1-f228.google.com with SMTP id d2e1a72fcca58-73bf1cef6ceso5498694b3a.0 for ; Tue, 06 May 2025 05:19:28 -0700 (PDT) DKIM-Signature: v=1; a=rsa-sha256; c=relaxed/relaxed; d=iol.unh.edu; s=unh-iol; t=1746533967; x=1747138767; darn=dpdk.org; h=references:in-reply-to:cc:to:from:subject:message-id:date:from:to :cc:subject:date:message-id:reply-to; bh=sXjpxS+zWLuFxrI01OX3J61FYW4kLCJLqL6Vw9bcnGs=; b=fTKRL/McZ/UXDB6je0Q9yI+MyaFOyE4VVyJ/WyI0qLUmtuPoTFxWg5SqKoIOVjueGK KTbAEZQY9hRJlW0HJ5qOSKtBUJ93qm541/ZY93KXAYXzmKYFvGS0tGyKomr3PiahqKKx O6oVJLaCoVj+sGiPQaPEeF8o+BWYD0UOoZRw0= X-Google-DKIM-Signature: v=1; a=rsa-sha256; c=relaxed/relaxed; d=1e100.net; s=20230601; t=1746533967; x=1747138767; h=references:in-reply-to:cc:to:from:subject:message-id:date :x-gm-message-state:from:to:cc:subject:date:message-id:reply-to; bh=sXjpxS+zWLuFxrI01OX3J61FYW4kLCJLqL6Vw9bcnGs=; b=SLzPVW5ZxrJK+CPQijKCnIiuK/HqoxRu3QtY/AR6M8rUQXUrlPmLR0X4nKW3lKsbPs 363Yl6BBILND6PxjxHUwUf1dzQLD9EKBJrnA6ySlN00/zbk16Qz+Ve1m9sTpbYUY1kUE 5ZqDAVVbEiq0DdZNYsexUtvxRmkdyAlDetebXIcurBcYLpxZ7/J4i7cMVQK2lvRaMYZs 8+39cO3Zmaq7G8aRR/es6CzOpC8ochrVR65DTcJ3lp3eH8e5wWNv8fK0QjnlsQEfZkW4 9YNsj1GC+LzpzBEAxz2fW18qVRZpC0NqYGtdA9jOmgmPOa4BjZ9hZLjNa9iH0UN16jcB +r/g== X-Gm-Message-State: AOJu0YwvwrHg18o26t4bMgaGiX4Ti8nM0kBfyCOSPLDUFwi/BEJl6JRv 11waCluecmkITiUDoqBd6w5syGvLd4AVPmOXBwKWS+Ae5B7WWOUIClBGOBl044ESE5oSj7Yh6Oo MiIOW2o7pp248QZYJ1QE0QRMuGYfDcvkM+VedP8hf X-Gm-Gg: ASbGncsikBU+Xamp2wXHo0PB1F4JgKcOxTSj9VmcjfX0na4iOhQ71IgA/jBdIvTv2PT D037jyYEnO+nreGaSyxNW3/Iylm17+eTIcZgi/jm9QpoDhaiLRAnR0wea1Yiaf4PSI84gXFBgPy u5d285mi/c93Vm3qGKSQbEy/n58mbz9fRGhrhx2GSzBOzICU9P/vI8inU/zrs32AG70AU1dwA+y jBw2Nuke8moI08wZpmorMrjYHFBsAcTW2dlT9bjwcPLFppViRVmWYGP3wnyRbt1aA+7gudFQ6pq 62FF2LEBpb5Y8dpP9aLeKe+jYbHVKoFt3SDi+94oYrl3oqSxZfmVWH/1VlQ= X-Google-Smtp-Source: AGHT+IG629ZK81d7hivuVPHY4vhG3Ms8LBjZ4x84/Sw6GNqtUe1nGJvThYf//nMjZdmBMzV3hbnwuQZU1azv X-Received: by 2002:a05:6a00:1d8f:b0:736:6ac4:d204 with SMTP id d2e1a72fcca58-7406f0d9ea2mr13063422b3a.11.1746533967189; Tue, 06 May 2025 05:19:27 -0700 (PDT) Received: from postal.iol.unh.edu (postal.iol.unh.edu. [132.177.123.84]) by smtp-relay.gmail.com with ESMTPS id d2e1a72fcca58-74059021e3esm2115906b3a.16.2025.05.06.05.19.27 (version=TLS1_2 cipher=ECDHE-ECDSA-AES128-GCM-SHA256 bits=128/128); Tue, 06 May 2025 05:19:27 -0700 (PDT) X-Relaying-Domain: iol.unh.edu Date: Tue, 06 May 2025 05:19:27 -0700 (PDT) Message-ID: <6819fe4f.050a0220.2831a4.ad84SMTPIN_ADDED_MISSING@mx.google.com> Received: from [172.21.0.14] (unknown [172.18.0.240]) by postal.iol.unh.edu (Postfix) with ESMTP id 5D6B76052471; Tue, 6 May 2025 08:19:26 -0400 (EDT) Subject: |SUCCESS| pw153305 [PATCH] net/ice: fix support for 3 scheduler leve From: dpdklab@iol.unh.edu To: Test Report Cc: dpdk-test-reports@iol.unh.edu In-Reply-To: <20250506103414.892849-1-bruce.richardson@intel.com> References: <20250506103414.892849-1-bruce.richardson@intel.com> Content-Type: text/plain X-BeenThere: test-report@dpdk.org X-Mailman-Version: 2.1.29 Precedence: list List-Id: automatic DPDK test reports List-Unsubscribe: , List-Archive: List-Post: List-Help: List-Subscribe: , Errors-To: test-report-bounces@dpdk.org Test-Label: iol-unit-arm64-testing Test-Status: SUCCESS http://dpdk.org/patch/153305 _Testing PASS_ Submitter: Bruce Richardson Date: Tuesday, May 06 2025 10:34:14 DPDK git baseline: Repo:dpdk Branch: master CommitID:2665bfb9838fec7ea6c3b2be5831f93ee087b288 153305 --> testing pass Upstream job id: Generic-Unit-Test-DPDK#335744 Test environment and result as below: +------------------------+----------------+ | Environment | dpdk_unit_test | +========================+================+ | CentOS Stream 9 (ARM) | PASS | +------------------------+----------------+ | Fedora 40 (ARM) | PASS | +------------------------+----------------+ | Debian 12 (arm) | PASS | +------------------------+----------------+ | CentOS Stream 10 (ARM) | PASS | +------------------------+----------------+ | RHEL9 (ARM) | PASS | +------------------------+----------------+ | Fedora 41 (ARM Clang) | PASS | +------------------------+----------------+ | Fedora 41 (ARM) | PASS | +------------------------+----------------+ | Fedora 40 (ARM Clang) | PASS | +------------------------+----------------+ | Ubuntu 24.04 (ARM) | PASS | +------------------------+----------------+ | Ubuntu 22.04 (ARM) | PASS | +------------------------+----------------+ | Ubuntu 20.04 (ARM) | PASS | +------------------------+----------------+ CentOS Stream 9 (ARM) Kernel: Depends on container host Compiler: gcc 11.5.0 20240719 (Red Hat 11.5.0-2) Fedora 40 (ARM) Kernel: Depends on container host Compiler: gcc 14.2.1 20240912 (Red Hat 14.2.1-3) Debian 12 (arm) Kernel: Depends on container host Compiler: gcc (Debian 12.2.0-14) 12.2.0 CentOS Stream 10 (ARM) Kernel: Depends on container host Compiler: gcc 14.2.1 20241104 (Red Hat 14.2.1-6) RHEL9 (ARM) Kernel: Depends on container host Compiler: gcc 11.5.0 20240719 (Red Hat 11.5.0-2) Fedora 41 (ARM Clang) Kernel: Depends on container host Compiler: clang 19.1.5 (Fedora 19.1.5-1.fc41) Fedora 41 (ARM) Kernel: Depends on container host Compiler: gcc 14.2.1 20240912 (Red Hat 14.2.1-3) Fedora 40 (ARM Clang) Kernel: Depends on container host Compiler: clang 18.1.8 (Fedora 18.1.8-1.fc40) Ubuntu 24.04 (ARM) Kernel: Depends on container host Compiler: gcc (Ubuntu 13.3.0-6ubuntu2~24.04) 13.3.0 Ubuntu 22.04 (ARM) Kernel: Depends on container host Compiler: gcc (Ubuntu 11.4.0-1ubuntu1~22.04) 11.4.0 Ubuntu 20.04 (ARM) Kernel: Depends on container host Compiler: gcc (Ubuntu 9.4.0-1ubuntu1~20.04.2) 9.4.0 To view detailed results, visit: https://lab.dpdk.org/results/dashboard/patchsets/33118/ UNH-IOL DPDK Community Lab To manage your email subscriptions, visit: https://lab.dpdk.org/results/dashboard/preferences/subscriptions/