From mboxrd@z Thu Jan 1 00:00:00 1970 Return-Path: Received: from mails.dpdk.org (mails.dpdk.org [217.70.189.124]) by inbox.dpdk.org (Postfix) with ESMTP id 29C72466DA for ; Tue, 6 May 2025 14:19:38 +0200 (CEST) Received: from mails.dpdk.org (localhost [127.0.0.1]) by mails.dpdk.org (Postfix) with ESMTP id 23EEE40269; Tue, 6 May 2025 14:19:38 +0200 (CEST) Received: from mail-il1-f225.google.com (mail-il1-f225.google.com [209.85.166.225]) by mails.dpdk.org (Postfix) with ESMTP id 8584140150 for ; Tue, 6 May 2025 14:19:37 +0200 (CEST) Received: by mail-il1-f225.google.com with SMTP id e9e14a558f8ab-3da6f787fc9so1911285ab.0 for ; Tue, 06 May 2025 05:19:37 -0700 (PDT) DKIM-Signature: v=1; a=rsa-sha256; c=relaxed/relaxed; d=iol.unh.edu; s=unh-iol; t=1746533977; x=1747138777; darn=dpdk.org; h=references:in-reply-to:cc:to:from:subject:message-id:date:from:to :cc:subject:date:message-id:reply-to; bh=WGeCfUF6KTED5udz65TMGohe7R7gnV4n0dULh880kZw=; b=dNZG2K8ZHzJRp4BhPyfqSVZCbIb1woxgXkWlwuPu60UCAHud4yuD+1jCWDotacr3Zx h3uS3tXgO1hbYdjtUHYQnq/tG1HJrw+xeNpv2xA9yZqb4Uzj9jNivtV+QspP1S67+7IU iC0tPqy4JfjyuLjOXl3APTX8wQfj+t6liCRjY= X-Google-DKIM-Signature: v=1; a=rsa-sha256; c=relaxed/relaxed; d=1e100.net; s=20230601; t=1746533977; x=1747138777; h=references:in-reply-to:cc:to:from:subject:message-id:date :x-gm-message-state:from:to:cc:subject:date:message-id:reply-to; bh=WGeCfUF6KTED5udz65TMGohe7R7gnV4n0dULh880kZw=; b=pl58kyQ2wqRrdyh3sJBDEvWEU8FtBb+fYEUqXlLsSPz3DJtJ1em3fdyEejI57Bmq5B VXl53kQIJUAdptZer42/QCdpDkPVVUFFHe2O3Wipgv6KQlkcqDZ59zmLCH0f3uvMDJx4 JtFHncENQi6wnhOeJCmB3PsntsgQtO/dpjX+KYNAn2bqxl0hlF2xLxVHuNwPddnXXk/N dKoqLJTF3rFr0DwmxZJG6MM2X0nVVYHUg9zj8J/80Loyxp/Z5SUZbnk87LpQx2BRN7v3 zHviAqYuOia6b1jBImdx/hKzacfBlNQsWn1SD7Ncbq1Mpfe8IEEmQKgWQv/AXJCCp5Yi hDXg== X-Gm-Message-State: AOJu0Yx3qfsGXD9cX1tG5kzqzYQKTOIQUlz9UPPs0xhjZHFrMBPE34lb wbaPRBSeyjArdAG8fQNjSkk3goyuR0HugboGJY/LonjebjQ/CujKeV+3t5P5PmcSKowg1iwUVq+ L7IBS6hxc4zi80uVMnn6tUcSm1aWIGkHWRfyhR+7Y X-Gm-Gg: ASbGnct18erkYKq9aM83su2bMY1LlCVKeUwv31O+odigFI9zHPiyCZKCVXED3aHohwE VdIKyQQenCiGY7SlcWpYZ0ehm71GyJBoFjQIiId1tG4tHyLIBzD5Sk7WhvpIdBYrgNiy6W47K+I vSQ07f/NQN8Mzi326XBSs1bo4frtdkA8iojiXwHzH34UytVL93evJnZmbAfbYw/jIy3mU9H64+l 7kl3gckLQWoOxAod5y+y78F2xsI3zNvGfVDNhmZLSdmy83z76oCUGLKTDYz5skkYNOKmGrqQ1uo WYIg7xfWhRat/I07YwC0xnbCbK5HGsS4FCj2nL5PmU3eZiHIR768CQz5TjI= X-Google-Smtp-Source: AGHT+IGCYOubwAH4OQIq7Bu1RhNZWsYjRf4bc4cmfnJ4IKqa5h9EKcBf1S6gF1d3rz/q0NgfOxLLBdyuxatO X-Received: by 2002:a05:6e02:178f:b0:3d5:8103:1a77 with SMTP id e9e14a558f8ab-3d97c158b39mr178365715ab.1.1746533976829; Tue, 06 May 2025 05:19:36 -0700 (PDT) Received: from postal.iol.unh.edu (postal.iol.unh.edu. [132.177.123.84]) by smtp-relay.gmail.com with ESMTPS id 8926c6da1cb9f-4f88aa97b79sm2107374173.64.2025.05.06.05.19.36 (version=TLS1_2 cipher=ECDHE-ECDSA-AES128-GCM-SHA256 bits=128/128); Tue, 06 May 2025 05:19:36 -0700 (PDT) X-Relaying-Domain: iol.unh.edu Date: Tue, 06 May 2025 05:19:36 -0700 (PDT) Message-ID: <6819fe58.050a0220.2dab27.a3eeSMTPIN_ADDED_MISSING@mx.google.com> Received: from [172.21.0.6] (unknown [172.18.0.240]) by postal.iol.unh.edu (Postfix) with ESMTP id 3F0D26052471; Tue, 6 May 2025 08:19:36 -0400 (EDT) Subject: |SUCCESS| pw153305 [PATCH] net/ice: fix support for 3 scheduler leve From: dpdklab@iol.unh.edu To: Test Report Cc: dpdk-test-reports@iol.unh.edu In-Reply-To: <20250506103414.892849-1-bruce.richardson@intel.com> References: <20250506103414.892849-1-bruce.richardson@intel.com> Content-Type: text/plain X-BeenThere: test-report@dpdk.org X-Mailman-Version: 2.1.29 Precedence: list List-Id: automatic DPDK test reports List-Unsubscribe: , List-Archive: List-Post: List-Help: List-Subscribe: , Errors-To: test-report-bounces@dpdk.org Test-Label: iol-unit-amd64-testing Test-Status: SUCCESS http://dpdk.org/patch/153305 _Testing PASS_ Submitter: Bruce Richardson Date: Tuesday, May 06 2025 10:34:14 DPDK git baseline: Repo:dpdk Branch: master CommitID:2665bfb9838fec7ea6c3b2be5831f93ee087b288 153305 --> testing pass Upstream job id: Generic-Unit-Test-DPDK#335754 Test environment and result as below: +-------------------+----------------+ | Environment | dpdk_unit_test | +===================+================+ | CentOS Stream 9 | PASS | +-------------------+----------------+ | CentOS Stream 10 | PASS | +-------------------+----------------+ | Fedora 40 | PASS | +-------------------+----------------+ | Debian 12 | PASS | +-------------------+----------------+ | RHEL8 | PASS | +-------------------+----------------+ | RHEL9 | PASS | +-------------------+----------------+ | Fedora 40 (Clang) | PASS | +-------------------+----------------+ | Fedora 41 (Clang) | PASS | +-------------------+----------------+ | Fedora 41 | PASS | +-------------------+----------------+ | Ubuntu 20.04 | PASS | +-------------------+----------------+ | Ubuntu 24.04 | PASS | +-------------------+----------------+ | Ubuntu 22.04 | PASS | +-------------------+----------------+ CentOS Stream 9 Kernel: Depends on container host Compiler: gcc 11.5.0 20240719 (Red Hat 11.5.0-2) CentOS Stream 10 Kernel: Depends on container host Compiler: gcc 14.2.1 20241104 (Red Hat 14.2.1-6) Fedora 40 Kernel: Depends on container host Compiler: gcc 14.2.1 20240912 (Red Hat 14.2.1-3) Debian 12 Kernel: Depends on container host Compiler: gcc (Debian 12.2.0-14) 12.2.0 RHEL8 Kernel: Depends on container host Compiler: gcc 8.5.0 20210514 (Red Hat 8.5.0-22) RHEL9 Kernel: Depends on container host Compiler: gcc 11.5.0 20240719 (Red Hat 11.5.0-2) Fedora 40 (Clang) Kernel: Depends on container host Compiler: clang 18.1.8 (Fedora 18.1.8-1.fc40) Fedora 41 (Clang) Kernel: Depends on container host Compiler: clang 19.1.5 (Fedora 19.1.5-1.fc41) Fedora 41 Kernel: Depends on container host Compiler: gcc 14.2.1 20240912 (Red Hat 14.2.1-3) Ubuntu 20.04 Kernel: Depends on container host Compiler: gcc (Ubuntu 9.4.0-1ubuntu1~20.04.2) 9.4.0 Ubuntu 24.04 Kernel: Depends on container host Compiler: gcc (Ubuntu 13.3.0-6ubuntu2~24.04) 13.3.0 Ubuntu 22.04 Kernel: Depends on container host Compiler: gcc (Ubuntu 11.4.0-1ubuntu1~22.04) 11.4.0 To view detailed results, visit: https://lab.dpdk.org/results/dashboard/patchsets/33118/ UNH-IOL DPDK Community Lab To manage your email subscriptions, visit: https://lab.dpdk.org/results/dashboard/preferences/subscriptions/