From mboxrd@z Thu Jan 1 00:00:00 1970 Return-Path: Received: from mails.dpdk.org (mails.dpdk.org [217.70.189.124]) by inbox.dpdk.org (Postfix) with ESMTP id 465D9466DA for ; Tue, 6 May 2025 14:20:26 +0200 (CEST) Received: from mails.dpdk.org (localhost [127.0.0.1]) by mails.dpdk.org (Postfix) with ESMTP id 41E5D40269; Tue, 6 May 2025 14:20:26 +0200 (CEST) Received: from mail-pl1-f226.google.com (mail-pl1-f226.google.com [209.85.214.226]) by mails.dpdk.org (Postfix) with ESMTP id 6D27940150 for ; Tue, 6 May 2025 14:20:25 +0200 (CEST) Received: by mail-pl1-f226.google.com with SMTP id d9443c01a7336-22c336fcdaaso67006215ad.3 for ; Tue, 06 May 2025 05:20:25 -0700 (PDT) DKIM-Signature: v=1; a=rsa-sha256; c=relaxed/relaxed; d=iol.unh.edu; s=unh-iol; t=1746534024; x=1747138824; darn=dpdk.org; h=references:in-reply-to:cc:to:from:subject:message-id:date:from:to :cc:subject:date:message-id:reply-to; bh=juixpGFAbm3W0dLFzI7jLBVPAqFzXO161eZlmZK0OCE=; b=QEBRGGgzAiyLH60xDkObl4X8LLe6/ypgZPvaRWUWtD3nbF3LQ/oSmLAWNGsI/NWDmk 2a1mrNsr1XrfLnoJFqkXRVO+BenN/LRQ8Dxqb9mR5WfUsiUQQSFGBcxvN4K2Zy89cIVw Cb5wwyaPnv8gVgt/aoxWakbvldH2dhlkUaaXY= X-Google-DKIM-Signature: v=1; a=rsa-sha256; c=relaxed/relaxed; d=1e100.net; s=20230601; t=1746534024; x=1747138824; h=references:in-reply-to:cc:to:from:subject:message-id:date :x-gm-message-state:from:to:cc:subject:date:message-id:reply-to; bh=juixpGFAbm3W0dLFzI7jLBVPAqFzXO161eZlmZK0OCE=; b=ZhyJ2QiFRBsr/O95RmB/S5GgK3vgj6HxsLdfeUaqK1dgcShOMgO7O1Z96zf/+aeMki bS2H+F61dQvahzA9+/AWb4+pcQOzRC1VOJcE2x4eJtEn+n8BaLUpPh5v+Q8CINMuUjvJ fQiRzIBnQ3tku4dXmpsMcsnAP784TB9LOuzrDt9blW32JVX1TeDOPfhSCPf8B9xuZkpI ua4uD7fqpMZdVbYn7CsraoZAuQe3CUTC3DovvmMMEF/dRX5dcfMZw4/slAfakjBowxfG qow04wwhW7JlzBnvelo8GZslsDYHpMOKR/ZBx8CTaUvcG+gdsBPWchk+1pP349+f71Nd x97g== X-Gm-Message-State: AOJu0YwTSV8jg+yUZS5ouwtKQ7CPDTeGjQ3MPyjlY1cILS8EGF4+YNhh pgS380gl0zgOiHAf+luD0RvVLi7UCFyG1mMgWrZq1+M7OBWvfSPvhv3qUgVXYAyAtEWTJNxvEAI ffw55cnzfNz9rJLj6VxIm5ta9W3ZwsS3t9fRxvMZ5 X-Gm-Gg: ASbGnctjVIoc6kxcXsxaZnSvXy2KF0MFp3yxcwmLInQtDE9BUwIa2hJSyK2kF2LxlpM jFxKsDTbRZFL3WFjhf8OiJ4n4E0pqrErMZM4pVOYj5Jgsal4N/5CSfcq5VtDki+/6SVNK1JYZX/ ycLB1XOYKy8DgKg9nulH/IFPwrlj8Dk3yiydJ+LUgXWVLtH7CBcLGagiKb8a5xVP5twJWfRr6r9 3ayQx6TnFJJu/agP3hD7gAKG+m+HlZ/pRMwq+R1fygGNiC39gTqLHvAe7onPW2js87MEuMLYgfm 6CdAZrln/OTePQeroK3GpLWUvcKhY7a98twuUGuwII53VZ4YwcceThbckvM= X-Google-Smtp-Source: AGHT+IEJB35xnOAowooELYahQWy1Ppj9uU/GJB6lin6EJWEbxtC7t3U/5Fjj9Us6jvgPKmht3ptlvbnuGI7N X-Received: by 2002:a17:902:e745:b0:224:122d:d2de with SMTP id d9443c01a7336-22e1e8e8c33mr159455435ad.16.1746534024539; Tue, 06 May 2025 05:20:24 -0700 (PDT) Received: from postal.iol.unh.edu (postal.iol.unh.edu. [132.177.123.84]) by smtp-relay.gmail.com with ESMTPS id d9443c01a7336-22e1522b4fcsm17343605ad.92.2025.05.06.05.20.24 (version=TLS1_2 cipher=ECDHE-ECDSA-AES128-GCM-SHA256 bits=128/128); Tue, 06 May 2025 05:20:24 -0700 (PDT) X-Relaying-Domain: iol.unh.edu Date: Tue, 06 May 2025 05:20:24 -0700 (PDT) Message-ID: <6819fe88.170a0220.1d61a5.636cSMTPIN_ADDED_MISSING@mx.google.com> Received: from [172.21.0.14] (unknown [172.18.0.240]) by postal.iol.unh.edu (Postfix) with ESMTP id BA9FB6052471; Tue, 6 May 2025 08:20:23 -0400 (EDT) Subject: |SUCCESS| pw153305 [PATCH] net/ice: fix support for 3 scheduler leve From: dpdklab@iol.unh.edu To: Test Report Cc: dpdk-test-reports@iol.unh.edu In-Reply-To: <20250506103414.892849-1-bruce.richardson@intel.com> References: <20250506103414.892849-1-bruce.richardson@intel.com> Content-Type: text/plain X-BeenThere: test-report@dpdk.org X-Mailman-Version: 2.1.29 Precedence: list List-Id: automatic DPDK test reports List-Unsubscribe: , List-Archive: List-Post: List-Help: List-Subscribe: , Errors-To: test-report-bounces@dpdk.org Test-Label: iol-unit-amd64-testing Test-Status: SUCCESS http://dpdk.org/patch/153305 _Testing PASS_ Submitter: Bruce Richardson Date: Tuesday, May 06 2025 10:34:14 DPDK git baseline: Repo:dpdk Branch: master CommitID:2665bfb9838fec7ea6c3b2be5831f93ee087b288 153305 --> testing pass Upstream job id: Generic-Unit-Test-DPDK#335756 Test environment and result as below: +-------------------+----------------+ | Environment | dpdk_unit_test | +===================+================+ | CentOS Stream 9 | PASS | +-------------------+----------------+ | CentOS Stream 10 | PASS | +-------------------+----------------+ | Fedora 40 | PASS | +-------------------+----------------+ | Debian 12 | PASS | +-------------------+----------------+ | RHEL8 | PASS | +-------------------+----------------+ | RHEL9 | PASS | +-------------------+----------------+ | Fedora 40 (Clang) | PASS | +-------------------+----------------+ | Fedora 41 (Clang) | PASS | +-------------------+----------------+ | Fedora 41 | PASS | +-------------------+----------------+ | Ubuntu 20.04 | PASS | +-------------------+----------------+ | Ubuntu 24.04 | PASS | +-------------------+----------------+ | Ubuntu 22.04 | PASS | +-------------------+----------------+ CentOS Stream 9 Kernel: Depends on container host Compiler: gcc 11.5.0 20240719 (Red Hat 11.5.0-2) CentOS Stream 10 Kernel: Depends on container host Compiler: gcc 14.2.1 20241104 (Red Hat 14.2.1-6) Fedora 40 Kernel: Depends on container host Compiler: gcc 14.2.1 20240912 (Red Hat 14.2.1-3) Debian 12 Kernel: Depends on container host Compiler: gcc (Debian 12.2.0-14) 12.2.0 RHEL8 Kernel: Depends on container host Compiler: gcc 8.5.0 20210514 (Red Hat 8.5.0-22) RHEL9 Kernel: Depends on container host Compiler: gcc 11.5.0 20240719 (Red Hat 11.5.0-2) Fedora 40 (Clang) Kernel: Depends on container host Compiler: clang 18.1.8 (Fedora 18.1.8-1.fc40) Fedora 41 (Clang) Kernel: Depends on container host Compiler: clang 19.1.5 (Fedora 19.1.5-1.fc41) Fedora 41 Kernel: Depends on container host Compiler: gcc 14.2.1 20240912 (Red Hat 14.2.1-3) Ubuntu 20.04 Kernel: Depends on container host Compiler: gcc (Ubuntu 9.4.0-1ubuntu1~20.04.2) 9.4.0 Ubuntu 24.04 Kernel: Depends on container host Compiler: gcc (Ubuntu 13.3.0-6ubuntu2~24.04) 13.3.0 Ubuntu 22.04 Kernel: Depends on container host Compiler: gcc (Ubuntu 11.4.0-1ubuntu1~22.04) 11.4.0 To view detailed results, visit: https://lab.dpdk.org/results/dashboard/patchsets/33118/ UNH-IOL DPDK Community Lab To manage your email subscriptions, visit: https://lab.dpdk.org/results/dashboard/preferences/subscriptions/