From mboxrd@z Thu Jan 1 00:00:00 1970 Return-Path: Received: from mails.dpdk.org (mails.dpdk.org [217.70.189.124]) by inbox.dpdk.org (Postfix) with ESMTP id 51B3D466DA for ; Tue, 6 May 2025 14:43:12 +0200 (CEST) Received: from mails.dpdk.org (localhost [127.0.0.1]) by mails.dpdk.org (Postfix) with ESMTP id 1EBE540269; Tue, 6 May 2025 14:43:12 +0200 (CEST) Received: from mail-ot1-f99.google.com (mail-ot1-f99.google.com [209.85.210.99]) by mails.dpdk.org (Postfix) with ESMTP id A6DCB40150 for ; Tue, 6 May 2025 14:43:11 +0200 (CEST) Received: by mail-ot1-f99.google.com with SMTP id 46e09a7af769-731e277a6b0so3335524a34.1 for ; Tue, 06 May 2025 05:43:11 -0700 (PDT) DKIM-Signature: v=1; a=rsa-sha256; c=relaxed/relaxed; d=iol.unh.edu; s=unh-iol; t=1746535390; x=1747140190; darn=dpdk.org; h=cc:to:from:subject:message-id:date:from:to:cc:subject:date :message-id:reply-to; bh=HnQQm2AnRFAg5isZnTamCTFh/v8v6n1cdUg4HfxeXqg=; b=OGk7KZDkrgVTcS/2SRrKPqWmEfmCvrV/yNib3r1OaaNiUSYP67FkbUNczNANUu+wM/ An1zD5sbckR2lVna2v1x0nZMHX0Ih139hJu2giMzxWUBgXGhcQXMFtq1wGTjMIoFhPxE kvOjDu7AToVaNyNfaH/DUsP/U6HKqfxK9WRUg= X-Google-DKIM-Signature: v=1; a=rsa-sha256; c=relaxed/relaxed; d=1e100.net; s=20230601; t=1746535390; x=1747140190; h=cc:to:from:subject:message-id:date:x-gm-message-state:from:to:cc :subject:date:message-id:reply-to; bh=HnQQm2AnRFAg5isZnTamCTFh/v8v6n1cdUg4HfxeXqg=; b=SIppIYA2GB9wRAtru+SXNxN5l2nXP9VTlZvzeRLQ1sQCwqBprmye+edanfZMdlOE0+ LUIDW7R2l9FYc9WvZSkB+RptQzd+gr899/xSsXLjVQ+K03jWyDR2qx5bpeFrqZIddt+n RzMrYouCyuKEOs4HuL3bdPYWCLwNDLafRLuOAAhChI77GMD3TnYrtxjyKYz+O9V240+U t1nCzDrEmIJ38qNswm7rRLrZnnPwLHyf3iTJu8I3xxhhkDuXlX4MufHxCYx8NtQRzn76 ddJ/IJ2jvJXGt9Kk6ikf05eyegTTCMmfUCYPlx9T3ZaZlbiv6gMAM30Ezw58ZGu8vZDE YeRA== X-Gm-Message-State: AOJu0Yx7WX6aHfSqtJUOJuGLV4Aw56/weM4OcsYfofkEr76/i2oP/9Iz xYmzsRXFbG/RXcmGXzEoMeqZkwj1uYCRNQqQ0UhZFkhR8LZxTcNDxveMJH0fyLuzxmdhqKthU70 GlpANbq8beHPQXN8qVdN2O4flYxaqqT3p X-Gm-Gg: ASbGnctrUSIRXfPvwek7j7QygWhvkkTPP0PHpTTmZJ/pUZ+l6u1z0igz9LRZcbo9UDr 1VpJ48ePevB21TBlXJtrW9vjoIEaYevRiosmpHgjerNeGTMBZ4lnSxAKRuAQrQhOm4ml0b72Xcg IYvyPE1qD+UMTPv1e0VsruYS5vLA7X9Rso+639s0LcYZQeAuwynmWXF/Y7HTMEO1i+r0re6tNP1 4KGeJ7/FNkbIYwqwSllygaG8ulRXeHtFELJS1TrVSUyq9XEeMofA3TQa5tVzbiyTaBAGhhgsinl +CtAmMVk0jp2v8aTEZJpcvbu4KCsHWyiDDVShJvFFrmpvhK2dSmSWVUe2xQ= X-Google-Smtp-Source: AGHT+IGrNRzSreYdcYUzxT7dV9GIBjrNBmgz6YQFDe/vJqlJdwS8CrnYzNrENSGYUVcdVk32gnHDSX5CUHn3 X-Received: by 2002:a05:6871:78e:b0:2c2:cd87:7521 with SMTP id 586e51a60fabf-2dae82c1921mr6692203fac.4.1746535390691; Tue, 06 May 2025 05:43:10 -0700 (PDT) Received: from postal.iol.unh.edu (postal.iol.unh.edu. [132.177.123.84]) by smtp-relay.gmail.com with ESMTPS id 586e51a60fabf-2daa0ee624dsm2239567fac.11.2025.05.06.05.43.10 (version=TLS1_2 cipher=ECDHE-ECDSA-AES128-GCM-SHA256 bits=128/128); Tue, 06 May 2025 05:43:10 -0700 (PDT) X-Relaying-Domain: iol.unh.edu Date: Tue, 06 May 2025 05:43:10 -0700 (PDT) Message-ID: <681a03de.050a0220.268681.ccabSMTPIN_ADDED_MISSING@mx.google.com> Received: from [172.17.0.2] (unknown [172.18.0.74]) by postal.iol.unh.edu (Postfix) with ESMTP id 2D6FF6052471; Tue, 6 May 2025 08:43:10 -0400 (EDT) Subject: |SUCCESS| [GIT MASTER] 4c5634de9f933555bab9c64a533d3dca999071cd From: dpdklab@iol.unh.edu To: Test Report Cc: dpdk-test-reports@iol.unh.edu, Xueming Li , Christian Ehrhardt , Kevin Traynor , Luca Boccassi Content-Type: text/plain X-BeenThere: test-report@dpdk.org X-Mailman-Version: 2.1.29 Precedence: list List-Id: automatic DPDK test reports List-Unsubscribe: , List-Archive: List-Post: List-Help: List-Subscribe: , Errors-To: test-report-bounces@dpdk.org _Testing PASS_ Branch: tags/v24.11 4c5634de9f933555bab9c64a533d3dca999071cd --> testing pass Upstream job id: Generic-VM-Unit-Test-DPDK#28348 Test environment and result as below: +---------------------+----------------+ | Environment | dpdk_unit_test | +=====================+================+ | CentOS Stream 9 | PASS | +---------------------+----------------+ | CentOS Stream 10 | PASS | +---------------------+----------------+ | Fedora 40 | PASS | +---------------------+----------------+ | Debian 12 | PASS | +---------------------+----------------+ | Fedora 41 | PASS | +---------------------+----------------+ | Fedora 40 (Clang) | PASS | +---------------------+----------------+ | RHEL8 | PASS | +---------------------+----------------+ | RHEL9 | PASS | +---------------------+----------------+ | Fedora 41 (Clang) | PASS | +---------------------+----------------+ | Ubuntu 20.04 | PASS | +---------------------+----------------+ | Ubuntu 22.04 | PASS | +---------------------+----------------+ | Ubuntu 24.04 | PASS | +---------------------+----------------+ | Windows Server 2022 | PASS | +---------------------+----------------+ CentOS Stream 9 Kernel: Depends on container host Compiler: gcc 11.5.0 20240719 (Red Hat 11.5.0-2) CentOS Stream 10 Kernel: Depends on container host Compiler: gcc 14.2.1 20241104 (Red Hat 14.2.1-6) Fedora 40 Kernel: Depends on container host Compiler: gcc 14.2.1 20240912 (Red Hat 14.2.1-3) Debian 12 Kernel: Depends on container host Compiler: gcc (Debian 12.2.0-14) 12.2.0 Fedora 41 Kernel: Depends on container host Compiler: gcc 14.2.1 20240912 (Red Hat 14.2.1-3) Fedora 40 (Clang) Kernel: Depends on container host Compiler: clang 18.1.8 (Fedora 18.1.8-1.fc40) RHEL8 Kernel: Depends on container host Compiler: gcc 8.5.0 20210514 (Red Hat 8.5.0-22) RHEL9 Kernel: Depends on container host Compiler: gcc 11.5.0 20240719 (Red Hat 11.5.0-2) Fedora 41 (Clang) Kernel: Depends on container host Compiler: clang 19.1.5 (Fedora 19.1.5-1.fc41) Ubuntu 20.04 Kernel: Depends on container host Compiler: gcc (Ubuntu 9.4.0-1ubuntu1~20.04.2) 9.4.0 Ubuntu 22.04 Kernel: Depends on container host Compiler: gcc (Ubuntu 11.4.0-1ubuntu1~22.04) 11.4.0 Ubuntu 24.04 Kernel: Depends on container host Compiler: gcc (Ubuntu 13.3.0-6ubuntu2~24.04) 13.3.0 Windows Server 2022 Kernel: 10.0.20348.2031 Compiler: clang 15.0.7, gcc 14.1.0 (MinGW), and MSVC VS 19.39.33521 To view detailed results, visit: https://lab.dpdk.org/results/dashboard/tarballs/33444/ UNH-IOL DPDK Community Lab To manage your email subscriptions, visit: https://lab.dpdk.org/results/dashboard/preferences/subscriptions/