From mboxrd@z Thu Jan 1 00:00:00 1970 Return-Path: Received: from mails.dpdk.org (mails.dpdk.org [217.70.189.124]) by inbox.dpdk.org (Postfix) with ESMTP id DC978466DA for ; Tue, 6 May 2025 14:56:05 +0200 (CEST) Received: from mails.dpdk.org (localhost [127.0.0.1]) by mails.dpdk.org (Postfix) with ESMTP id D857E40269; Tue, 6 May 2025 14:56:05 +0200 (CEST) Received: from mail-io1-f97.google.com (mail-io1-f97.google.com [209.85.166.97]) by mails.dpdk.org (Postfix) with ESMTP id 7E28440150 for ; Tue, 6 May 2025 14:56:04 +0200 (CEST) Received: by mail-io1-f97.google.com with SMTP id ca18e2360f4ac-85de3e8d0adso107947339f.1 for ; Tue, 06 May 2025 05:56:04 -0700 (PDT) DKIM-Signature: v=1; a=rsa-sha256; c=relaxed/relaxed; d=iol.unh.edu; s=unh-iol; t=1746536164; x=1747140964; darn=dpdk.org; h=references:in-reply-to:cc:to:from:subject:message-id:date:from:to :cc:subject:date:message-id:reply-to; bh=TeiuXPlbDjlGz7u6d4aDBfYclkTjPXoh6/3K1FvGB6Q=; b=gNJ1iM0Oe6W94SioldPnx7MBIS6OlZPAuFdaoYxK7BNjCYsgQgU3JWduPVsOct8Vps FBGrrJSPXmvbXXb+XwJi94xn1P1Izra1vgGU2H7t3EuEnkO5Zo4W/bi8dLXCtCTgkUhO 897OCV+Ic7P+THkDcOGz6U3MSgqMPRmBO+Dd8= X-Google-DKIM-Signature: v=1; a=rsa-sha256; c=relaxed/relaxed; d=1e100.net; s=20230601; t=1746536164; x=1747140964; h=references:in-reply-to:cc:to:from:subject:message-id:date :x-gm-message-state:from:to:cc:subject:date:message-id:reply-to; bh=TeiuXPlbDjlGz7u6d4aDBfYclkTjPXoh6/3K1FvGB6Q=; b=kQTcLsf9aS2zWvtsh2QNlmK0ALPysyPDvL5vn71XxQEf6sYVigZTsxjvuQP8FG6vqH krWGXwLUwp6S7nF6+1u2Qbb+xcqOe2FtuU2Hje7LDtCGVDnMkGdhOANAJkUj0erS6PNs K7SV7z3HTJUtbxzPeMF/ucMcK6z/Jb8nVO3uJY/JGUXBdKuXiXdi6by2iIcs/3pd8IFe MHvZbMV8D2of288Xsmm7ERtFCJr3UWqHSjrcy9ngZrY0P4WY2wDU0oqcUzznFvbZwNfV sl36TquMFeQmu58RJb5EpPABJPkMHghAgacpi2hfxKSBgvZjtOzyKHglfs2jcYoh3BP1 iBZA== X-Gm-Message-State: AOJu0YyaV+mZrgQSS4t5kg7xX9iuqYrI+sI2h+LW3BXEJ2OlTlQi4DGc u2yeZDJAI3A03BUFT1lfC0hjzR1PFt0mfizTqKc5XnusEHcfcgp+zxypsWl00vteqYCWaJHNUK5 5i+2spUgywRF7dTXpK5zy45axF+ntv9S/NUKzrMjL X-Gm-Gg: ASbGncsu8BAzcnkjlojYLaswUBl4EUzLwEGxvBG/6IjVeCQd/7lK2pWkzVf3pWJyfmj J9rG9AmeLONN2mN7ZXUOAdoLlhZLdsWCczLJjF7d6O+wE6mAU+0EDBxenIhxFV1brblJdPSGdVW OR9P7cvDBf0JA3WzcfvvjziSgSOyoTM7s2ly9RERgAN4DAFL6aG4Aa5hBaF2216tgvtRcQpKMC/ gud8/2ri6+JfxMFKSK306NBosTaG6Ael7SYl85/nck3JB+iEi4PubC+4Yi5SC5k/6UqB3NgHTW1 k4s5ESgh21TNc19RyzkVi0KrAx7h0IrQ3Go43PngWoFiagN+fR3b7wWY2vg= X-Google-Smtp-Source: AGHT+IGcoChtBZ2KB5jI3jO4SVDd6nVhn7irK92ejUScg5ZGF19Yj/zWrBBBQUzXtD3tg2cnp5tq4dTk6EU7 X-Received: by 2002:a05:6602:6425:b0:864:a228:92b5 with SMTP id ca18e2360f4ac-86733880fb2mr258342839f.10.1746536163681; Tue, 06 May 2025 05:56:03 -0700 (PDT) Received: from postal.iol.unh.edu (postal.iol.unh.edu. [132.177.123.84]) by smtp-relay.gmail.com with ESMTPS id 8926c6da1cb9f-4f88a941f8dsm2167078173.40.2025.05.06.05.56.03 (version=TLS1_2 cipher=ECDHE-ECDSA-AES128-GCM-SHA256 bits=128/128); Tue, 06 May 2025 05:56:03 -0700 (PDT) X-Relaying-Domain: iol.unh.edu Date: Tue, 06 May 2025 05:56:03 -0700 (PDT) Message-ID: <681a06e3.050a0220.1d69a8.95c5SMTPIN_ADDED_MISSING@mx.google.com> Received: from [172.17.0.2] (unknown [172.18.0.74]) by postal.iol.unh.edu (Postfix) with ESMTP id 2B7CC6052471; Tue, 6 May 2025 08:56:03 -0400 (EDT) Subject: |SUCCESS| pw153305 [PATCH] net/ice: fix support for 3 scheduler leve From: dpdklab@iol.unh.edu To: Test Report Cc: dpdk-test-reports@iol.unh.edu In-Reply-To: <20250506103414.892849-1-bruce.richardson@intel.com> References: <20250506103414.892849-1-bruce.richardson@intel.com> Content-Type: text/plain X-BeenThere: test-report@dpdk.org X-Mailman-Version: 2.1.29 Precedence: list List-Id: automatic DPDK test reports List-Unsubscribe: , List-Archive: List-Post: List-Help: List-Subscribe: , Errors-To: test-report-bounces@dpdk.org Test-Label: iol-compile-amd64-testing Test-Status: SUCCESS http://dpdk.org/patch/153305 _Testing PASS_ Submitter: Bruce Richardson Date: Tuesday, May 06 2025 10:34:14 DPDK git baseline: Repo:dpdk Branch: master CommitID:2665bfb9838fec7ea6c3b2be5831f93ee087b288 153305 --> testing pass Upstream job id: Generic-DPDK-Compile-Meson#385546 Test environment and result as below: +-----------------------------------+--------------------+-------------------+------------------+-------------------------+-------------------+----------------------+ | Environment | dpdk_meson_compile | dpdk_compile_spdk | dpdk_compile_ovs | dpdk_llvm_clang_compile | dpdk_msvc_compile | dpdk_mingw64_compile | +===================================+====================+===================+==================+=========================+===================+======================+ | CentOS Stream 9 | PASS | PASS | SKIPPED | SKIPPED | SKIPPED | SKIPPED | +-----------------------------------+--------------------+-------------------+------------------+-------------------------+-------------------+----------------------+ | Fedora 40 (Clang) | PASS | PASS | SKIPPED | SKIPPED | SKIPPED | SKIPPED | +-----------------------------------+--------------------+-------------------+------------------+-------------------------+-------------------+----------------------+ | Fedora 41 | PASS | PASS | PASS | SKIPPED | SKIPPED | SKIPPED | +-----------------------------------+--------------------+-------------------+------------------+-------------------------+-------------------+----------------------+ | Fedora 41 (Clang) | PASS | PASS | PASS | SKIPPED | SKIPPED | SKIPPED | +-----------------------------------+--------------------+-------------------+------------------+-------------------------+-------------------+----------------------+ | openSUSE Leap 15 | PASS | SKIPPED | SKIPPED | SKIPPED | SKIPPED | SKIPPED | +-----------------------------------+--------------------+-------------------+------------------+-------------------------+-------------------+----------------------+ | Ubuntu 22.04 | PASS | PASS | SKIPPED | SKIPPED | SKIPPED | SKIPPED | +-----------------------------------+--------------------+-------------------+------------------+-------------------------+-------------------+----------------------+ | Ubuntu 20.04 | PASS | SKIPPED | SKIPPED | SKIPPED | SKIPPED | SKIPPED | +-----------------------------------+--------------------+-------------------+------------------+-------------------------+-------------------+----------------------+ | RHEL8 | PASS | SKIPPED | SKIPPED | SKIPPED | SKIPPED | SKIPPED | +-----------------------------------+--------------------+-------------------+------------------+-------------------------+-------------------+----------------------+ | RHEL9 | PASS | SKIPPED | SKIPPED | SKIPPED | SKIPPED | SKIPPED | +-----------------------------------+--------------------+-------------------+------------------+-------------------------+-------------------+----------------------+ | Ubuntu 24.04 | PASS | PASS | PASS | SKIPPED | SKIPPED | SKIPPED | +-----------------------------------+--------------------+-------------------+------------------+-------------------------+-------------------+----------------------+ | Ubuntu 24.04 32 Bit Cross Compile | PASS | SKIPPED | SKIPPED | SKIPPED | SKIPPED | SKIPPED | +-----------------------------------+--------------------+-------------------+------------------+-------------------------+-------------------+----------------------+ | Alpine | PASS | SKIPPED | SKIPPED | SKIPPED | SKIPPED | SKIPPED | +-----------------------------------+--------------------+-------------------+------------------+-------------------------+-------------------+----------------------+ | FreeBSD 13.5 | PASS | SKIPPED | SKIPPED | SKIPPED | SKIPPED | SKIPPED | +-----------------------------------+--------------------+-------------------+------------------+-------------------------+-------------------+----------------------+ | FreeBSD 14.2 | PASS | SKIPPED | SKIPPED | SKIPPED | SKIPPED | SKIPPED | +-----------------------------------+--------------------+-------------------+------------------+-------------------------+-------------------+----------------------+ | Fedora 40 | PASS | PASS | SKIPPED | SKIPPED | SKIPPED | SKIPPED | +-----------------------------------+--------------------+-------------------+------------------+-------------------------+-------------------+----------------------+ | Windows Server 2022 | SKIPPED | SKIPPED | SKIPPED | PASS | PASS | PASS | +-----------------------------------+--------------------+-------------------+------------------+-------------------------+-------------------+----------------------+ CentOS Stream 9 Kernel: Depends on container host Compiler: gcc 11.5.0 20240719 (Red Hat 11.5.0-2) Fedora 40 (Clang) Kernel: Depends on container host Compiler: clang 18.1.8 (Fedora 18.1.8-1.fc40) Fedora 41 Kernel: Depends on container host Compiler: gcc 14.2.1 20240912 (Red Hat 14.2.1-3) Fedora 41 (Clang) Kernel: Depends on container host Compiler: clang 19.1.5 (Fedora 19.1.5-1.fc41) openSUSE Leap 15 Kernel: Depends on container host Compiler: gcc (SUSE Linux) 7.5.0 Ubuntu 22.04 Kernel: Depends on container host Compiler: gcc (Ubuntu 11.4.0-1ubuntu1~22.04) 11.4.0 Ubuntu 20.04 Kernel: Depends on container host Compiler: gcc (Ubuntu 9.4.0-1ubuntu1~20.04.2) 9.4.0 RHEL8 Kernel: Depends on container host Compiler: gcc 8.5.0 20210514 (Red Hat 8.5.0-22) RHEL9 Kernel: Depends on container host Compiler: gcc 11.5.0 20240719 (Red Hat 11.5.0-2) Ubuntu 24.04 Kernel: Depends on container host Compiler: gcc (Ubuntu 13.3.0-6ubuntu2~24.04) 13.3.0 Ubuntu 24.04 32 Bit Cross Compile Kernel: Depends on container host Compiler: gcc (Ubuntu 13.3.0-6ubuntu2~24.04) 13.3.0 Alpine Kernel: Depends on container host Compiler: gcc (Alpine 14.2.0) 14.2.0 FreeBSD 13.5 Kernel: 13.5-RELEASE Compiler: clang 19.1.7 FreeBSD 14.2 Kernel: 14.2-RELEASE Compiler: clang 18.1.6 Fedora 40 Kernel: Depends on container host Compiler: gcc 14.2.1 20240912 (Red Hat 14.2.1-3) Windows Server 2022 Kernel: 10.0.20348.2031 Compiler: clang 15.0.7, gcc 14.1.0 (MinGW), and MSVC VS 19.39.33521 To view detailed results, visit: https://lab.dpdk.org/results/dashboard/patchsets/33118/ UNH-IOL DPDK Community Lab To manage your email subscriptions, visit: https://lab.dpdk.org/results/dashboard/preferences/subscriptions/