From mboxrd@z Thu Jan 1 00:00:00 1970 Return-Path: Received: from mails.dpdk.org (mails.dpdk.org [217.70.189.124]) by inbox.dpdk.org (Postfix) with ESMTP id 90090466DA for ; Tue, 6 May 2025 15:01:26 +0200 (CEST) Received: from mails.dpdk.org (localhost [127.0.0.1]) by mails.dpdk.org (Postfix) with ESMTP id 638B640269; Tue, 6 May 2025 15:01:26 +0200 (CEST) Received: from mail-io1-f99.google.com (mail-io1-f99.google.com [209.85.166.99]) by mails.dpdk.org (Postfix) with ESMTP id 94D0040150 for ; Tue, 6 May 2025 15:01:24 +0200 (CEST) Received: by mail-io1-f99.google.com with SMTP id ca18e2360f4ac-86135d11760so468142739f.2 for ; Tue, 06 May 2025 06:01:24 -0700 (PDT) DKIM-Signature: v=1; a=rsa-sha256; c=relaxed/relaxed; d=iol.unh.edu; s=unh-iol; t=1746536484; x=1747141284; darn=dpdk.org; h=cc:to:from:subject:message-id:date:from:to:cc:subject:date :message-id:reply-to; bh=bXqQGCzQiIQe279hQS4Km6ZQ/4gs0tytBZcnS6/bj+8=; b=EH9iO94A1LPxFuoswe4HHp5wejMkAxQxJqZiOLqfCUOQ7ckc3tIFfmxEFnOUK11tz0 BDRM8yunWFDwoFY/TwjRulTewjLru4Kk8sh+Tb3dzRB8m3Rg6pCfussNBFL8qTDeCdrp zRUa1iFoJ9TNWK2QCszB36A0qW1N8ZuO9qFIA= X-Google-DKIM-Signature: v=1; a=rsa-sha256; c=relaxed/relaxed; d=1e100.net; s=20230601; t=1746536484; x=1747141284; h=cc:to:from:subject:message-id:date:x-gm-message-state:from:to:cc :subject:date:message-id:reply-to; bh=bXqQGCzQiIQe279hQS4Km6ZQ/4gs0tytBZcnS6/bj+8=; b=syTVOqq0B/7vVRI03uJOCrYWjMX3M9A8jDvo7/VXlHDrnLyrQLx+nCvTmM77kD57VF xWjpsX+fJKswlPKMU0SIq5Wjsp/elmdV+ht9UAhElP1kTM/O1qO7gzw60VK7zaI4mwxg VxT6lS6BSLHNWUngNULr98ulgiqZgfdcRLzJPdGIJRH1BFduZyyRaWTfb7TUm8QgMyRz WM0f8eRSHFk2jdnnhB8KeNbgMnbOEyrZhLbw9PUF1ZUunxsUlPwZESKlqHtVm9/R3aNB U+lFTxL6S3G/4oI8qotQ2eHxZ4Ejcwmtjy2zrTx4tILZBkLOT//52GWOjoutH6s41ypG Tk0w== X-Gm-Message-State: AOJu0Yyai/5DH+A4FM2ou07gaapMhYFRqWxx7P7Ip5fktEFI+6Fu43Kt EcFjzHLsU9YEmLszNPECeOnngNL/nBK0q5JirR/rl2MDi95jF5CqHYdOcfn4fzxO9zo+mVOftUq RXvStiGYCA7tHj12c8JEtOXvwa3NBEsCmxHsZMGLcHEIMULL7 X-Gm-Gg: ASbGncud0+gjsr7q1LcnUh0LHT3sWdn34wbCK+4vKDnVt1SN64Ot4Zb8wMmnvkVIERH xcIaaip2//2FBvedeOEZjUNBV9BVfxIwowfzRkhMznj4WOZDexDZoywNIlDeXE+6fWMB3JCH1Nj 8XDrtSqTZsWdirD53IgCIk2nEV1TPnbX1yrAhlNSKVwS9PSUlJUy6uAnaMPWaCz710qoAEfMf7o DzyBXzWD3anLnZBIpGaiJQScuPjGIU04RoiFT9whJhiLy1ls8EsFhli+5dYG5J1G8wM9yepV+tn uq1VHxyIRUUjoYsky14GcRDjrekhkORNqez7 X-Google-Smtp-Source: AGHT+IGYhXAeLf/Ic/ufLKdCNCY6fyBtaJjeNAvNe60Qa5Ni8y8WT50+6bcr8S1p6JB4YblC7yO8rvD3jW8D X-Received: by 2002:a05:6602:641c:b0:85d:a5d3:618c with SMTP id ca18e2360f4ac-86713b7966bmr1266384639f.11.1746536483590; Tue, 06 May 2025 06:01:23 -0700 (PDT) Received: from postal.iol.unh.edu (postal.iol.unh.edu. [2606:4100:3880:1234::84]) by smtp-relay.gmail.com with ESMTPS id 8926c6da1cb9f-4f88a940472sm2088422173.39.2025.05.06.06.01.23 (version=TLS1_2 cipher=ECDHE-ECDSA-AES128-GCM-SHA256 bits=128/128); Tue, 06 May 2025 06:01:23 -0700 (PDT) X-Relaying-Domain: iol.unh.edu Date: Tue, 06 May 2025 06:01:23 -0700 (PDT) Message-ID: <681a0823.050a0220.2aa9e0.9235SMTPIN_ADDED_MISSING@mx.google.com> Received: from [172.17.0.2] (unknown [172.18.0.74]) by postal.iol.unh.edu (Postfix) with ESMTP id 17E2E6052471; Tue, 6 May 2025 09:01:22 -0400 (EDT) Subject: |SUCCESS| [GIT MASTER] 83a7a648344674c0269fcaeb71d8d16468421a0e From: dpdklab@iol.unh.edu To: Test Report Cc: dpdk-test-reports@iol.unh.edu, Xueming Li , Christian Ehrhardt , Kevin Traynor , Luca Boccassi Content-Type: text/plain X-BeenThere: test-report@dpdk.org X-Mailman-Version: 2.1.29 Precedence: list List-Id: automatic DPDK test reports List-Unsubscribe: , List-Archive: List-Post: List-Help: List-Subscribe: , Errors-To: test-report-bounces@dpdk.org _Testing PASS_ Branch: tags/v23.11 83a7a648344674c0269fcaeb71d8d16468421a0e --> testing pass Upstream job id: Generic-VM-Unit-Test-DPDK#28350 Test environment and result as below: +---------------------+----------------+ | Environment | dpdk_unit_test | +=====================+================+ | CentOS Stream 9 | PASS | +---------------------+----------------+ | CentOS Stream 10 | PASS | +---------------------+----------------+ | Debian 12 | PASS | +---------------------+----------------+ | Fedora 40 (Clang) | PASS | +---------------------+----------------+ | Fedora 40 | PASS | +---------------------+----------------+ | Fedora 41 | PASS | +---------------------+----------------+ | Ubuntu 20.04 | PASS | +---------------------+----------------+ | Fedora 41 (Clang) | PASS | +---------------------+----------------+ | RHEL9 | PASS | +---------------------+----------------+ | RHEL8 | PASS | +---------------------+----------------+ | Ubuntu 22.04 | PASS | +---------------------+----------------+ | Ubuntu 24.04 | PASS | +---------------------+----------------+ | Windows Server 2022 | PASS | +---------------------+----------------+ CentOS Stream 9 Kernel: Depends on container host Compiler: gcc 11.5.0 20240719 (Red Hat 11.5.0-2) CentOS Stream 10 Kernel: Depends on container host Compiler: gcc 14.2.1 20241104 (Red Hat 14.2.1-6) Debian 12 Kernel: Depends on container host Compiler: gcc (Debian 12.2.0-14) 12.2.0 Fedora 40 (Clang) Kernel: Depends on container host Compiler: clang 18.1.8 (Fedora 18.1.8-1.fc40) Fedora 40 Kernel: Depends on container host Compiler: gcc 14.2.1 20240912 (Red Hat 14.2.1-3) Fedora 41 Kernel: Depends on container host Compiler: gcc 14.2.1 20240912 (Red Hat 14.2.1-3) Ubuntu 20.04 Kernel: Depends on container host Compiler: gcc (Ubuntu 9.4.0-1ubuntu1~20.04.2) 9.4.0 Fedora 41 (Clang) Kernel: Depends on container host Compiler: clang 19.1.5 (Fedora 19.1.5-1.fc41) RHEL9 Kernel: Depends on container host Compiler: gcc 11.5.0 20240719 (Red Hat 11.5.0-2) RHEL8 Kernel: Depends on container host Compiler: gcc 8.5.0 20210514 (Red Hat 8.5.0-22) Ubuntu 22.04 Kernel: Depends on container host Compiler: gcc (Ubuntu 11.4.0-1ubuntu1~22.04) 11.4.0 Ubuntu 24.04 Kernel: Depends on container host Compiler: gcc (Ubuntu 13.3.0-6ubuntu2~24.04) 13.3.0 Windows Server 2022 Kernel: 10.0.20348.2031 Compiler: clang 15.0.7, gcc 14.1.0 (MinGW), and MSVC VS 19.39.33521 To view detailed results, visit: https://lab.dpdk.org/results/dashboard/tarballs/33445/ UNH-IOL DPDK Community Lab To manage your email subscriptions, visit: https://lab.dpdk.org/results/dashboard/preferences/subscriptions/