From mboxrd@z Thu Jan 1 00:00:00 1970 Return-Path: Received: from mails.dpdk.org (mails.dpdk.org [217.70.189.124]) by inbox.dpdk.org (Postfix) with ESMTP id 374EB466DA for ; Tue, 6 May 2025 15:08:42 +0200 (CEST) Received: from mails.dpdk.org (localhost [127.0.0.1]) by mails.dpdk.org (Postfix) with ESMTP id 32B6D402C1; Tue, 6 May 2025 15:08:42 +0200 (CEST) Received: from mail-pl1-f225.google.com (mail-pl1-f225.google.com [209.85.214.225]) by mails.dpdk.org (Postfix) with ESMTP id 4193840150 for ; Tue, 6 May 2025 15:08:40 +0200 (CEST) Received: by mail-pl1-f225.google.com with SMTP id d9443c01a7336-22c336fcdaaso67864705ad.3 for ; Tue, 06 May 2025 06:08:40 -0700 (PDT) DKIM-Signature: v=1; a=rsa-sha256; c=relaxed/relaxed; d=iol.unh.edu; s=unh-iol; t=1746536919; x=1747141719; darn=dpdk.org; h=references:in-reply-to:cc:to:from:subject:message-id:date:from:to :cc:subject:date:message-id:reply-to; bh=CGc/l4+zDkqHM0tQeDGG/7wocmOCsxCyQUydF4jCbls=; b=FafgPTmRQ07jWdp446rXSiWXUNcqkccQkMLqL1RzMMLDKYwzkZiFq2mCx7jSnBycUH AJkz7uy87vLetl/QvIYLdpCQoMysEJdLUG+rP66kfoDLT1NJaA1l5o8ibkXYCpZRefhm CePJpuoT3GLBd45NHUvfukheQmUmWUp9CHqpo= X-Google-DKIM-Signature: v=1; a=rsa-sha256; c=relaxed/relaxed; d=1e100.net; s=20230601; t=1746536919; x=1747141719; h=references:in-reply-to:cc:to:from:subject:message-id:date :x-gm-message-state:from:to:cc:subject:date:message-id:reply-to; bh=CGc/l4+zDkqHM0tQeDGG/7wocmOCsxCyQUydF4jCbls=; b=qQaZZxEPpAdJ45BwjYumwwuxaqXNq8F/qhR+14ObRtEyqoQ9Rj56X3781Ifmf8pBeM fmRhL66VE8PuGl+ALHogtuQFq6zTTZKYDFBQBohY5EAIl0+MCJOlMKjqoSEXJ715+55q fhCyb6TIyXPQFZ0LzR14DfRJ19GRuczPmVuvxzqXWWa0LkKohPd6KxG0OGNMl+ldoU9m OkI9qmB8L/BmV9AamfN0UbFOLL+6zuv9OUB7ZUXZZUAyG01cZj6V6zbqsf7wO1CjOED4 4y44BG9Cz/GuQ+5dTVZxdpmKEKA92mVeCZfa+aaKxv3Hq6VvKmBsIlVqrrOpJfwis7j6 XnoA== X-Gm-Message-State: AOJu0YwbHKZv/ErN5/U2PkP2jd8uCQEjxyGc+c+AfPXNrEQIQiYVJGgs GoVQKKNhwm/5Ws27MQAYcSasUMjN4syXtdDxLnoLX/HkrDFcjNscIOIzpCJ8oSCcjVWz9QfhB8F q4tHvt2cZAqBRx6ecYa1GCSLtv7C3AN2Ztbl7ar32oplpflz5lL5ka242 X-Gm-Gg: ASbGnctKUVbmNHvM3BIcbUFVO3pld2ZnzCj834PmLgxdfsbE+hytkMB/Xp7nziFvtng Y2MfEc8Kx5jft+vB+yQZBhO1VIfgRohnr9QuEnf6WFrgGfuh3aoK0AE7lTGHbG2FKfd4fqNGMNI I8pEAgVZHfWOnZ/E3UWESInwx+9RGQxatO7wAM2rz97iiZ5DW4rNw2TUdwO5WdOHPDzLeKIEXD6 MNY3EVC8rezRgDuYu5KJtFCESQhfPRKP60mNrvGFdXL6C/qq6mKu9cbQfjYWq4utS0t7PbE7777 cd3m08fX0Pwp277LmxTF4geYh0rEHa8gExd/ X-Google-Smtp-Source: AGHT+IHcdzrlu0t2sDuNRM6dX5ER78iDSNG7RM9kONlYrFxkbeoS0cUyXrI5QYQJqXTCFG7zSIs5kwd4qMBt X-Received: by 2002:a17:902:ebca:b0:223:6657:5003 with SMTP id d9443c01a7336-22e1ea615b6mr170636655ad.32.1746536919368; Tue, 06 May 2025 06:08:39 -0700 (PDT) Received: from postal.iol.unh.edu (postal.iol.unh.edu. [2606:4100:3880:1234::84]) by smtp-relay.gmail.com with ESMTPS id d9443c01a7336-22e15233334sm17379335ad.102.2025.05.06.06.08.39 (version=TLS1_2 cipher=ECDHE-ECDSA-AES128-GCM-SHA256 bits=128/128); Tue, 06 May 2025 06:08:39 -0700 (PDT) X-Relaying-Domain: iol.unh.edu Date: Tue, 06 May 2025 06:08:39 -0700 (PDT) Message-ID: <681a09d7.170a0220.3a8393.53beSMTPIN_ADDED_MISSING@mx.google.com> Received: from [172.17.0.2] (unknown [172.18.0.74]) by postal.iol.unh.edu (Postfix) with ESMTP id 886026052471; Tue, 6 May 2025 09:08:38 -0400 (EDT) Subject: |SUCCESS| pw153296 [PATCH] [1/1] net/mlx5: unresolved symbol mlx5_ge From: dpdklab@iol.unh.edu To: Test Report Cc: dpdk-test-reports@iol.unh.edu In-Reply-To: <1746456337-6278-2-git-send-email-andremue@linux.microsoft.com> References: <1746456337-6278-2-git-send-email-andremue@linux.microsoft.com> Content-Type: text/plain X-BeenThere: test-report@dpdk.org X-Mailman-Version: 2.1.29 Precedence: list List-Id: automatic DPDK test reports List-Unsubscribe: , List-Archive: List-Post: List-Help: List-Subscribe: , Errors-To: test-report-bounces@dpdk.org Test-Label: iol-sample-apps-testing Test-Status: SUCCESS http://dpdk.org/patch/153296 _Testing PASS_ Submitter: Andre Muezerie Date: Monday, May 05 2025 14:45:37 DPDK git baseline: Repo:dpdk Branch: master CommitID:edd3f4b1265e6da707c46ca9b6c39d332647baea 153296 --> testing pass Upstream job id: ACVP-FIPS-testing#9717 Test environment and result as below: +--------------------+----------------------+----------------------+ | Environment | compressdev_zlib_pmd | dpdk_fips_validation | +====================+======================+======================+ | Ubuntu 22.04 (ARM) | PASS | SKIPPED | +--------------------+----------------------+----------------------+ | Ubuntu 22.04 | PASS | SKIPPED | +--------------------+----------------------+----------------------+ | Ubuntu 20.04 | SKIPPED | PASS | +--------------------+----------------------+----------------------+ Ubuntu 22.04 (ARM) Kernel: 5.15.0-97-generic Compiler: gcc gcc (Ubuntu 11.4.0-1ubuntu1~22.04) 11.4.0 Ubuntu 22.04 Kernel: 5.15.0-100-generic Compiler: gcc gcc (Ubuntu 11.4.0-1ubuntu1~22.04) 11.4.0 Ubuntu 20.04 Kernel: Depends on container host Compiler: gcc (Ubuntu 9.4.0-1ubuntu1~20.04.2) 9.4.0 To view detailed results, visit: https://lab.dpdk.org/results/dashboard/patchsets/33109/ UNH-IOL DPDK Community Lab To manage your email subscriptions, visit: https://lab.dpdk.org/results/dashboard/preferences/subscriptions/