From mboxrd@z Thu Jan 1 00:00:00 1970 Return-Path: Received: from mails.dpdk.org (mails.dpdk.org [217.70.189.124]) by inbox.dpdk.org (Postfix) with ESMTP id DCEAE466DA for ; Tue, 6 May 2025 15:26:20 +0200 (CEST) Received: from mails.dpdk.org (localhost [127.0.0.1]) by mails.dpdk.org (Postfix) with ESMTP id D7B4840269; Tue, 6 May 2025 15:26:20 +0200 (CEST) Received: from mail-oo1-f97.google.com (mail-oo1-f97.google.com [209.85.161.97]) by mails.dpdk.org (Postfix) with ESMTP id DF7A240150 for ; Tue, 6 May 2025 15:26:18 +0200 (CEST) Received: by mail-oo1-f97.google.com with SMTP id 006d021491bc7-60402c94319so3551010eaf.1 for ; Tue, 06 May 2025 06:26:18 -0700 (PDT) DKIM-Signature: v=1; a=rsa-sha256; c=relaxed/relaxed; d=iol.unh.edu; s=unh-iol; t=1746537978; x=1747142778; darn=dpdk.org; h=references:in-reply-to:cc:to:from:subject:message-id:date:from:to :cc:subject:date:message-id:reply-to; bh=wabEfWGmiOvHyuoh5dWOLRgLrsmp947EDAczwL7xG/I=; b=WGEvxtCaRgGR8dxZS9ewDRQWg72QPv4FKEHQiYnIusQpnrLvvDlUCirMoIPyMigh9s 3iaC44xSXWIENf/7Er4mb6iGP5lP5Y8JqTWDsG+cYVtvZatgnhQdqP9wceLx7gOefL7C e7bH3B8aLpAdqfxk3nFLdgbQtty6K8Jv5Quto= X-Google-DKIM-Signature: v=1; a=rsa-sha256; c=relaxed/relaxed; d=1e100.net; s=20230601; t=1746537978; x=1747142778; h=references:in-reply-to:cc:to:from:subject:message-id:date :x-gm-message-state:from:to:cc:subject:date:message-id:reply-to; bh=wabEfWGmiOvHyuoh5dWOLRgLrsmp947EDAczwL7xG/I=; b=boQAJe7hGM7J/pVVoILYSN19VosiFV2Tf8Q3sOYQFTAh7toYdFdLP0duuaHh5dfTI1 BPGh69FL4GPIOnESms0OBJwyP/fdDgDP8vmLqJ3eTW1wuaFJVXDuA/ikeSxqizb7CIew SFriY/lR6CjI2h/5gUSBSOpF9Nj2idp3bQY9MShD9qse6PSBngHrJVMgoED0RL7M/Grf P8i35Omt6a1wqTXJbu+wmaMmSE9KUPnkArk7XoLDi1gMmHuAaQF29jy7nbCgT3Kk2bIo 0fNHaiTDfBBVnz24SEHku27Ic7XuIuWxMJp9OsS9E341NCZA7ydFU5aEDcTMPxqRvK1j G7xA== X-Gm-Message-State: AOJu0YytjS1c5X3oT14pezGBhknKu6UOviB/S/lx1vuNKXPyTpz2SGex vN5iBaX0xZk28zDWuUjIdbcjF1hmdgjk4wvokpH9koLXL2h/vZgmNjCQVbX4ESFqijNTvh8g70v WhZRQGflBcsbp4ZNDQVYmDTZL/QjOzjq33ympvsyO X-Gm-Gg: ASbGncs+Dtq6RPLejqmLkvETIQYpRYzZWeeSXwYU2VXXp4VpgcnBpjoYEmuTgZFSmUQ mmfbzeKhkOL3IThF5a8kPJPGoRlC7A9+AsSavmW2i7ghdnQ070LkPHvMC5A6/hGj4x+/oUbdn+V jeL0E7jFfcBv70dG6X7zXE5qdaq9heU1J9vdoH3T/77NaAtUHUNT6POlwBrmrZKJlQ/GBO9LAd2 8VpOuko6HGuUk1Wmd5YnGTN0Bvn98Uf1xADsse/T+o4kRVZGzP960kubOxY/GFxzvN59R8ProlW H8lqudjpnNBnzZHiPyGOUbRQPXWYv2Jng//S2O/YP+kTB2Fxxi9ARlkWpTk= X-Google-Smtp-Source: AGHT+IHQ+xDGhRfS4qEjXsI0LLI5SosArVJ2Cj2vLyw5qnLR9JSNDO3jgcDuDLdwIrE6F42KmBA0LTlQmm40 X-Received: by 2002:a05:6871:3413:b0:29e:5297:a2a7 with SMTP id 586e51a60fabf-2dab3321f7emr9819891fac.30.1746537978148; Tue, 06 May 2025 06:26:18 -0700 (PDT) Received: from postal.iol.unh.edu (postal.iol.unh.edu. [132.177.123.84]) by smtp-relay.gmail.com with ESMTPS id 586e51a60fabf-2daa11fe5a0sm2225677fac.33.2025.05.06.06.26.18 (version=TLS1_2 cipher=ECDHE-ECDSA-AES128-GCM-SHA256 bits=128/128); Tue, 06 May 2025 06:26:18 -0700 (PDT) X-Relaying-Domain: iol.unh.edu Date: Tue, 06 May 2025 06:26:18 -0700 (PDT) Message-ID: <681a0dfa.050a0220.905ac.8e6cSMTPIN_ADDED_MISSING@mx.google.com> Received: from [172.21.0.17] (unknown [172.18.0.240]) by postal.iol.unh.edu (Postfix) with ESMTP id 9EFAC6052471; Tue, 6 May 2025 09:26:17 -0400 (EDT) Subject: |WARNING| pw153302 [PATCH] [1/1] buildtools: avoid break due to fail From: dpdklab@iol.unh.edu To: Test Report Cc: dpdk-test-reports@iol.unh.edu In-Reply-To: <1746474405-5056-2-git-send-email-andremue@linux.microsoft.com> References: <1746474405-5056-2-git-send-email-andremue@linux.microsoft.com> Content-Type: text/plain X-BeenThere: test-report@dpdk.org X-Mailman-Version: 2.1.29 Precedence: list List-Id: automatic DPDK test reports List-Unsubscribe: , List-Archive: List-Post: List-Help: List-Subscribe: , Errors-To: test-report-bounces@dpdk.org Test-Label: iol-sample-apps-testing Test-Status: WARNING http://dpdk.org/patch/153302 _Testing issues_ Submitter: Andre Muezerie Date: Monday, May 05 2025 19:46:45 DPDK git baseline: Repo:dpdk Branch: master CommitID:ca1690ebd224f148268285b15b97441ccdbdd07e 153302 --> testing issues Upstream job id: ACVP-FIPS-testing#9718 Test environment and result as below: +--------------------+----------------------+----------------------+ | Environment | compressdev_zlib_pmd | dpdk_fips_validation | +====================+======================+======================+ | Ubuntu 22.04 (ARM) | PASS | SKIPPED | +--------------------+----------------------+----------------------+ | Ubuntu 22.04 | PASS | SKIPPED | +--------------------+----------------------+----------------------+ | Ubuntu 20.04 | SKIPPED | WARN | +--------------------+----------------------+----------------------+ ==== 20 line log output for Ubuntu 20.04 (dpdk_fips_validation): ==== with tempfile.TemporaryDirectory(dir=tmp_root, ignore_cleanup_errors=True) as temp: TypeError: __init__() got an unexpected keyword argument 'ignore_cleanup_errors' [597/3510] Generating rte_bus_cdx_map with a custom command [598/3510] Compiling C object lib/librte_node.a.p/node_udp4_input.c.o [599/3510] Compiling C object drivers/libtmp_rte_bus_auxiliary.a.p/bus_auxiliary_auxiliary_params.c.o [600/3510] Generating symbol file lib/librte_graph.so.25.2.p/librte_graph.so.25.2.symbols [601/3510] Compiling C object drivers/libtmp_rte_common_ionic.a.p/common_ionic_ionic_common_uio.c.o [602/3510] Compiling C object drivers/libtmp_rte_common_dpaax.a.p/common_dpaax_caamflib.c.o [603/3510] Compiling C object drivers/libtmp_rte_common_octeontx.a.p/common_octeontx_octeontx_mbox.c.o [604/3510] Generating symbol file lib/librte_table.so.25.2.p/librte_table.so.25.2.symbols [605/3510] Compiling C object drivers/libtmp_rte_common_dpaax.a.p/common_dpaax_dpaax_iova_table.c.o [606/3510] Compiling C object drivers/libtmp_rte_bus_auxiliary.a.p/bus_auxiliary_linux_auxiliary.c.o [607/3510] Compiling C object drivers/libtmp_rte_bus_auxiliary.a.p/bus_auxiliary_auxiliary_common.c.o [608/3510] Compiling C object drivers/libtmp_rte_bus_cdx.a.p/bus_cdx_cdx.c.o [609/3510] Compiling C object drivers/libtmp_rte_bus_cdx.a.p/bus_cdx_cdx_vfio.c.o [610/3510] Compiling C object lib/librte_vhost.a.p/vhost_vhost_crypto.c.o [611/3510] Compiling C object lib/librte_pipeline.a.p/pipeline_rte_swx_pipeline.c.o [612/3510] Compiling C object lib/librte_vhost.a.p/vhost_virtio_net.c.o [613/3510] Compiling C object lib/librte_pipeline.a.p/pipeline_rte_table_action.c.o ninja: build stopped: subcommand failed. ==== End log output ==== Ubuntu 22.04 (ARM) Kernel: 5.15.0-97-generic Compiler: gcc gcc (Ubuntu 11.4.0-1ubuntu1~22.04) 11.4.0 Ubuntu 22.04 Kernel: 5.15.0-100-generic Compiler: gcc gcc (Ubuntu 11.4.0-1ubuntu1~22.04) 11.4.0 Ubuntu 20.04 Kernel: Depends on container host Compiler: gcc (Ubuntu 9.4.0-1ubuntu1~20.04.2) 9.4.0 To view detailed results, visit: https://lab.dpdk.org/results/dashboard/patchsets/33115/ UNH-IOL DPDK Community Lab To manage your email subscriptions, visit: https://lab.dpdk.org/results/dashboard/preferences/subscriptions/