From mboxrd@z Thu Jan 1 00:00:00 1970 Return-Path: Received: from mails.dpdk.org (mails.dpdk.org [217.70.189.124]) by inbox.dpdk.org (Postfix) with ESMTP id 969D5466DA for ; Tue, 6 May 2025 15:45:43 +0200 (CEST) Received: from mails.dpdk.org (localhost [127.0.0.1]) by mails.dpdk.org (Postfix) with ESMTP id 925A7402F2; Tue, 6 May 2025 15:45:43 +0200 (CEST) Received: from mail-qk1-f228.google.com (mail-qk1-f228.google.com [209.85.222.228]) by mails.dpdk.org (Postfix) with ESMTP id 32323402AB for ; Tue, 6 May 2025 15:45:42 +0200 (CEST) Received: by mail-qk1-f228.google.com with SMTP id af79cd13be357-7c5a88b34a6so601015285a.3 for ; Tue, 06 May 2025 06:45:42 -0700 (PDT) DKIM-Signature: v=1; a=rsa-sha256; c=relaxed/relaxed; d=iol.unh.edu; s=unh-iol; t=1746539141; x=1747143941; darn=dpdk.org; h=references:in-reply-to:cc:to:from:subject:message-id:date:from:to :cc:subject:date:message-id:reply-to; bh=d5OmphkUHmjFXaXt98qlEoiXyU1ACp+J8G74XAPpyRE=; b=EfNwyzkAl0VVFhBnKEdnAhraOQZ9X5xA4JZ0dlARRbuOlGcJCbvVyJ1dCtcvmnqWUg ncSK7KYO6Htq3tJSao21AUNhPfEzuCBiM7LAejwQ154d1jsRY4IMJGx2xmecy4RVAAdQ Qaje4T94B040vP8e56WcPMRqBrtQEdGZ3dnc4= X-Google-DKIM-Signature: v=1; a=rsa-sha256; c=relaxed/relaxed; d=1e100.net; s=20230601; t=1746539141; x=1747143941; h=references:in-reply-to:cc:to:from:subject:message-id:date :x-gm-message-state:from:to:cc:subject:date:message-id:reply-to; bh=d5OmphkUHmjFXaXt98qlEoiXyU1ACp+J8G74XAPpyRE=; b=wx4EM+U/Ey0YeGiHlvi8c2B8ApBb+L48Rq/NIhBT0PAmcu6O5XhkFaG68VRCzH4Ipr lDQUS3g0YzzguMvMD6+yIImRM6+TOOJN8z/wAhF8jh6Bg/LeAspklTnP692/kQETtKSS a28A070eKeyZLEYjohsl6YtGqvZvmik5vVji/OunB1tMlr4A4emJ53Rm0m2L84wGuCZI R5lJLe7OOsmPOgw2nLZq9NGoHbxl/ozHspbX3ifXZV4I2+Wcsbl6PLiKLUpjulbDAJtC DGiqyKHmsZiv5cAQ3sTNOFovRCYpkR+Jn9LxjyW9AxDlbULbbg79NmITs1ig4IFrrz9j CE/g== X-Gm-Message-State: AOJu0Yyk5keIKEHwSP2uQMVkWjqmoeS17kQl/xDht1Dsn9lyHrbgb9+v LYOBEnSR2aXdA4ueqr0aUiBSQWFX3LOJRdpbMH5an28U3l8zk6hUHxBydp1CrXR2gHU68yS5fQg t+Oy/vqoywczO9hGhALNyY0kWINwFJiXQMu8E9Fzo X-Gm-Gg: ASbGncv39XoWsFfUXYHHeQtXfVSrlbncMwIsyWjeHf8C1BFvVS70mcUhASS/TkXcB5k Ylfk4Np9caveCochkr94/NiNN0h+7o9RQ2gAl3Uoap6mtSGFjU+nxdzBsDxS9J/EbB3eGTVAa19 5DeQCx4Ir9cNW9fBK5RoP/v1dy9QT0dvFGARpOii3Qr8b0EXSXXlirpH9Y7s5owC0TTZLJAeo6Z ATT8zQIStDPuXqPzKkW9zv3/u8G0m5n6JIYyrax6MkRTtxg+H4xEEIewPAMPq9eujc3uqyjHm9Y tjxjSScgXa7SCU1qcgs2v4nHbu5QMERWJCly9yoP1U9cjffLQsFAwjDD1as= X-Google-Smtp-Source: AGHT+IG2vaA7i8XidT6KZhdR1kblkgIBxKrUdepMbYWnR3NRJAOXfi/EN5TJPN9IZ+MgPmtJUzD8Q6qCmJ/1 X-Received: by 2002:a05:620a:2455:b0:7c5:5670:bd6f with SMTP id af79cd13be357-7caf09d5b0bmr590078185a.53.1746539141446; Tue, 06 May 2025 06:45:41 -0700 (PDT) Received: from postal.iol.unh.edu (postal.iol.unh.edu. [132.177.123.84]) by smtp-relay.gmail.com with ESMTPS id af79cd13be357-7cad23b60c0sm130724785a.1.2025.05.06.06.45.41 (version=TLS1_2 cipher=ECDHE-ECDSA-AES128-GCM-SHA256 bits=128/128); Tue, 06 May 2025 06:45:41 -0700 (PDT) X-Relaying-Domain: iol.unh.edu Date: Tue, 06 May 2025 06:45:41 -0700 (PDT) Message-ID: <681a1285.050a0220.e6c99.fa05SMTPIN_ADDED_MISSING@mx.google.com> Received: from [172.21.0.16] (unknown [172.18.0.240]) by postal.iol.unh.edu (Postfix) with ESMTP id E74BE6052471; Tue, 6 May 2025 09:45:40 -0400 (EDT) Subject: |SUCCESS| pw153305 [PATCH] net/ice: fix support for 3 scheduler leve From: dpdklab@iol.unh.edu To: Test Report Cc: dpdk-test-reports@iol.unh.edu In-Reply-To: <20250506103414.892849-1-bruce.richardson@intel.com> References: <20250506103414.892849-1-bruce.richardson@intel.com> Content-Type: text/plain X-BeenThere: test-report@dpdk.org X-Mailman-Version: 2.1.29 Precedence: list List-Id: automatic DPDK test reports List-Unsubscribe: , List-Archive: List-Post: List-Help: List-Subscribe: , Errors-To: test-report-bounces@dpdk.org Test-Label: iol-unit-amd64-testing Test-Status: SUCCESS http://dpdk.org/patch/153305 _Testing PASS_ Submitter: Bruce Richardson Date: Tuesday, May 06 2025 10:34:14 DPDK git baseline: Repo:dpdk Branch: master CommitID:2665bfb9838fec7ea6c3b2be5831f93ee087b288 153305 --> testing pass Upstream job id: Generic-VM-Unit-Test-DPDK#28353 Test environment and result as below: +---------------------+----------------+ | Environment | dpdk_unit_test | +=====================+================+ | CentOS Stream 9 | PASS | +---------------------+----------------+ | CentOS Stream 10 | PASS | +---------------------+----------------+ | Fedora 40 | PASS | +---------------------+----------------+ | Debian 12 | PASS | +---------------------+----------------+ | RHEL8 | PASS | +---------------------+----------------+ | RHEL9 | PASS | +---------------------+----------------+ | Fedora 40 (Clang) | PASS | +---------------------+----------------+ | Fedora 41 (Clang) | PASS | +---------------------+----------------+ | Fedora 41 | PASS | +---------------------+----------------+ | Ubuntu 20.04 | PASS | +---------------------+----------------+ | Ubuntu 24.04 | PASS | +---------------------+----------------+ | Ubuntu 22.04 | PASS | +---------------------+----------------+ | Windows Server 2022 | PASS | +---------------------+----------------+ CentOS Stream 9 Kernel: Depends on container host Compiler: gcc 11.5.0 20240719 (Red Hat 11.5.0-2) CentOS Stream 10 Kernel: Depends on container host Compiler: gcc 14.2.1 20241104 (Red Hat 14.2.1-6) Fedora 40 Kernel: Depends on container host Compiler: gcc 14.2.1 20240912 (Red Hat 14.2.1-3) Debian 12 Kernel: Depends on container host Compiler: gcc (Debian 12.2.0-14) 12.2.0 RHEL8 Kernel: Depends on container host Compiler: gcc 8.5.0 20210514 (Red Hat 8.5.0-22) RHEL9 Kernel: Depends on container host Compiler: gcc 11.5.0 20240719 (Red Hat 11.5.0-2) Fedora 40 (Clang) Kernel: Depends on container host Compiler: clang 18.1.8 (Fedora 18.1.8-1.fc40) Fedora 41 (Clang) Kernel: Depends on container host Compiler: clang 19.1.5 (Fedora 19.1.5-1.fc41) Fedora 41 Kernel: Depends on container host Compiler: gcc 14.2.1 20240912 (Red Hat 14.2.1-3) Ubuntu 20.04 Kernel: Depends on container host Compiler: gcc (Ubuntu 9.4.0-1ubuntu1~20.04.2) 9.4.0 Ubuntu 24.04 Kernel: Depends on container host Compiler: gcc (Ubuntu 13.3.0-6ubuntu2~24.04) 13.3.0 Ubuntu 22.04 Kernel: Depends on container host Compiler: gcc (Ubuntu 11.4.0-1ubuntu1~22.04) 11.4.0 Windows Server 2022 Kernel: 10.0.20348.2031 Compiler: clang 15.0.7, gcc 14.1.0 (MinGW), and MSVC VS 19.39.33521 To view detailed results, visit: https://lab.dpdk.org/results/dashboard/patchsets/33118/ UNH-IOL DPDK Community Lab To manage your email subscriptions, visit: https://lab.dpdk.org/results/dashboard/preferences/subscriptions/