From mboxrd@z Thu Jan 1 00:00:00 1970 Return-Path: Received: from mails.dpdk.org (mails.dpdk.org [217.70.189.124]) by inbox.dpdk.org (Postfix) with ESMTP id 7F966466DB for ; Tue, 6 May 2025 16:38:59 +0200 (CEST) Received: from mails.dpdk.org (localhost [127.0.0.1]) by mails.dpdk.org (Postfix) with ESMTP id 5DF3A40261; Tue, 6 May 2025 16:38:59 +0200 (CEST) Received: from mail-yb1-f228.google.com (mail-yb1-f228.google.com [209.85.219.228]) by mails.dpdk.org (Postfix) with ESMTP id EAD754025D for ; Tue, 6 May 2025 16:38:57 +0200 (CEST) Received: by mail-yb1-f228.google.com with SMTP id 3f1490d57ef6-e75bb8f5417so1029475276.0 for ; Tue, 06 May 2025 07:38:57 -0700 (PDT) DKIM-Signature: v=1; a=rsa-sha256; c=relaxed/relaxed; d=iol.unh.edu; s=unh-iol; t=1746542337; x=1747147137; darn=dpdk.org; h=references:in-reply-to:cc:to:from:subject:message-id:date:from:to :cc:subject:date:message-id:reply-to; bh=VMGWgQdWIOMoKRHJuJa7sBXKu+C7cZE7ywtCQAil1uE=; b=U0QZVH4buJj3ohiXqaNpoLvoIP9lsd06P5f07R5d6gp/eZUZriEl67plpSs9w1ia9d 64OTD3LfwznI9GP5TdvF2gXZZv6ueaotGVpi5KKp4AZBj8G0+h4874SJI/FSAHOo84MC J0CjSGmWXQPWa7syZWt9ABKKegGSarB7n2kxA= X-Google-DKIM-Signature: v=1; a=rsa-sha256; c=relaxed/relaxed; d=1e100.net; s=20230601; t=1746542337; x=1747147137; h=references:in-reply-to:cc:to:from:subject:message-id:date :x-gm-message-state:from:to:cc:subject:date:message-id:reply-to; bh=VMGWgQdWIOMoKRHJuJa7sBXKu+C7cZE7ywtCQAil1uE=; b=o9ES0K0VLv9C8tqMPPtc+zA2ctwzp/kLUBJmx6XxFJYLDy53nSp34lXMBRzp9w8oBu Jmvys9u4Z1phYL7aXkn08zfpNrbCwJONkZEQFS3zjYCb98FgzH3cG7QrtuS7N89eByky caFAYRUBYr44kT6aKzJMON+Af8WD1cdAaK2xayYR2CIL0l0dOQSK9iJUZjHcXnhfqPWW XJXfBVQRJ9kwrdoxWpXlojZ/waVDyYp7QiBGqR/xiXzKKQRvmeeUffQc3GuDqEIL/H65 wL62LdSc3CERqQ8VwW74hKSilMua4LLEmNtgCN9zQ/yD0JteCo4M/0QNxZL9qZlqR+/L upGA== X-Gm-Message-State: AOJu0YxCJQv67QFpIwcQfTVFFhjKl3cyPNsHQrrMseBiV5Ngjh0PM+ZH UfmCLOPmJ/Xnvgo3w0BJ7V5eGAHkI6dXT+ch7ERxBpAHGnWvCWWfpY/Ihei6pzWI0Ro4/KSpTpP gmCWMtAo4SguDnTv69nIz8Lf7mf0Dg5d1FExB4pdcshliz61f2Kq62fWY X-Gm-Gg: ASbGncvnuvhduPON9mNGY6zCefNEhKjwCN+oGWsrTTYJvL8InwhPcixVIoBEOjOdHsx xw2y7TAjjIL5cZZIMNRDs2IzOuHunyhHqM5ilLv62U6GuCBqP+O8+COGj6NZDZL06+6YVx5sTqK NvpjjpnASgY68boZNpvBRZdLjyhxK7rxaVQ/qmOdVc4GYNXIROlkxtEgo958KVTEiB32Fa6R3nQ DMdnEvq09s/9xT2ejh4CjDg+RApGNpIJI/rb1eicqPtgv5054i/WU4/T0DDe8mfOUh/yR0plahe 01v3w3zeZJ9vFgJqrop6IB7xOqV9vTtsgHwl X-Google-Smtp-Source: AGHT+IFxP6VQ5qQcPyayF5oMmSsicX5j1CpxKaWOzdDhtmNrJMmUOvp2ZsVf6604TMw7qDhjIEkL8EKFC89Q X-Received: by 2002:a05:6902:4608:b0:e73:cd3:5250 with SMTP id 3f1490d57ef6-e75bf12e90emr5561460276.23.1746542337025; Tue, 06 May 2025 07:38:57 -0700 (PDT) Received: from postal.iol.unh.edu (postal.iol.unh.edu. [2606:4100:3880:1234::84]) by smtp-relay.gmail.com with ESMTPS id 3f1490d57ef6-e75607fa37asm1919706276.6.2025.05.06.07.38.56 (version=TLS1_2 cipher=ECDHE-ECDSA-AES128-GCM-SHA256 bits=128/128); Tue, 06 May 2025 07:38:57 -0700 (PDT) X-Relaying-Domain: iol.unh.edu Date: Tue, 06 May 2025 07:38:57 -0700 (PDT) Message-ID: <681a1f01.250a0220.e4430.0125SMTPIN_ADDED_MISSING@mx.google.com> Received: from [172.17.0.2] (unknown [172.18.0.74]) by postal.iol.unh.edu (Postfix) with ESMTP id 926DC6052471; Tue, 6 May 2025 10:38:56 -0400 (EDT) Subject: |SUCCESS| pw153301 [PATCH] doc: update parameters to use for mlx5 on From: dpdklab@iol.unh.edu To: Test Report Cc: dpdk-test-reports@iol.unh.edu In-Reply-To: <1746458561-13525-1-git-send-email-andremue@linux.microsoft.com> References: <1746458561-13525-1-git-send-email-andremue@linux.microsoft.com> Content-Type: text/plain X-BeenThere: test-report@dpdk.org X-Mailman-Version: 2.1.29 Precedence: list List-Id: automatic DPDK test reports List-Unsubscribe: , List-Archive: List-Post: List-Help: List-Subscribe: , Errors-To: test-report-bounces@dpdk.org Test-Label: iol-sample-apps-testing Test-Status: SUCCESS http://dpdk.org/patch/153301 _Testing PASS_ Submitter: Andre Muezerie Date: Monday, May 05 2025 15:22:41 DPDK git baseline: Repo:dpdk Branch: master CommitID:edd3f4b1265e6da707c46ca9b6c39d332647baea 153301 --> testing pass Upstream job id: ACVP-FIPS-testing#9719 Test environment and result as below: +--------------------+----------------------+----------------------+ | Environment | compressdev_zlib_pmd | dpdk_fips_validation | +====================+======================+======================+ | Ubuntu 22.04 (ARM) | PASS | SKIPPED | +--------------------+----------------------+----------------------+ | Ubuntu 22.04 | PASS | SKIPPED | +--------------------+----------------------+----------------------+ | Ubuntu 20.04 | SKIPPED | PASS | +--------------------+----------------------+----------------------+ Ubuntu 22.04 (ARM) Kernel: 5.15.0-97-generic Compiler: gcc gcc (Ubuntu 11.4.0-1ubuntu1~22.04) 11.4.0 Ubuntu 22.04 Kernel: 5.15.0-100-generic Compiler: gcc gcc (Ubuntu 11.4.0-1ubuntu1~22.04) 11.4.0 Ubuntu 20.04 Kernel: Depends on container host Compiler: gcc (Ubuntu 9.4.0-1ubuntu1~20.04.2) 9.4.0 To view detailed results, visit: https://lab.dpdk.org/results/dashboard/patchsets/33114/ UNH-IOL DPDK Community Lab To manage your email subscriptions, visit: https://lab.dpdk.org/results/dashboard/preferences/subscriptions/