From mboxrd@z Thu Jan 1 00:00:00 1970 Return-Path: Received: from mails.dpdk.org (mails.dpdk.org [217.70.189.124]) by inbox.dpdk.org (Postfix) with ESMTP id 69888466DB for ; Tue, 6 May 2025 16:58:31 +0200 (CEST) Received: from mails.dpdk.org (localhost [127.0.0.1]) by mails.dpdk.org (Postfix) with ESMTP id 430FB40261; Tue, 6 May 2025 16:58:31 +0200 (CEST) Received: from mail-yw1-f228.google.com (mail-yw1-f228.google.com [209.85.128.228]) by mails.dpdk.org (Postfix) with ESMTP id CC8E34025D for ; Tue, 6 May 2025 16:58:30 +0200 (CEST) Received: by mail-yw1-f228.google.com with SMTP id 00721157ae682-7082e46880eso49778857b3.1 for ; Tue, 06 May 2025 07:58:30 -0700 (PDT) DKIM-Signature: v=1; a=rsa-sha256; c=relaxed/relaxed; d=iol.unh.edu; s=unh-iol; t=1746543510; x=1747148310; darn=dpdk.org; h=references:in-reply-to:cc:to:from:subject:message-id:date:from:to :cc:subject:date:message-id:reply-to; bh=TizBXBOG7HKj3p2Pj81pbA2Ko8tLNlHKQwZyITGKgDQ=; b=Z6MDy3S31s0rRah9d+YCW5CPwtwtBty+fWGZKgF8PxQXnCus8kmQb4UeyiXbCfCeAR O9n1VMeXBCurYZq75J2eAOfFGmgK+lcsGXoZom9hwlFryZItZgK8y/Xn37pN7RYsa9A1 iqz2jiw+/YuD0zuxFo6MyMRcBdzl3TNLMfv4w= X-Google-DKIM-Signature: v=1; a=rsa-sha256; c=relaxed/relaxed; d=1e100.net; s=20230601; t=1746543510; x=1747148310; h=references:in-reply-to:cc:to:from:subject:message-id:date :x-gm-message-state:from:to:cc:subject:date:message-id:reply-to; bh=TizBXBOG7HKj3p2Pj81pbA2Ko8tLNlHKQwZyITGKgDQ=; b=ochJ2KyoMqnRkF2/+UuXB8NSpJ4WpJk5z3MtNqv5egc2oueKkguWhbv6gz1ltkdROd AHMZ34Ea0y3Ep6CGp6FqK48DAXMJt5jjMWpaxUtv9JuKJw8ERi5Bdue/X8CDd8XrA3if /bpdi3BanbDEpXz2hHq1O288YfbrWHnURKao/tOGMd2xXLZYDAA5CDRfvTcA7ZfY2sAu hFOi71I1pxi5vUHHgXvdKOOKuA7F961M/xi8g+lzdwCF/NR0aem0qLduU7GrvVFQ6vCr PHAK40lUJkLqzE3dWon+alF0OQMtsvB34BaBeoX03ynayZbcea5/Oqs3QN5WKKcIN89M /HMg== X-Gm-Message-State: AOJu0Yw2EhD3/tkYPToQ9/mvr4cL0T+GL69DJsDqjtAnUF8GUKTmfUg+ rw69fVYOiPGMh6NIjyd0U2fooNnzcNFX0KFNgYS72s3N1Sys2Wl4S2eLxXI2UfAqCkr57k5W/qD osfttRUL7GrnkVy0+r9Kua+sN6ocOK1JBt9mdlmkU X-Gm-Gg: ASbGnct4TeGNt6IWkpT1LjCmiEK8mmhVRehyRVZ5ser4LWvIk5opzU9QiH9yLN/SeWk L7kW+sEPSN/tGj6gB5B2rMueSMlpga0i8hZYqfbMgoEBoBXPZEV+W7vD1CCVj97JoGUiJ7kMY0M 26tF90DkwiNOwKWxOeKbHuuHUamLN9FbD4eML1ME7+P0wJkwVOpF2umX+HZLb58R3x8w36AW368 O+R8BIkqMTx05RX2vRjSqeJYtMXEEV5zkHTcWgHDQ0E2xjk5MUvwx/wYvBAe4Z5wJZzPLeD6sVV mQrS79k8uvJsxdSaZ+ccw6awGaLtGy4a0FoaYUmxz1je2Pp78iSkrlpVTzM= X-Google-Smtp-Source: AGHT+IHemGDVhYY/6JvBfSLKBSZWu9EEiuVWhswGQeBLAdJo1/xvt0S6Xlu+sTN7kqLTqeG3azqNim/bItFU X-Received: by 2002:a05:690c:680c:b0:708:c2dd:c39f with SMTP id 00721157ae682-70919c7d54amr52126217b3.17.1746543510101; Tue, 06 May 2025 07:58:30 -0700 (PDT) Received: from postal.iol.unh.edu (postal.iol.unh.edu. [132.177.123.84]) by smtp-relay.gmail.com with ESMTPS id 00721157ae682-7092bdd6739sm327857b3.37.2025.05.06.07.58.30 (version=TLS1_2 cipher=ECDHE-ECDSA-AES128-GCM-SHA256 bits=128/128); Tue, 06 May 2025 07:58:30 -0700 (PDT) X-Relaying-Domain: iol.unh.edu Date: Tue, 06 May 2025 07:58:30 -0700 (PDT) Message-ID: <681a2396.050a0220.34ab3a.1c91SMTPIN_ADDED_MISSING@mx.google.com> Received: from [172.17.0.2] (unknown [172.18.0.76]) by postal.iol.unh.edu (Postfix) with ESMTP id ADCA46052471; Tue, 6 May 2025 10:58:29 -0400 (EDT) Subject: |SUCCESS| pw153306 [PATCH] [v2] test/crypto: increment dequeue timeo From: dpdklab@iol.unh.edu To: Test Report Cc: dpdk-test-reports@iol.unh.edu In-Reply-To: <20250506124918.2018-1-gmuthukrishn@marvell.com> References: <20250506124918.2018-1-gmuthukrishn@marvell.com> Content-Type: text/plain X-BeenThere: test-report@dpdk.org X-Mailman-Version: 2.1.29 Precedence: list List-Id: automatic DPDK test reports List-Unsubscribe: , List-Archive: List-Post: List-Help: List-Subscribe: , Errors-To: test-report-bounces@dpdk.org Test-Label: iol-abi-testing Test-Status: SUCCESS http://dpdk.org/patch/153306 _Testing PASS_ Submitter: Gowrishankar Muthukrishnan Date: Tuesday, May 06 2025 12:49:14 DPDK git baseline: Repo:dpdk Branch: master CommitID:ca1690ebd224f148268285b15b97441ccdbdd07e 153306 --> testing pass Upstream job id: Generic-DPDK-Compile-ABI#125428 Test environment and result as below: +-------------------+----------+ | Environment | abi_test | +===================+==========+ | CentOS Stream 9 | PASS | +-------------------+----------+ | CentOS Stream 10 | PASS | +-------------------+----------+ | Debian 12 | PASS | +-------------------+----------+ | Fedora 40 (Clang) | PASS | +-------------------+----------+ | Fedora 40 | PASS | +-------------------+----------+ | Fedora 41 (Clang) | PASS | +-------------------+----------+ | openSUSE Leap 15 | PASS | +-------------------+----------+ | Fedora 41 | PASS | +-------------------+----------+ | Ubuntu 24.04 | PASS | +-------------------+----------+ | RHEL8 | PASS | +-------------------+----------+ | RHEL9 | PASS | +-------------------+----------+ | Ubuntu 22.04 | PASS | +-------------------+----------+ CentOS Stream 9 Kernel: Depends on container host Compiler: gcc 11.5.0 20240719 (Red Hat 11.5.0-2) CentOS Stream 10 Kernel: Depends on container host Compiler: gcc 14.2.1 20241104 (Red Hat 14.2.1-6) Debian 12 Kernel: Depends on container host Compiler: gcc (Debian 12.2.0-14) 12.2.0 Fedora 40 (Clang) Kernel: Depends on container host Compiler: clang 18.1.8 (Fedora 18.1.8-1.fc40) Fedora 40 Kernel: Depends on container host Compiler: gcc 14.2.1 20240912 (Red Hat 14.2.1-3) Fedora 41 (Clang) Kernel: Depends on container host Compiler: clang 19.1.5 (Fedora 19.1.5-1.fc41) openSUSE Leap 15 Kernel: Depends on container host Compiler: gcc (SUSE Linux) 7.5.0 Fedora 41 Kernel: Depends on container host Compiler: gcc 14.2.1 20240912 (Red Hat 14.2.1-3) Ubuntu 24.04 Kernel: Depends on container host Compiler: gcc (Ubuntu 13.3.0-6ubuntu2~24.04) 13.3.0 RHEL8 Kernel: Depends on container host Compiler: gcc 8.5.0 20210514 (Red Hat 8.5.0-22) RHEL9 Kernel: Depends on container host Compiler: gcc 11.5.0 20240719 (Red Hat 11.5.0-2) Ubuntu 22.04 Kernel: Depends on container host Compiler: gcc (Ubuntu 11.4.0-1ubuntu1~22.04) 11.4.0 To view detailed results, visit: https://lab.dpdk.org/results/dashboard/patchsets/33119/ UNH-IOL DPDK Community Lab To manage your email subscriptions, visit: https://lab.dpdk.org/results/dashboard/preferences/subscriptions/