From mboxrd@z Thu Jan 1 00:00:00 1970 Return-Path: Received: from mails.dpdk.org (mails.dpdk.org [217.70.189.124]) by inbox.dpdk.org (Postfix) with ESMTP id 76620466DB for ; Tue, 6 May 2025 17:54:20 +0200 (CEST) Received: from mails.dpdk.org (localhost [127.0.0.1]) by mails.dpdk.org (Postfix) with ESMTP id 48D8740261; Tue, 6 May 2025 17:54:20 +0200 (CEST) Received: from mail-pl1-f225.google.com (mail-pl1-f225.google.com [209.85.214.225]) by mails.dpdk.org (Postfix) with ESMTP id 95B4640261 for ; Tue, 6 May 2025 17:54:18 +0200 (CEST) Received: by mail-pl1-f225.google.com with SMTP id d9443c01a7336-227a8cdd241so72486565ad.3 for ; Tue, 06 May 2025 08:54:18 -0700 (PDT) DKIM-Signature: v=1; a=rsa-sha256; c=relaxed/relaxed; d=iol.unh.edu; s=unh-iol; t=1746546858; x=1747151658; darn=dpdk.org; h=cc:to:from:subject:message-id:date:from:to:cc:subject:date :message-id:reply-to; bh=YilncEH7Gy7qUpzJZrPOb1y8hdldgU3fI6ZdJrZQWcg=; b=ZxD+iZNdZqpd6RqEkuDWDBleqNX6mHuhpYgwpofPXUQDPyOXqrkDdJzftrYTnKQDNk iADVGWGCUw8WPpLylD+LxfugNpjvLDkHHeK2OA5++Vj66VB5K81/JrkvBxUqIA4jhi3G GTJ5NPRLFeQ5aMv4QUF2heEdquPCURc3gbszg= X-Google-DKIM-Signature: v=1; a=rsa-sha256; c=relaxed/relaxed; d=1e100.net; s=20230601; t=1746546858; x=1747151658; h=cc:to:from:subject:message-id:date:x-gm-message-state:from:to:cc :subject:date:message-id:reply-to; bh=YilncEH7Gy7qUpzJZrPOb1y8hdldgU3fI6ZdJrZQWcg=; b=rsy/HGVOCNhV8Tpr0OrNLLqDMeJuzOMjQYSgE5xyPvlW94cxwUWE+JFscB5p4jb58R pf/7R+KuzFuXOzPDivSIpTGzbb91+zIf0jta4aT8daON1DRmL4Ei7AL95ChkUP8ysIzc GNxsRjQWHsN3DXyXswoe2szFpsnA5H1vyGatjaeadzmEWD3LLGKs0NW9/rpFue7UwbeV KpdeuCmKFfFluHjkxn1mfsaNzAg6676YjDBKJSS6/fSWAsFH/Q66lJg1dO8aWbG6PlZq toJ/0VcFzULbgl9zjfDpnXJk1m13I0+NyBsk2L900b17Zke7mPHiVZg0XTTfA1ckEDyC WXvQ== X-Gm-Message-State: AOJu0YwZA3Lx2NC6PXeOzQyj0R0Ztm3RKIwQEX7QNRi61eppZxWr0MFB kLCxnS9DvXuxOiFjbF5V5HyNBjIo+szXZbquKBJ6vI/vGo3tJlXPBIFaHeKVtT0lCpVFux1YO8E PwnH66W399wf9+1lE8altHSFVMWegTTxBrkozLS+VZyYKcRihKHl9ykpe X-Gm-Gg: ASbGncvD5Kh977SLnPayZoRkhdcDuIURHZ48363GxZvPjWJW8+I+XiBn4MEsY44p/nu V5DHqGl+x9a2mGkykHd5ETvMKt8xj4aOZMZvqXEPT+amC6UgIvUvoXIMfv3b2Rfo3vvp8Ec1vms iAf7fl2w9PUN7nEOuF/Inxc3DSO8XB/pu+HPFB03G94M4zqoOG2hEVYE70UdP3QNnmhqmR3nrn1 m79eLE6r7wyVpgIaemW++/i7gO5ngvyi+sS/dQ/5MPmnxoHTBErqp9Eof1KJLiU77ZIOt7MvQdw H3OQ0ToD0zzyuACTVUaw7+ud1moX+NfBUsDv X-Google-Smtp-Source: AGHT+IHjPIX9PZOvoh/y2sCpeLBox6zskJ5hzEDhUFHy2ASaWnjQltFvwGnpqVfS0aUexCyALP4nW7KtFMta X-Received: by 2002:a17:902:ce91:b0:224:ff0:4360 with SMTP id d9443c01a7336-22e366b10f6mr55896975ad.53.1746546857742; Tue, 06 May 2025 08:54:17 -0700 (PDT) Received: from postal.iol.unh.edu (postal.iol.unh.edu. [2606:4100:3880:1234::84]) by smtp-relay.gmail.com with ESMTPS id d9443c01a7336-22e151e971asm17267085ad.36.2025.05.06.08.54.17 (version=TLS1_2 cipher=ECDHE-ECDSA-AES128-GCM-SHA256 bits=128/128); Tue, 06 May 2025 08:54:17 -0700 (PDT) X-Relaying-Domain: iol.unh.edu Date: Tue, 06 May 2025 08:54:17 -0700 (PDT) Message-ID: <681a30a9.170a0220.3c8358.662aSMTPIN_ADDED_MISSING@mx.google.com> Received: from [172.17.0.2] (unknown [172.18.0.74]) by postal.iol.unh.edu (Postfix) with ESMTP id 25B9E6052471; Tue, 6 May 2025 11:54:17 -0400 (EDT) Subject: |SUCCESS| [GIT MASTER] ca1690ebd224f148268285b15b97441ccdbdd07e From: dpdklab@iol.unh.edu To: Test Report Cc: dpdk-test-reports@iol.unh.edu Content-Type: text/plain X-BeenThere: test-report@dpdk.org X-Mailman-Version: 2.1.29 Precedence: list List-Id: automatic DPDK test reports List-Unsubscribe: , List-Archive: List-Post: List-Help: List-Subscribe: , Errors-To: test-report-bounces@dpdk.org _Testing PASS_ Branch: dpdk ca1690ebd224f148268285b15b97441ccdbdd07e --> testing pass Upstream job id: ACVP-FIPS-testing#9721 Test environment and result as below: +--------------------+----------------------+----------------------+ | Environment | compressdev_zlib_pmd | dpdk_fips_validation | +====================+======================+======================+ | Ubuntu 22.04 (ARM) | PASS | SKIPPED | +--------------------+----------------------+----------------------+ | Ubuntu 22.04 | PASS | SKIPPED | +--------------------+----------------------+----------------------+ | Ubuntu 20.04 | SKIPPED | PASS | +--------------------+----------------------+----------------------+ Ubuntu 22.04 (ARM) Kernel: 5.15.0-97-generic Compiler: gcc gcc (Ubuntu 11.4.0-1ubuntu1~22.04) 11.4.0 Ubuntu 22.04 Kernel: 5.15.0-100-generic Compiler: gcc gcc (Ubuntu 11.4.0-1ubuntu1~22.04) 11.4.0 Ubuntu 20.04 Kernel: Depends on container host Compiler: gcc (Ubuntu 9.4.0-1ubuntu1~20.04.2) 9.4.0 To view detailed results, visit: https://lab.dpdk.org/results/dashboard/tarballs/33441/ UNH-IOL DPDK Community Lab To manage your email subscriptions, visit: https://lab.dpdk.org/results/dashboard/preferences/subscriptions/