From mboxrd@z Thu Jan 1 00:00:00 1970 Return-Path: Received: from mails.dpdk.org (mails.dpdk.org [217.70.189.124]) by inbox.dpdk.org (Postfix) with ESMTP id DAF4D466DC for ; Tue, 6 May 2025 18:25:50 +0200 (CEST) Received: from mails.dpdk.org (localhost [127.0.0.1]) by mails.dpdk.org (Postfix) with ESMTP id B78B940261; Tue, 6 May 2025 18:25:50 +0200 (CEST) Received: from mail-il1-f228.google.com (mail-il1-f228.google.com [209.85.166.228]) by mails.dpdk.org (Postfix) with ESMTP id 6B2A24025D for ; Tue, 6 May 2025 18:25:49 +0200 (CEST) Received: by mail-il1-f228.google.com with SMTP id e9e14a558f8ab-3d80bbf3aefso21242035ab.1 for ; Tue, 06 May 2025 09:25:49 -0700 (PDT) DKIM-Signature: v=1; a=rsa-sha256; c=relaxed/relaxed; d=iol.unh.edu; s=unh-iol; t=1746548748; x=1747153548; darn=dpdk.org; h=references:in-reply-to:cc:to:from:subject:message-id:date:from:to :cc:subject:date:message-id:reply-to; bh=NJF8WGmwZaCEbQ0bIcn//PzIpPxAHTcOCk+2nMZR9mM=; b=HIEZt4M+MZby2r2kuO+6Fwowq6wRrA5CIiN6kTArsjNB1CcduwS9rx6ZMXPuHYvlRT cERC4esJxMNgPpMm5SLLiKvo9ZXNrmpeWjzPkEktOxPxhIDDvNPpPuT0T1nZwk1/reH5 mrzVO2nXZhQUHCr0UQH2uHO9a0hHbLn6IpT+8= X-Google-DKIM-Signature: v=1; a=rsa-sha256; c=relaxed/relaxed; d=1e100.net; s=20230601; t=1746548748; x=1747153548; h=references:in-reply-to:cc:to:from:subject:message-id:date :x-gm-message-state:from:to:cc:subject:date:message-id:reply-to; bh=NJF8WGmwZaCEbQ0bIcn//PzIpPxAHTcOCk+2nMZR9mM=; b=IMehzmv109Lztx5GDU930XUZzZ/L5gNlrEMD6/SHiVURC5vSH8oDla/hsO00Gyh2dk 0dGmA5DcF34XyJW1Z2kvIeED6qJRoDBPeW6BpXXcnLKdDIErflKBJ3qZGHcDcaLbnfJk ep0Q+B7rcZjZTSYOgZOB4t2719joBblY3NK79Gr/MfH3Dm3GFudWNcd1OfKAK77+4h2r HZhO6SP99aKNpmWXpkQpjg4LNq6EeTlQd5wj13g7Oglr+0mC85bbqZQq5bCj1GLYGR9n LNzDqzYdgrPfIdUHsDgEgu+O2JvgjJG4UGU5bBEQBvJuNt5i9IIfzt4ImzdSfi2by2Ps 6iYg== X-Gm-Message-State: AOJu0YyeiRELzZSOkjnvqzrjgVeuH+UEGxczDDWA/F7D2fvpcsDFHxV5 J6r9W/YuWGZFJAb3iHAkvuhNHQN8ZWcp0OuFKOiVTK4rxtXk3MhI/ADTskE7b/xPM4RzAE1cPM0 D+IRzhpzLPD01D0oCvPCKhjSjz39scyqx4tdNvs/9nKHIJNRwdzmdu04Y X-Gm-Gg: ASbGncsGbMsjfh+EkL0gVMEOjksLbhKUJl07MOR6wbROWJdGM9wmUzRU5nMNwwfsoGt lvNqPd9e+TNDDsBuI8s2nr2GnToRlYJr2+GOodJkAtNdUmLTSDP1SFhb6zqnrf6bqP8rYl/VB9K kyTUPpjN5kRMMcbWwAaz535hi6QXrlUFStgH9kn1ZV0QWn2945pSOgek4TDYXirwV8meQxOD7Ex d35QGTEJVkl5EQHxDYZqhjHYc3SuVDVRL4tz1pjz0ZFyEDyvcAtKLNnt0VhjpxQuyUwECx7f2DU Ql4leNqsiFF2mRhf16wJxxvTVarh7JiCNQdq X-Google-Smtp-Source: AGHT+IFrOM0Wfyhh//ZKG9bgYRnR2f0JitFRj2nJFGQYvxHT4Ed1GjnNkPfeybtS+DsZS32oLWu7f0xMuXFE X-Received: by 2002:a05:6e02:3a01:b0:3d3:fbf9:194b with SMTP id e9e14a558f8ab-3da5b1331damr104967165ab.0.1746548748608; Tue, 06 May 2025 09:25:48 -0700 (PDT) Received: from postal.iol.unh.edu (postal.iol.unh.edu. [2606:4100:3880:1234::84]) by smtp-relay.gmail.com with ESMTPS id 8926c6da1cb9f-4f88aa9fd3bsm2089979173.71.2025.05.06.09.25.48 (version=TLS1_2 cipher=ECDHE-ECDSA-AES128-GCM-SHA256 bits=128/128); Tue, 06 May 2025 09:25:48 -0700 (PDT) X-Relaying-Domain: iol.unh.edu Date: Tue, 06 May 2025 09:25:48 -0700 (PDT) Message-ID: <681a380c.050a0220.2f4b8.a2d6SMTPIN_ADDED_MISSING@mx.google.com> Received: from [172.17.0.2] (unknown [172.18.0.74]) by postal.iol.unh.edu (Postfix) with ESMTP id 3EA346052471; Tue, 6 May 2025 12:25:48 -0400 (EDT) Subject: |SUCCESS| pw153304 [PATCH] eal: add asprintf() function for Windows From: dpdklab@iol.unh.edu To: Test Report Cc: dpdk-test-reports@iol.unh.edu In-Reply-To: <1746495789-14101-1-git-send-email-andremue@linux.microsoft.com> References: <1746495789-14101-1-git-send-email-andremue@linux.microsoft.com> Content-Type: text/plain X-BeenThere: test-report@dpdk.org X-Mailman-Version: 2.1.29 Precedence: list List-Id: automatic DPDK test reports List-Unsubscribe: , List-Archive: List-Post: List-Help: List-Subscribe: , Errors-To: test-report-bounces@dpdk.org Test-Label: iol-sample-apps-testing Test-Status: SUCCESS http://dpdk.org/patch/153304 _Testing PASS_ Submitter: Andre Muezerie Date: Tuesday, May 06 2025 01:43:09 DPDK git baseline: Repo:dpdk Branch: master CommitID:ca1690ebd224f148268285b15b97441ccdbdd07e 153304 --> testing pass Upstream job id: ACVP-FIPS-testing#9722 Test environment and result as below: +--------------------+----------------------+----------------------+ | Environment | compressdev_zlib_pmd | dpdk_fips_validation | +====================+======================+======================+ | Ubuntu 22.04 (ARM) | PASS | SKIPPED | +--------------------+----------------------+----------------------+ | Ubuntu 22.04 | PASS | SKIPPED | +--------------------+----------------------+----------------------+ | Ubuntu 20.04 | SKIPPED | PASS | +--------------------+----------------------+----------------------+ Ubuntu 22.04 (ARM) Kernel: 5.15.0-97-generic Compiler: gcc gcc (Ubuntu 11.4.0-1ubuntu1~22.04) 11.4.0 Ubuntu 22.04 Kernel: 5.15.0-100-generic Compiler: gcc gcc (Ubuntu 11.4.0-1ubuntu1~22.04) 11.4.0 Ubuntu 20.04 Kernel: Depends on container host Compiler: gcc (Ubuntu 9.4.0-1ubuntu1~20.04.2) 9.4.0 To view detailed results, visit: https://lab.dpdk.org/results/dashboard/patchsets/33117/ UNH-IOL DPDK Community Lab To manage your email subscriptions, visit: https://lab.dpdk.org/results/dashboard/preferences/subscriptions/