From mboxrd@z Thu Jan 1 00:00:00 1970 Return-Path: Received: from mails.dpdk.org (mails.dpdk.org [217.70.189.124]) by inbox.dpdk.org (Postfix) with ESMTP id B70AF466DC for ; Tue, 6 May 2025 18:58:39 +0200 (CEST) Received: from mails.dpdk.org (localhost [127.0.0.1]) by mails.dpdk.org (Postfix) with ESMTP id 9079640261; Tue, 6 May 2025 18:58:39 +0200 (CEST) Received: from mail-io1-f98.google.com (mail-io1-f98.google.com [209.85.166.98]) by mails.dpdk.org (Postfix) with ESMTP id DC4C74025D for ; Tue, 6 May 2025 18:58:38 +0200 (CEST) Received: by mail-io1-f98.google.com with SMTP id ca18e2360f4ac-85db3475637so2275239f.1 for ; Tue, 06 May 2025 09:58:38 -0700 (PDT) DKIM-Signature: v=1; a=rsa-sha256; c=relaxed/relaxed; d=iol.unh.edu; s=unh-iol; t=1746550718; x=1747155518; darn=dpdk.org; h=references:in-reply-to:cc:to:from:subject:message-id:date:from:to :cc:subject:date:message-id:reply-to; bh=k+Y1137XewfP/TA9jfRpOruWtwPmLiUlrwSauYmFHPc=; b=aZaaU59VdV9hRYeQP7OGvRZyzkKviTNLf2wgaS/BFHayWnJzjRtXzN+yW4uGSE3jQX 6CyJRoS8BbcDtE9tqgf4VmU5PUwZQ2jhgNiRm6lf8rtV/ibBrwlXfJT2LIkxOoq1YwFO MUMDhc9nhD02nBvDxXqeA/bCK0QkzF/10GJ8g= X-Google-DKIM-Signature: v=1; a=rsa-sha256; c=relaxed/relaxed; d=1e100.net; s=20230601; t=1746550718; x=1747155518; h=references:in-reply-to:cc:to:from:subject:message-id:date :x-gm-message-state:from:to:cc:subject:date:message-id:reply-to; bh=k+Y1137XewfP/TA9jfRpOruWtwPmLiUlrwSauYmFHPc=; b=e++EPv0v+XDsR+9YjTkO4BYt0p8ZQJlxACq/iipZVbOGdzYPO/vmF4scdCvJp/hAtB lWNO+Gh/sMIAfXRRk6v5+/rqi3Np7Jn3P14BWzWkMKb/PIzO4cIeYk423I4spEGM9ofk F8JPQiKaMYX3pQU4toUWyIKCYhj6TNxRsOoNQGmUC7bLyR3wItuaR+oWp6+wEnGmm11K aVF+7D0y5Aems30/Z+NRYikJO3sTkuveHHOGHnDzg3/muxTWkQFo/pomqbjeDHEbTlTI u6kBfAbXzQZW0LHLBKFGH3latv8SqPrcYWkABIEkq36BHBXXEdpo8xZKU0lyr6WKjmvQ FcWw== X-Gm-Message-State: AOJu0YzoP/oJnlKrp7j5ihhL3FQcG1QqsD6EMXeadhbzMi3fx3X4pAKc Yl9ZvCqGpOx7ur5FSytFf8lm4O8g8tJq2p2yETuEjklWm0Jo9rIN8o4H5QULGkzMrcWLRSlZACd sDhjcafHeRaHHsrE6pbfBO9jr7sDzPuVCUqXGZIn/ X-Gm-Gg: ASbGnctE01zxd9aNqzhPNLyJWAJ4B1r9O5hKzvlQ4u9k6k7V3yBJewOrBeRD+eEIprq xNiX0bNrt3o2xB5n7I7Y0e0CwzoX6gsow0j7uXs6B3y3RF+JrD87xMTkpe+A49Ya7t2r5VZYliA ATr5QGA5LAplACmmlr/XaQcoB/hQbaDMDfZJLsoXiKzfHvZ2Hjt2e9k47OcZ8VsFGAY05JdLoQ6 YKXDv4tzp2Hfzpw/L8k/DAg8zCe29vy9//c+6fH8q3KgBtT4SA88T4dzeVlHndw8XZEFf1t4aDR Qgny+2lRRj3FhUKra/mQf/2oxRnaDI6aVoLqO1X+gTxRKPoWg/lub6rZzPc= X-Google-Smtp-Source: AGHT+IGrJ1S5GteAOjlFSiXdN3f74P2bc2iiLjfLp4l9b+795AyS8MUuaaksu5A9dxzgzio4I9ulOtgCHrC3 X-Received: by 2002:a05:6e02:ef1:b0:3d9:2992:671b with SMTP id e9e14a558f8ab-3da723cf4ffmr6944495ab.4.1746550718046; Tue, 06 May 2025 09:58:38 -0700 (PDT) Received: from postal.iol.unh.edu (postal.iol.unh.edu. [132.177.123.84]) by smtp-relay.gmail.com with ESMTPS id e9e14a558f8ab-3d975ecfdeasm22634215ab.42.2025.05.06.09.58.37 (version=TLS1_2 cipher=ECDHE-ECDSA-AES128-GCM-SHA256 bits=128/128); Tue, 06 May 2025 09:58:38 -0700 (PDT) X-Relaying-Domain: iol.unh.edu Date: Tue, 06 May 2025 09:58:38 -0700 (PDT) Message-ID: <681a3fbe.050a0220.b5662.c283SMTPIN_ADDED_MISSING@mx.google.com> Received: from [172.17.0.2] (unknown [172.18.0.74]) by postal.iol.unh.edu (Postfix) with ESMTP id 8D1C86052471; Tue, 6 May 2025 12:58:37 -0400 (EDT) Subject: |SUCCESS| pw153303 [PATCH] eal: add getline() function for Windows From: dpdklab@iol.unh.edu To: Test Report Cc: dpdk-test-reports@iol.unh.edu In-Reply-To: <1746477607-14961-1-git-send-email-andremue@linux.microsoft.com> References: <1746477607-14961-1-git-send-email-andremue@linux.microsoft.com> Content-Type: text/plain X-BeenThere: test-report@dpdk.org X-Mailman-Version: 2.1.29 Precedence: list List-Id: automatic DPDK test reports List-Unsubscribe: , List-Archive: List-Post: List-Help: List-Subscribe: , Errors-To: test-report-bounces@dpdk.org Test-Label: iol-sample-apps-testing Test-Status: SUCCESS http://dpdk.org/patch/153303 _Testing PASS_ Submitter: Andre Muezerie Date: Monday, May 05 2025 20:40:07 DPDK git baseline: Repo:dpdk Branch: master CommitID:ca1690ebd224f148268285b15b97441ccdbdd07e 153303 --> testing pass Upstream job id: ACVP-FIPS-testing#9723 Test environment and result as below: +--------------------+----------------------+----------------------+ | Environment | compressdev_zlib_pmd | dpdk_fips_validation | +====================+======================+======================+ | Ubuntu 22.04 (ARM) | PASS | SKIPPED | +--------------------+----------------------+----------------------+ | Ubuntu 22.04 | PASS | SKIPPED | +--------------------+----------------------+----------------------+ | Ubuntu 20.04 | SKIPPED | PASS | +--------------------+----------------------+----------------------+ Ubuntu 22.04 (ARM) Kernel: 5.15.0-97-generic Compiler: gcc gcc (Ubuntu 11.4.0-1ubuntu1~22.04) 11.4.0 Ubuntu 22.04 Kernel: 5.15.0-100-generic Compiler: gcc gcc (Ubuntu 11.4.0-1ubuntu1~22.04) 11.4.0 Ubuntu 20.04 Kernel: Depends on container host Compiler: gcc (Ubuntu 9.4.0-1ubuntu1~20.04.2) 9.4.0 To view detailed results, visit: https://lab.dpdk.org/results/dashboard/patchsets/33116/ UNH-IOL DPDK Community Lab To manage your email subscriptions, visit: https://lab.dpdk.org/results/dashboard/preferences/subscriptions/