From mboxrd@z Thu Jan 1 00:00:00 1970 Return-Path: Received: from mails.dpdk.org (mails.dpdk.org [217.70.189.124]) by inbox.dpdk.org (Postfix) with ESMTP id 728D6466DC for ; Tue, 6 May 2025 19:31:54 +0200 (CEST) Received: from mails.dpdk.org (localhost [127.0.0.1]) by mails.dpdk.org (Postfix) with ESMTP id 26CA440261; Tue, 6 May 2025 19:31:54 +0200 (CEST) Received: from mail-pg1-f227.google.com (mail-pg1-f227.google.com [209.85.215.227]) by mails.dpdk.org (Postfix) with ESMTP id 468874025D for ; Tue, 6 May 2025 19:31:52 +0200 (CEST) Received: by mail-pg1-f227.google.com with SMTP id 41be03b00d2f7-af548cb1f83so5786796a12.3 for ; Tue, 06 May 2025 10:31:52 -0700 (PDT) DKIM-Signature: v=1; a=rsa-sha256; c=relaxed/relaxed; d=iol.unh.edu; s=unh-iol; t=1746552711; x=1747157511; darn=dpdk.org; h=cc:to:from:subject:message-id:date:from:to:cc:subject:date :message-id:reply-to; bh=H5Ge9Ck2RN/o2LeHGn4zzf+gli3n43jwzcNiZJ/UK9g=; b=IMo7wzTzA0yxXndnVAq3l3/cb5fi4xSlhTV3hEzbIHby1+xVdeWtgBal5wWwFoLrvk XO4eX6peiAgpNIc/DC3Dk2CohhzXVql7vXOgqIKW6vwLgVPZAV/JXqnwMw2t1EqrTKIP QkwE0/82DF8GYwjXWPBUELtZK9QwxsagkwyjA= X-Google-DKIM-Signature: v=1; a=rsa-sha256; c=relaxed/relaxed; d=1e100.net; s=20230601; t=1746552711; x=1747157511; h=cc:to:from:subject:message-id:date:x-gm-message-state:from:to:cc :subject:date:message-id:reply-to; bh=H5Ge9Ck2RN/o2LeHGn4zzf+gli3n43jwzcNiZJ/UK9g=; b=Bhc9zN0hyCj1rfPbpKQP5yDxkWSAxvM0bXaG20P8lHXJuv4PnsIV3dsCXfpwWJHn9J Hh96nabeM8zWeQ76eyE2KUA3dqoTa9SEWP6Tag8VflC4QIXnuU1mP7pdqB7QTY6LimOM 5XIPEm08qsW4inDVjtek4FyvLcEtJH56Bp5JHXGm3dqGFPk6lSy+cKC+2DMKaMDW122b bJTe0pkpRz7hypZWpB772NkGKKMNDWQJsi7TkKHb0PTSHGSITzMa2EVjGks3izzloMc4 3e/5KQ67BgRgsup4i0w+yTH3urr00BopXlg9ry7xs6qfx0Qa/Ix3/TRVUyV7eg+sSNuf kG5g== X-Gm-Message-State: AOJu0YyEPhCKB8kXV/VZ4BAEoFHEuIFLDxOmLdeyxG7CM9CQInT5Ifod FUHYngsY7PJvt2ob417EtQZPTr2qY0AFovl+Qw/zYUmzsj0ACfZibicL7xl4hd3ShuEzEyJHLjq NbKKRDzSGlv+HXK10233oNJKKNolWaE48ngdNKuV9DGw9HYA+ X-Gm-Gg: ASbGncuKiIPLwVJn8pbaHciJBWP9jeKjMPe9XEeA6m7YfT+edzhwlagUTZkASyU+x6/ fRb3BmUk77AXS8/B5qZmawqAzD6oeq82zSK+v4GnlVHesk0yOHJvcb+539rwzwaEHNxlqORjY9J 3aIeueRC952fY5hM7PDQAljq5eSfBaMgpVujTiKO8YtiRmSGM/TyABpJdU5X+/NUh//gYEIbWOq 4veXwzBL1zjd+BAdJWhOpGGXL0wA637TIJfdPszZA0eEAKnqtGQsvOEHRaSnE0gGvWNFrT4xz+V uf2PzEH9x5A26VYOxYPW0MUiBoGZ6PBjK5KX X-Google-Smtp-Source: AGHT+IEVfDWzN29YqIrd4HpXdFNkl1uxJgRBP/mwywCx2b9RunjuObRKTXlLKOcVNpYRNPd/4PIbtX6MQXGb X-Received: by 2002:a17:90b:3d8c:b0:306:b593:4557 with SMTP id 98e67ed59e1d1-30aac17a1a7mr454561a91.4.1746552711143; Tue, 06 May 2025 10:31:51 -0700 (PDT) Received: from postal.iol.unh.edu (postal.iol.unh.edu. [2606:4100:3880:1234::84]) by smtp-relay.gmail.com with ESMTPS id 98e67ed59e1d1-30a8932914bsm12734a91.1.2025.05.06.10.31.51 (version=TLS1_2 cipher=ECDHE-ECDSA-AES128-GCM-SHA256 bits=128/128); Tue, 06 May 2025 10:31:51 -0700 (PDT) X-Relaying-Domain: iol.unh.edu Date: Tue, 06 May 2025 10:31:51 -0700 (PDT) Message-ID: <681a4787.170a0220.1dbc9.08fcSMTPIN_ADDED_MISSING@mx.google.com> Received: from [172.17.0.2] (unknown [172.18.0.74]) by postal.iol.unh.edu (Postfix) with ESMTP id 51E8D6052471; Tue, 6 May 2025 13:31:50 -0400 (EDT) Subject: |SUCCESS| [GIT MASTER] 4c5634de9f933555bab9c64a533d3dca999071cd From: dpdklab@iol.unh.edu To: Test Report Cc: dpdk-test-reports@iol.unh.edu, Xueming Li , Christian Ehrhardt , Kevin Traynor , Luca Boccassi Content-Type: text/plain X-BeenThere: test-report@dpdk.org X-Mailman-Version: 2.1.29 Precedence: list List-Id: automatic DPDK test reports List-Unsubscribe: , List-Archive: List-Post: List-Help: List-Subscribe: , Errors-To: test-report-bounces@dpdk.org _Testing PASS_ Branch: tags/v24.11 4c5634de9f933555bab9c64a533d3dca999071cd --> testing pass Upstream job id: ACVP-FIPS-testing#9724 Test environment and result as below: +--------------------+----------------------+----------------------+ | Environment | compressdev_zlib_pmd | dpdk_fips_validation | +====================+======================+======================+ | Ubuntu 22.04 (ARM) | PASS | SKIPPED | +--------------------+----------------------+----------------------+ | Ubuntu 22.04 | PASS | SKIPPED | +--------------------+----------------------+----------------------+ | Ubuntu 20.04 | SKIPPED | PASS | +--------------------+----------------------+----------------------+ Ubuntu 22.04 (ARM) Kernel: 5.15.0-97-generic Compiler: gcc gcc (Ubuntu 11.4.0-1ubuntu1~22.04) 11.4.0 Ubuntu 22.04 Kernel: 5.15.0-100-generic Compiler: gcc gcc (Ubuntu 11.4.0-1ubuntu1~22.04) 11.4.0 Ubuntu 20.04 Kernel: Depends on container host Compiler: gcc (Ubuntu 9.4.0-1ubuntu1~20.04.2) 9.4.0 To view detailed results, visit: https://lab.dpdk.org/results/dashboard/tarballs/33444/ UNH-IOL DPDK Community Lab To manage your email subscriptions, visit: https://lab.dpdk.org/results/dashboard/preferences/subscriptions/