From mboxrd@z Thu Jan 1 00:00:00 1970 Return-Path: Received: from mails.dpdk.org (mails.dpdk.org [217.70.189.124]) by inbox.dpdk.org (Postfix) with ESMTP id D3197466DD for ; Tue, 6 May 2025 20:07:00 +0200 (CEST) Received: from mails.dpdk.org (localhost [127.0.0.1]) by mails.dpdk.org (Postfix) with ESMTP id CB60B40261; Tue, 6 May 2025 20:07:00 +0200 (CEST) Received: from mail-yw1-f228.google.com (mail-yw1-f228.google.com [209.85.128.228]) by mails.dpdk.org (Postfix) with ESMTP id 46F3A4025D for ; Tue, 6 May 2025 20:06:59 +0200 (CEST) Received: by mail-yw1-f228.google.com with SMTP id 00721157ae682-70900a80907so24045087b3.0 for ; Tue, 06 May 2025 11:06:59 -0700 (PDT) DKIM-Signature: v=1; a=rsa-sha256; c=relaxed/relaxed; d=iol.unh.edu; s=unh-iol; t=1746554818; x=1747159618; darn=dpdk.org; h=cc:to:from:subject:message-id:date:from:to:cc:subject:date :message-id:reply-to; bh=Ab0rMnWbXwi8zf7fgKA1hkRjVNlT5AcYIis/0AdMCVQ=; b=B3uy2zMyX6PYMGAzdgEtMsOzVz7vl3mzDdhxcHixkVhUNgZ/BRegLq2X+zSKSVtUf8 jIp0Xn7Jn5YopFtIJB5PqSIPlJJ/lTK/keRlrpflBTuEiFogx7fj1L7VFt9K1N0ci1xs ehb3ID8/sEfBP9QaEI1eAPBf4qTyhiDzHvc/8= X-Google-DKIM-Signature: v=1; a=rsa-sha256; c=relaxed/relaxed; d=1e100.net; s=20230601; t=1746554818; x=1747159618; h=cc:to:from:subject:message-id:date:x-gm-message-state:from:to:cc :subject:date:message-id:reply-to; bh=Ab0rMnWbXwi8zf7fgKA1hkRjVNlT5AcYIis/0AdMCVQ=; b=shKAY+guedRvIUNGWNHho7PKfprOjNj9zYwlLUaZb2HENOwgOSrncfMsTcWSaQWx4A xAWMMd1jdNMrAb63n128jcC6yLDLjofyOLWYRuyzFTr4Ms62w2Mu854MQVIl9NnkBLxy LOAPmkO5A7RcdAd2qV174HpdD+S9yJjQNy2mQwpsEdS/D/1tSRu5+nPRkgxOyVSiEyiV c8vbvBYgl+0ER0o/NYT36Tn3Qgm0ShPrn8yM0ETEYuzwYEkk6CbZyd1oLPoIWKhfo1mZ lvEv7SpznB+X1pCAviZYyq/v0q53xEi1EXXx3GuuE5HfZmCp/otLtsGKm58z9yYwcVR2 GUYQ== X-Gm-Message-State: AOJu0YxiN22cHAVF6h2mNAUxt03QbYAJfbq1Qev1q8KXKHre8mObj4FZ PDOH4TxyBOu6iF3XUDt4ZjT9jydcDfJYOVeR5TVLjfBj8neIMnRTPjAbLZfbhfuBk0EVbXSDyE2 PwWK7nd/Bf+wMjpIrCqyx7EoATo5X3sSU X-Gm-Gg: ASbGncs0wNFa8+wSxB2C0orIxK7OqZ2OYiZfOLICkf8EeFEM3aa3vHsE5B6TkBn84nb 2XB7DtNUDUstiB9vfc/uIRwcB9WhhaWwpMEY/kx5AQ2DXnADQJIRzRbNaxeVehKLP9vW6GVfuyp fw67BVa64x0nejJQbPigufXlZwaoyknQ1QMr3Mdt2Qrf06cQwDAvWxBET/VFpcinPRC4MEoLXFI FHC8WYmyQjZI/h9vXe7K2eNy/48ztgiigYjKqS2Jkwa+o4n5+NuObiyMA5Bx1Kt+W2XB7cLNCdD GcgUmZf1lmkfxqONcb0PKWBeeAsBG92WzJfEf1QO2q3hVReOscSkNOe+Q2c= X-Google-Smtp-Source: AGHT+IHrzubgCdfr3FPbi24vY3iSmvxcwaeSYrtOy410z78gL6c3O7IPdlvFslpF2cd3+s5FILNFTXhYYnQ0 X-Received: by 2002:a05:690c:6285:b0:6ef:652b:91cf with SMTP id 00721157ae682-70a1dad671cmr6236367b3.27.1746554818575; Tue, 06 May 2025 11:06:58 -0700 (PDT) Received: from postal.iol.unh.edu (postal.iol.unh.edu. [132.177.123.84]) by smtp-relay.gmail.com with ESMTPS id 00721157ae682-7091ca84808sm547207b3.15.2025.05.06.11.06.58 (version=TLS1_2 cipher=ECDHE-ECDSA-AES128-GCM-SHA256 bits=128/128); Tue, 06 May 2025 11:06:58 -0700 (PDT) X-Relaying-Domain: iol.unh.edu Date: Tue, 06 May 2025 11:06:58 -0700 (PDT) Message-ID: <681a4fc2.050a0220.19c76e.2becSMTPIN_ADDED_MISSING@mx.google.com> Received: from [172.17.0.2] (unknown [172.18.0.74]) by postal.iol.unh.edu (Postfix) with ESMTP id 030EC6052471; Tue, 6 May 2025 14:06:58 -0400 (EDT) Subject: |SUCCESS| [GIT MASTER] 83a7a648344674c0269fcaeb71d8d16468421a0e From: dpdklab@iol.unh.edu To: Test Report Cc: dpdk-test-reports@iol.unh.edu, Xueming Li , Christian Ehrhardt , Kevin Traynor , Luca Boccassi Content-Type: text/plain X-BeenThere: test-report@dpdk.org X-Mailman-Version: 2.1.29 Precedence: list List-Id: automatic DPDK test reports List-Unsubscribe: , List-Archive: List-Post: List-Help: List-Subscribe: , Errors-To: test-report-bounces@dpdk.org _Testing PASS_ Branch: tags/v23.11 83a7a648344674c0269fcaeb71d8d16468421a0e --> testing pass Upstream job id: ACVP-FIPS-testing#9725 Test environment and result as below: +--------------------+----------------------+----------------------+ | Environment | compressdev_zlib_pmd | dpdk_fips_validation | +====================+======================+======================+ | Ubuntu 22.04 (ARM) | PASS | SKIPPED | +--------------------+----------------------+----------------------+ | Ubuntu 22.04 | PASS | SKIPPED | +--------------------+----------------------+----------------------+ | Ubuntu 20.04 | SKIPPED | PASS | +--------------------+----------------------+----------------------+ Ubuntu 22.04 (ARM) Kernel: 5.15.0-97-generic Compiler: gcc gcc (Ubuntu 11.4.0-1ubuntu1~22.04) 11.4.0 Ubuntu 22.04 Kernel: 5.15.0-100-generic Compiler: gcc gcc (Ubuntu 11.4.0-1ubuntu1~22.04) 11.4.0 Ubuntu 20.04 Kernel: Depends on container host Compiler: gcc (Ubuntu 9.4.0-1ubuntu1~20.04.2) 9.4.0 To view detailed results, visit: https://lab.dpdk.org/results/dashboard/tarballs/33445/ UNH-IOL DPDK Community Lab To manage your email subscriptions, visit: https://lab.dpdk.org/results/dashboard/preferences/subscriptions/