From mboxrd@z Thu Jan 1 00:00:00 1970 Return-Path: Received: from mails.dpdk.org (mails.dpdk.org [217.70.189.124]) by inbox.dpdk.org (Postfix) with ESMTP id C0312466DF for ; Tue, 6 May 2025 21:15:04 +0200 (CEST) Received: from mails.dpdk.org (localhost [127.0.0.1]) by mails.dpdk.org (Postfix) with ESMTP id A1BE340261; Tue, 6 May 2025 21:15:04 +0200 (CEST) Received: from mail-yw1-f225.google.com (mail-yw1-f225.google.com [209.85.128.225]) by mails.dpdk.org (Postfix) with ESMTP id C04C44025D for ; Tue, 6 May 2025 21:15:03 +0200 (CEST) Received: by mail-yw1-f225.google.com with SMTP id 00721157ae682-708b9b5299eso43375427b3.3 for ; Tue, 06 May 2025 12:15:03 -0700 (PDT) DKIM-Signature: v=1; a=rsa-sha256; c=relaxed/relaxed; d=iol.unh.edu; s=unh-iol; t=1746558903; x=1747163703; darn=dpdk.org; h=cc:to:from:subject:message-id:date:from:to:cc:subject:date :message-id:reply-to; bh=iL/SAuOTcRxoYP7ls7LPMdw0J0+KqKyI8PzINmGNC20=; b=LhixVjuDZ9IS1M9KNwEJhP4V9cCVh4vD+63Vp/LPs2OKevg+9d6s3v2w+VEKrZYbdG jiWPDvJIBIvT8I25/IkCDUSqSaALsbAmqsr9kYBPaNPnfYmWVFtQTvOwJzbJ6KZrMXJq c3UZi3Tp0bo1nBOMwcZad4q28atsgwhBsKXuE= X-Google-DKIM-Signature: v=1; a=rsa-sha256; c=relaxed/relaxed; d=1e100.net; s=20230601; t=1746558903; x=1747163703; h=cc:to:from:subject:message-id:date:x-gm-message-state:from:to:cc :subject:date:message-id:reply-to; bh=iL/SAuOTcRxoYP7ls7LPMdw0J0+KqKyI8PzINmGNC20=; b=MfVsfeV9L2aLGkEnlRo5IyJ6JEas5eMicZRrSu9NjiFSi5eNvgVf4sPY9mm1QvQKi9 O+HNEP2imYBbcWpoaJ5N6h18B7N4GCcD6luPZWJA7Vb2QrOwRBhyEl3q+MDV4f5lGsYX y0w3kgt5eVYWoiiOhGRETdKStZ/8L08piERWUvzZwcaHIwdDoqwVMryLCSre7zbG8zRR nDsBU0BnfTsi08vMD3QmZ3eefWDYNa5PNSUWP4qWRRmHwaaHK+JfI7MsIfxoG9lg8So9 2jiOGAcIAzD1864Ijcwex2LHXs+D1nrvcf2z4oX+d2fG4+FfSDkrrNnYtu4kOj5wv2bC 4jPw== X-Gm-Message-State: AOJu0YzrZ1ycxMRlQaihtZe30xSZGWij9ORwmMSP2iW+89me5pr8Dcmt hpwGnrdcA4QMpGH8XeS28yh4yEakKg8dFKq549tsBq3mBcOFtyhV6z6iF4SyfesE2gBWIBXbZRI rta5eWlsZwrbuAmKd/fcfyqcrvixneUQW X-Gm-Gg: ASbGncvhck8DnxkQLmH01+00q3/i81M1sVLX5wFwBHRTFSvvZBVrg8eyoCfMON7jobZ VGTRfHmbju+5/xbmT2lDudpQyZUUQOZudc/jjmXwkhUbdQePZBCFhU9jr2ADMS4PwQvvUlbLNpv BB0bBO0TRi0e//m89ngz0dV7Hoc9+kMNZGW5RMlYVVCI3a8QopNNQu27SSrT5Hcz+vABuOlPwKu QDWq/stq7A2WXFLZknKpG5bc3VWX72CryQtxtdbDCo1R1ucep/SuIFZDq7uLR04cSD7ddTYE1kW 1wFPIyCTfpGkLhexVlc23/cDoJkYcYRb6gvgh1uiKEvSmZDuB1un8iK+188= X-Google-Smtp-Source: AGHT+IEJtLxvptIqzE/Tm/6hRW391noABT4pKLXienlMfeFwVpjWTzquEXLjofoRjrXWPd4051zFAERYPp/F X-Received: by 2002:a05:690c:6012:b0:6fd:a226:fb24 with SMTP id 00721157ae682-70a1da0e27amr10406947b3.10.1746558903069; Tue, 06 May 2025 12:15:03 -0700 (PDT) Received: from postal.iol.unh.edu (postal.iol.unh.edu. [132.177.123.84]) by smtp-relay.gmail.com with ESMTPS id 00721157ae682-708c3f13866sm23398777b3.2.2025.05.06.12.15.03 (version=TLS1_2 cipher=ECDHE-ECDSA-AES128-GCM-SHA256 bits=128/128); Tue, 06 May 2025 12:15:03 -0700 (PDT) X-Relaying-Domain: iol.unh.edu Date: Tue, 06 May 2025 12:15:03 -0700 (PDT) Message-ID: <681a5fb7.810a0220.115140.a0bfSMTPIN_ADDED_MISSING@mx.google.com> Received: from [172.17.0.2] (unknown [172.18.0.74]) by postal.iol.unh.edu (Postfix) with ESMTP id B5FF46052471; Tue, 6 May 2025 15:15:02 -0400 (EDT) Subject: |SUCCESS| [GIT MASTER] 4401486b5e30d43a134f80f9802f60b5f43e74a8 From: dpdklab@iol.unh.edu To: Test Report Cc: dpdk-test-reports@iol.unh.edu, Xueming Li , Christian Ehrhardt , Kevin Traynor , Luca Boccassi Content-Type: text/plain X-BeenThere: test-report@dpdk.org X-Mailman-Version: 2.1.29 Precedence: list List-Id: automatic DPDK test reports List-Unsubscribe: , List-Archive: List-Post: List-Help: List-Subscribe: , Errors-To: test-report-bounces@dpdk.org _Testing PASS_ Branch: tags/v22.11 4401486b5e30d43a134f80f9802f60b5f43e74a8 --> testing pass Upstream job id: ACVP-FIPS-testing#9726 Test environment and result as below: +--------------------+----------------------+----------------------+ | Environment | compressdev_zlib_pmd | dpdk_fips_validation | +====================+======================+======================+ | Ubuntu 22.04 (ARM) | PASS | SKIPPED | +--------------------+----------------------+----------------------+ | Ubuntu 22.04 | PASS | SKIPPED | +--------------------+----------------------+----------------------+ | Ubuntu 20.04 | SKIPPED | PASS | +--------------------+----------------------+----------------------+ Ubuntu 22.04 (ARM) Kernel: 5.15.0-97-generic Compiler: gcc gcc (Ubuntu 11.4.0-1ubuntu1~22.04) 11.4.0 Ubuntu 22.04 Kernel: 5.15.0-100-generic Compiler: gcc gcc (Ubuntu 11.4.0-1ubuntu1~22.04) 11.4.0 Ubuntu 20.04 Kernel: Depends on container host Compiler: gcc (Ubuntu 9.4.0-1ubuntu1~20.04.2) 9.4.0 To view detailed results, visit: https://lab.dpdk.org/results/dashboard/tarballs/33446/ UNH-IOL DPDK Community Lab To manage your email subscriptions, visit: https://lab.dpdk.org/results/dashboard/preferences/subscriptions/