From mboxrd@z Thu Jan 1 00:00:00 1970 Return-Path: Received: from mails.dpdk.org (mails.dpdk.org [217.70.189.124]) by inbox.dpdk.org (Postfix) with ESMTP id 298AE466DF for ; Tue, 6 May 2025 21:19:59 +0200 (CEST) Received: from mails.dpdk.org (localhost [127.0.0.1]) by mails.dpdk.org (Postfix) with ESMTP id 24AE840261; Tue, 6 May 2025 21:19:59 +0200 (CEST) Received: from mail-ot1-f97.google.com (mail-ot1-f97.google.com [209.85.210.97]) by mails.dpdk.org (Postfix) with ESMTP id 518494025D for ; Tue, 6 May 2025 21:19:58 +0200 (CEST) Received: by mail-ot1-f97.google.com with SMTP id 46e09a7af769-73044329768so4504586a34.3 for ; Tue, 06 May 2025 12:19:58 -0700 (PDT) DKIM-Signature: v=1; a=rsa-sha256; c=relaxed/relaxed; d=iol.unh.edu; s=unh-iol; t=1746559197; x=1747163997; darn=dpdk.org; h=references:in-reply-to:cc:to:from:subject:message-id:date:from:to :cc:subject:date:message-id:reply-to; bh=Z/difbktnsEbweyDAhKc/xdhfMGMKC3uqrP+aWQdpJA=; b=OBFjVWmlVe6zI3L21fsBESCzsMirrN3RVq8l4b1HCHLQh2NFfYLaYVyDv4WSbkSC3Y 0DHv7buhBzoU0rZwwBAzYuGG/NUY7EiLt4WVZ83eH+icQpEl3s3/4WGC64d4IMPAiY3+ YeeX5/ilA9Zds7tIilfxdGQalklUJjsDXcpLs= X-Google-DKIM-Signature: v=1; a=rsa-sha256; c=relaxed/relaxed; d=1e100.net; s=20230601; t=1746559197; x=1747163997; h=references:in-reply-to:cc:to:from:subject:message-id:date :x-gm-message-state:from:to:cc:subject:date:message-id:reply-to; bh=Z/difbktnsEbweyDAhKc/xdhfMGMKC3uqrP+aWQdpJA=; b=iMx9MwH6I+HVbxyaG3vPIfUKQzFolkHYpp3UMfNKPWtyg15LBUi6SnsNW/6QdvL041 1f2a3mMSvdsiQRaQ0CwyvTrMxznpMTjRxN56d1JNJAphnGoAI7onyJXApaZMqyKPFGm5 v4bF40u7z9A2mLZqQSWygZgIxjxKzoGZQYsIsG0bthBmX0kfdMwHVR4nCL7MEjlFiHbh z3TCSPWj9eFdR4Ob/ngRSoHdirm4DtejvbG8qLy0aB+ixpqeLPrF/SWEgClE8RJGnX/m mi5QYDC19MousuWQxiAU/7PV/dOZdyoq2X2uQO/S1gaYmqFHd/KtU1yR1Cr/dLnbVVCe 6nog== X-Gm-Message-State: AOJu0YxH+HuWvIiDPCAztmpXcdPgEArTnFxopmhE06WW5AKAM/ecUO9N wvHPqAtFP0SKwhLPDhOe4vl1MbVoyGed39bWFrbfqCr/Vw8BhWVPgYqHeIZjPuo1EcoQob5/guX ZUOLLwW52BHditiHMmBGq7BkoXtamoM2udL2lvAvn X-Gm-Gg: ASbGncvkSujDY16w0DgrSYW2D608DjUU8NJxSVDPZPiwXFY9OA+g0E1g0waOXReQY2r VZS6qLJi4U/bQFOhVKlYupB92T/oi2/376oubHx6kXnGvGYZs/bYIYaDpMprPNUa2VDy6Khj36V f4/bMrqIZp2k3+hnndNRLjiV3oJWZtBlYHhV07bEuhsJXhmRE6ibDzHp6cxKwwG/O7xem/qph+m NSLaq+L0Z2ny3BVNLmJKXxowfYsm/MlWD2mHXfuW0sKOuQ40Z312mlFYNhc7ES+llB+59wXhE42 7kVJnP4OtwnFcdH0vMY21PZD6MbWpRVf/Lbq6iZ3Rq+4Fif9cKti8bcuFMA= X-Google-Smtp-Source: AGHT+IFVfB5Ty/jliWuZG0ME1sl9q95Fucpf/fqUVhqiOpliomUkyrZxuJED61V6zS4RaZ/wQ9LZ4LsrZg5j X-Received: by 2002:a05:6830:6117:b0:72b:aa94:6d26 with SMTP id 46e09a7af769-73210b02c25mr313294a34.18.1746559197345; Tue, 06 May 2025 12:19:57 -0700 (PDT) Received: from postal.iol.unh.edu (postal.iol.unh.edu. [132.177.123.84]) by smtp-relay.gmail.com with ESMTPS id 46e09a7af769-732109dd073sm10488a34.1.2025.05.06.12.19.57 (version=TLS1_2 cipher=ECDHE-ECDSA-AES128-GCM-SHA256 bits=128/128); Tue, 06 May 2025 12:19:57 -0700 (PDT) X-Relaying-Domain: iol.unh.edu Date: Tue, 06 May 2025 12:19:57 -0700 (PDT) Message-ID: <681a60dd.050a0220.17369.08f7SMTPIN_ADDED_MISSING@mx.google.com> Received: from [172.17.0.5] (unknown [172.18.0.74]) by postal.iol.unh.edu (Postfix) with ESMTP id BE5926052471; Tue, 6 May 2025 15:19:56 -0400 (EDT) Subject: |SUCCESS| pw153336 [PATCH] net/ice: Localize dynamic mbuf timestamp From: dpdklab@iol.unh.edu To: Test Report Cc: dpdk-test-reports@iol.unh.edu In-Reply-To: <20250506175025.1141664-1-jfree@FreeBSD.org> References: <20250506175025.1141664-1-jfree@FreeBSD.org> Content-Type: text/plain X-BeenThere: test-report@dpdk.org X-Mailman-Version: 2.1.29 Precedence: list List-Id: automatic DPDK test reports List-Unsubscribe: , List-Archive: List-Post: List-Help: List-Subscribe: , Errors-To: test-report-bounces@dpdk.org Test-Label: iol-unit-arm64-testing Test-Status: SUCCESS http://dpdk.org/patch/153336 _Testing PASS_ Submitter: Jake Freeland Date: Tuesday, May 06 2025 17:50:24 DPDK git baseline: Repo:dpdk Branch: master CommitID:7cf0355db9fdab5648b05fd787356c391c510534 153336 --> testing pass Upstream job id: Aarch32-Unit-Test#6150 Test environment and result as below: +-----------------------------+--------------+---------------------------+------------------------------+----------------+ | Environment | lpm_autotest | cryptodev_sw_zuc_autotest | cryptodev_sw_snow3g_autotest | dpdk_unit_test | +=============================+==============+===========================+==============================+================+ | Ubuntu 20.04 ARM SVE | PASS | SKIPPED | SKIPPED | SKIPPED | +-----------------------------+--------------+---------------------------+------------------------------+----------------+ | Debian 12 (arm) | SKIPPED | PASS | PASS | PASS | +-----------------------------+--------------+---------------------------+------------------------------+----------------+ | CentOS Stream 10 (ARM) | SKIPPED | SKIPPED | SKIPPED | PASS | +-----------------------------+--------------+---------------------------+------------------------------+----------------+ | Fedora 40 (ARM Clang) | SKIPPED | SKIPPED | SKIPPED | PASS | +-----------------------------+--------------+---------------------------+------------------------------+----------------+ | Fedora 41 (ARM Clang) | SKIPPED | SKIPPED | SKIPPED | PASS | +-----------------------------+--------------+---------------------------+------------------------------+----------------+ | Fedora 40 (ARM) | SKIPPED | SKIPPED | SKIPPED | PASS | +-----------------------------+--------------+---------------------------+------------------------------+----------------+ | RHEL9 (ARM) | SKIPPED | SKIPPED | SKIPPED | PASS | +-----------------------------+--------------+---------------------------+------------------------------+----------------+ | Fedora 41 (ARM) | SKIPPED | SKIPPED | SKIPPED | PASS | +-----------------------------+--------------+---------------------------+------------------------------+----------------+ | Ubuntu 22.04 (ARM) | SKIPPED | SKIPPED | SKIPPED | PASS | +-----------------------------+--------------+---------------------------+------------------------------+----------------+ | Ubuntu 20.04 (ARM) | SKIPPED | SKIPPED | SKIPPED | PASS | +-----------------------------+--------------+---------------------------+------------------------------+----------------+ | CentOS Stream 9 (ARM) | SKIPPED | SKIPPED | SKIPPED | PASS | +-----------------------------+--------------+---------------------------+------------------------------+----------------+ | Ubuntu 24.04 (ARM) | SKIPPED | SKIPPED | SKIPPED | PASS | +-----------------------------+--------------+---------------------------+------------------------------+----------------+ | 32-bit Ubuntu 22.04.4 (ARM) | SKIPPED | SKIPPED | SKIPPED | PASS | +-----------------------------+--------------+---------------------------+------------------------------+----------------+ Ubuntu 20.04 ARM SVE Kernel: Depends on container host Compiler: gcc (Ubuntu 10.5.0-1ubuntu1~20.04) 10.5.0 Debian 12 (arm) Kernel: Depends on container host Compiler: gcc (Debian 12.2.0-14) 12.2.0 CentOS Stream 10 (ARM) Kernel: Depends on container host Compiler: gcc 14.2.1 20241104 (Red Hat 14.2.1-6) Fedora 40 (ARM Clang) Kernel: Depends on container host Compiler: clang 18.1.8 (Fedora 18.1.8-1.fc40) Fedora 41 (ARM Clang) Kernel: Depends on container host Compiler: clang 19.1.5 (Fedora 19.1.5-1.fc41) Fedora 40 (ARM) Kernel: Depends on container host Compiler: gcc 14.2.1 20240912 (Red Hat 14.2.1-3) RHEL9 (ARM) Kernel: Depends on container host Compiler: gcc 11.5.0 20240719 (Red Hat 11.5.0-2) Fedora 41 (ARM) Kernel: Depends on container host Compiler: gcc 14.2.1 20240912 (Red Hat 14.2.1-3) Ubuntu 22.04 (ARM) Kernel: Depends on container host Compiler: gcc (Ubuntu 11.4.0-1ubuntu1~22.04) 11.4.0 Ubuntu 20.04 (ARM) Kernel: Depends on container host Compiler: gcc (Ubuntu 9.4.0-1ubuntu1~20.04.2) 9.4.0 CentOS Stream 9 (ARM) Kernel: Depends on container host Compiler: gcc 11.5.0 20240719 (Red Hat 11.5.0-2) Ubuntu 24.04 (ARM) Kernel: Depends on container host Compiler: gcc (Ubuntu 13.3.0-6ubuntu2~24.04) 13.3.0 32-bit Ubuntu 22.04.4 (ARM) Kernel: 5.15.83+ aarch64 Compiler: gcc (Ubuntu 11.4.0-1ubuntu1~22.04) 11.4.0 To view detailed results, visit: https://lab.dpdk.org/results/dashboard/patchsets/33129/ UNH-IOL DPDK Community Lab To manage your email subscriptions, visit: https://lab.dpdk.org/results/dashboard/preferences/subscriptions/