From mboxrd@z Thu Jan 1 00:00:00 1970 Return-Path: Received: from mails.dpdk.org (mails.dpdk.org [217.70.189.124]) by inbox.dpdk.org (Postfix) with ESMTP id 54F4B466DF for ; Tue, 6 May 2025 21:24:48 +0200 (CEST) Received: from mails.dpdk.org (localhost [127.0.0.1]) by mails.dpdk.org (Postfix) with ESMTP id 5049C40261; Tue, 6 May 2025 21:24:48 +0200 (CEST) Received: from mail-oo1-f98.google.com (mail-oo1-f98.google.com [209.85.161.98]) by mails.dpdk.org (Postfix) with ESMTP id 5C22B4025D for ; Tue, 6 May 2025 21:24:47 +0200 (CEST) Received: by mail-oo1-f98.google.com with SMTP id 006d021491bc7-605ff8aa9d2so1584423eaf.0 for ; Tue, 06 May 2025 12:24:47 -0700 (PDT) DKIM-Signature: v=1; a=rsa-sha256; c=relaxed/relaxed; d=iol.unh.edu; s=unh-iol; t=1746559486; x=1747164286; darn=dpdk.org; h=references:in-reply-to:cc:to:from:subject:message-id:date:from:to :cc:subject:date:message-id:reply-to; bh=uRIvsQ3DSu9LiI7amNRl7+DLQzT2ZY02lS4LstL2QzI=; b=D6thkWO8XpaR+X/4bcjmMhawyQYb/Hmz4Rn2PVwFTQNtHWCV2qkFEfgzTM8qK49570 Dbwn+ZY267tkgY7yEuUH4yVKX8En5k8gR5lrmj7CGyoK75Fe/SNkP0ycd7s5odrZcuc3 TEI/5xmis0Plhm9D14gR8GdMSpRX/oM4++l74= X-Google-DKIM-Signature: v=1; a=rsa-sha256; c=relaxed/relaxed; d=1e100.net; s=20230601; t=1746559486; x=1747164286; h=references:in-reply-to:cc:to:from:subject:message-id:date :x-gm-message-state:from:to:cc:subject:date:message-id:reply-to; bh=uRIvsQ3DSu9LiI7amNRl7+DLQzT2ZY02lS4LstL2QzI=; b=gzUnDntF0chWyMzzXg0OJHTwFbZIPazoD2QXkeSrVCb37qKjA1tKnJdoyatkFjJqk4 rhpdlcvIpKjlIukdXo82Mmr+WdF76lDrFVcafOJny5WlIG8H/z8cHswPpquGsToDfV8Z DX+SOKeuYF6C+TgQqSchBGbFe5ksqeA90ecPymOJ+qdyZjuUE8Be7SSUgHxJ0AIoOf+3 KCk8RavP8X9ga+r2zBkjZ8L5HdZIpnLWWW0J9+pY4e88XEOnP/E1eHRcLGsTTvkb74pn R7CeeP72jkuZCb7GAuJ2LKzJ5Y0QQ3VXjImPghzQG0Au85RGKvJnYVv+qmAdgrlRsTPL TIkA== X-Gm-Message-State: AOJu0YzjQhBJTaB0fqx/eS+3Up0DtIwRvwHVvnudSqOG6K8wAz+9hF+B vWTJrGwJsZgIHwcPZ5KyBKM12wlw5524x/SNdj62Dd4M2vA6fRUkojEv9kPPFN2eODbwxgD3uT0 nWCtqKJPSyfcSjjqZvBMEeblKsIKws6I0eeG9cjAy X-Gm-Gg: ASbGncui78oaWOJPHeIvI3KCe/4bVY38pXxJNqXYrny10N1KL0kXIYLXktIZazmsSZr 4joO9cMWp3Hc44G0OBODFRACqFY44SG6q08Id9ReisX3mUP61X+vO2hrdj/arX7lbJSKm16DuSi f8LyB9f55DmUt4+7H79wFMlKWZMsR7szspuNT1/j1LTIRFdqUblomFcAAWHM8KrMX/n0v0iboA3 oFGFAw+JB+Ac4f94tqLVdbhU/EHH4Z+ttqDpdBNAzQVMO6Ds8hULv0zQwvG14jyibobHPjryRaX F6zjEp39CKrlHLLozzGNyw+zuq/VRDh+sBlKZvHa8Ka/gvNvxaPD7F1FeM0= X-Google-Smtp-Source: AGHT+IHdd+1bg6dH9XLt5gWlwzNzz8dA5+hWpPO01T3oF/wS1k2SIEIriGULO9tYnj4q31YqVPIgvTK04oTo X-Received: by 2002:a05:6820:1a05:b0:606:8671:1b28 with SMTP id 006d021491bc7-60828d190bbmr538490eaf.4.1746559486518; Tue, 06 May 2025 12:24:46 -0700 (PDT) Received: from postal.iol.unh.edu (postal.iol.unh.edu. [132.177.123.84]) by smtp-relay.gmail.com with ESMTPS id 006d021491bc7-607e7d24d2bsm1615363eaf.8.2025.05.06.12.24.46 (version=TLS1_2 cipher=ECDHE-ECDSA-AES128-GCM-SHA256 bits=128/128); Tue, 06 May 2025 12:24:46 -0700 (PDT) X-Relaying-Domain: iol.unh.edu Date: Tue, 06 May 2025 12:24:46 -0700 (PDT) Message-ID: <681a61fe.050a0220.3aa91c.47a1SMTPIN_ADDED_MISSING@mx.google.com> Received: from [172.17.0.4] (unknown [172.18.0.74]) by postal.iol.unh.edu (Postfix) with ESMTP id F10E26052471; Tue, 6 May 2025 15:24:45 -0400 (EDT) Subject: |SUCCESS| pw153336 [PATCH] net/ice: Localize dynamic mbuf timestamp From: dpdklab@iol.unh.edu To: Test Report Cc: dpdk-test-reports@iol.unh.edu In-Reply-To: <20250506175025.1141664-1-jfree@FreeBSD.org> References: <20250506175025.1141664-1-jfree@FreeBSD.org> Content-Type: text/plain X-BeenThere: test-report@dpdk.org X-Mailman-Version: 2.1.29 Precedence: list List-Id: automatic DPDK test reports List-Unsubscribe: , List-Archive: List-Post: List-Help: List-Subscribe: , Errors-To: test-report-bounces@dpdk.org Test-Label: iol-unit-amd64-testing Test-Status: SUCCESS http://dpdk.org/patch/153336 _Testing PASS_ Submitter: Jake Freeland Date: Tuesday, May 06 2025 17:50:24 DPDK git baseline: Repo:dpdk Branch: master CommitID:7cf0355db9fdab5648b05fd787356c391c510534 153336 --> testing pass Upstream job id: Generic-VM-Unit-Test-DPDK#28358 Test environment and result as below: +---------------------+----------------+ | Environment | dpdk_unit_test | +=====================+================+ | Debian 12 | PASS | +---------------------+----------------+ | CentOS Stream 9 | PASS | +---------------------+----------------+ | Fedora 41 | PASS | +---------------------+----------------+ | Fedora 40 | PASS | +---------------------+----------------+ | RHEL9 | PASS | +---------------------+----------------+ | CentOS Stream 10 | PASS | +---------------------+----------------+ | Ubuntu 22.04 | PASS | +---------------------+----------------+ | Fedora 40 (Clang) | PASS | +---------------------+----------------+ | Fedora 41 (Clang) | PASS | +---------------------+----------------+ | RHEL8 | PASS | +---------------------+----------------+ | Ubuntu 20.04 | PASS | +---------------------+----------------+ | Ubuntu 24.04 | PASS | +---------------------+----------------+ | Windows Server 2022 | PASS | +---------------------+----------------+ Debian 12 Kernel: Depends on container host Compiler: gcc (Debian 12.2.0-14) 12.2.0 CentOS Stream 9 Kernel: Depends on container host Compiler: gcc 11.5.0 20240719 (Red Hat 11.5.0-2) Fedora 41 Kernel: Depends on container host Compiler: gcc 14.2.1 20240912 (Red Hat 14.2.1-3) Fedora 40 Kernel: Depends on container host Compiler: gcc 14.2.1 20240912 (Red Hat 14.2.1-3) RHEL9 Kernel: Depends on container host Compiler: gcc 11.5.0 20240719 (Red Hat 11.5.0-2) CentOS Stream 10 Kernel: Depends on container host Compiler: gcc 14.2.1 20241104 (Red Hat 14.2.1-6) Ubuntu 22.04 Kernel: Depends on container host Compiler: gcc (Ubuntu 11.4.0-1ubuntu1~22.04) 11.4.0 Fedora 40 (Clang) Kernel: Depends on container host Compiler: clang 18.1.8 (Fedora 18.1.8-1.fc40) Fedora 41 (Clang) Kernel: Depends on container host Compiler: clang 19.1.5 (Fedora 19.1.5-1.fc41) RHEL8 Kernel: Depends on container host Compiler: gcc 8.5.0 20210514 (Red Hat 8.5.0-22) Ubuntu 20.04 Kernel: Depends on container host Compiler: gcc (Ubuntu 9.4.0-1ubuntu1~20.04.2) 9.4.0 Ubuntu 24.04 Kernel: Depends on container host Compiler: gcc (Ubuntu 13.3.0-6ubuntu2~24.04) 13.3.0 Windows Server 2022 Kernel: 10.0.20348.2031 Compiler: clang 15.0.7, gcc 14.1.0 (MinGW), and MSVC VS 19.39.33521 To view detailed results, visit: https://lab.dpdk.org/results/dashboard/patchsets/33129/ UNH-IOL DPDK Community Lab To manage your email subscriptions, visit: https://lab.dpdk.org/results/dashboard/preferences/subscriptions/