From mboxrd@z Thu Jan 1 00:00:00 1970 Return-Path: Received: from mails.dpdk.org (mails.dpdk.org [217.70.189.124]) by inbox.dpdk.org (Postfix) with ESMTP id EF2D2466DF for ; Tue, 6 May 2025 21:30:11 +0200 (CEST) Received: from mails.dpdk.org (localhost [127.0.0.1]) by mails.dpdk.org (Postfix) with ESMTP id E989B40261; Tue, 6 May 2025 21:30:11 +0200 (CEST) Received: from mail-pl1-f228.google.com (mail-pl1-f228.google.com [209.85.214.228]) by mails.dpdk.org (Postfix) with ESMTP id D53984025D for ; Tue, 6 May 2025 21:30:10 +0200 (CEST) Received: by mail-pl1-f228.google.com with SMTP id d9443c01a7336-2295d78b45cso79817165ad.0 for ; Tue, 06 May 2025 12:30:10 -0700 (PDT) DKIM-Signature: v=1; a=rsa-sha256; c=relaxed/relaxed; d=iol.unh.edu; s=unh-iol; t=1746559810; x=1747164610; darn=dpdk.org; h=references:in-reply-to:cc:to:from:subject:message-id:date:from:to :cc:subject:date:message-id:reply-to; bh=k15noiGbYmyhMnpnN+KPJauQSDFKjqTKRi/brmAMCus=; b=IzsrUpNW+0k3kb+gJO+1EPF2+zDMH6g2Z5Rv6jMkOqq4s9NA36TdAP/M4hdULKrVDC elhhPJ2j9WR8QQgazeD/rmq5VYBUW7g+L0pSXKGJf63O0LektXNUmwyuDZOs3qlt6B33 GPk4/dJJGmXzzuDbVOvhDACcuzLnlzS+LAAmY= X-Google-DKIM-Signature: v=1; a=rsa-sha256; c=relaxed/relaxed; d=1e100.net; s=20230601; t=1746559810; x=1747164610; h=references:in-reply-to:cc:to:from:subject:message-id:date :x-gm-message-state:from:to:cc:subject:date:message-id:reply-to; bh=k15noiGbYmyhMnpnN+KPJauQSDFKjqTKRi/brmAMCus=; b=HgA4gJOfLILD06ylHPx+2sf0Afrty1TXICAsfksGdi+L34H1TsdhPRefosXjhINkmT 0C4Yt9QQ94hp0STVoiyJRUDpm7/qZxgd2b1TG9FrFt15fjzFknlockDrPtn2VqOXTNKM 3VrscgPpAUOxtm781GtlF4WfjJ1SsnjdkRyDjCrzQrgw89y6TjbvPXCwBohM3TFbfM9F k7M0DNBs13UZDb/0pgJh1dtBzmFIoFree6uF1BLIHzaX0zoGI03Ngm7R6EhzGU3PuBI/ FB65rVNjPQRiTI53F2hXdDxW+Vsu1asFYPlNztIE2q9/NPBuL0LS6Nu+Q35uSjrVIRA8 oI0w== X-Gm-Message-State: AOJu0YwND/bH6LoitqNBl5cfJeu+/DCO0rUdQ3WKY6xrojK3KKv2+Txd bytypdSTS0PXB/CGqXCXbrU7ooDkc5mLgR2Xo73h5hFi9/fnQMPbcTVe8KCXAiqOInQuTKBpAMg sL5S3TAcc8LHvvk7c/sbC5+Uw2hbeX+ejPCI+Lixv X-Gm-Gg: ASbGnctQ84Pc0q8EA1M8dVIr9joZOENzNPc8KCpfyKz4ey95WQeLr24Z6dORvRajuOy o2wbeLPE3GqXQx20WnmNTluzJzCf9KNh36e74tFuNDJn637jwJ40bLDEBSXmjPkkmkbD3ZQKQBe hh0kHkZbdU3CEIB2bPaZtzrYGJEyR0JGPJ4imMPIFPBsbUHaTEy13m6jlqeatiUMml/qaLgL24l uiSVBXbhaHjMVQ38LgQNBviIbQY+YMooCPL1QTymrz4OEcEL8Mm15RE4kulQM+C00PwwQe0qDSJ cDSGOOUwWwjk0jeavB1P+69v2UrCiYVS5azt66Jx7K+ymKetQgFfD6AuSRU= X-Google-Smtp-Source: AGHT+IG0WOagVcYxWtjO1DkhBNmaGdY87wc7dbuaXJSVdKRamonyd6dYTKSptAfIM0rRhY32iHRAaXz3ajYK X-Received: by 2002:a17:902:e74c:b0:220:efc8:60b1 with SMTP id d9443c01a7336-22e5edfd1b3mr4832645ad.39.1746559809995; Tue, 06 May 2025 12:30:09 -0700 (PDT) Received: from postal.iol.unh.edu (postal.iol.unh.edu. [132.177.123.84]) by smtp-relay.gmail.com with ESMTPS id d9443c01a7336-22e4c988e53sm634695ad.31.2025.05.06.12.30.09 (version=TLS1_2 cipher=ECDHE-ECDSA-AES128-GCM-SHA256 bits=128/128); Tue, 06 May 2025 12:30:09 -0700 (PDT) X-Relaying-Domain: iol.unh.edu Date: Tue, 06 May 2025 12:30:09 -0700 (PDT) Message-ID: <681a6341.170a0220.2201b6.3423SMTPIN_ADDED_MISSING@mx.google.com> Received: from [172.21.0.5] (unknown [172.18.0.240]) by postal.iol.unh.edu (Postfix) with ESMTP id 1E0306052471; Tue, 6 May 2025 15:30:09 -0400 (EDT) Subject: |SUCCESS| pw153336 [PATCH] net/ice: Localize dynamic mbuf timestamp From: dpdklab@iol.unh.edu To: Test Report Cc: dpdk-test-reports@iol.unh.edu In-Reply-To: <20250506175025.1141664-1-jfree@FreeBSD.org> References: <20250506175025.1141664-1-jfree@FreeBSD.org> Content-Type: text/plain X-BeenThere: test-report@dpdk.org X-Mailman-Version: 2.1.29 Precedence: list List-Id: automatic DPDK test reports List-Unsubscribe: , List-Archive: List-Post: List-Help: List-Subscribe: , Errors-To: test-report-bounces@dpdk.org Test-Label: iol-compile-amd64-testing Test-Status: SUCCESS http://dpdk.org/patch/153336 _Testing PASS_ Submitter: Jake Freeland Date: Tuesday, May 06 2025 17:50:24 DPDK git baseline: Repo:dpdk Branch: master CommitID:7cf0355db9fdab5648b05fd787356c391c510534 153336 --> testing pass Upstream job id: Windows-Compile-DPDK-Native#28241 Test environment and result as below: +-----------------------------------+--------------------+-------------------+------------------+-------------------------+-------------------+----------------------+ | Environment | dpdk_meson_compile | dpdk_compile_spdk | dpdk_compile_ovs | dpdk_llvm_clang_compile | dpdk_msvc_compile | dpdk_mingw64_compile | +===================================+====================+===================+==================+=========================+===================+======================+ | CentOS Stream 9 | PASS | PASS | SKIPPED | SKIPPED | SKIPPED | SKIPPED | +-----------------------------------+--------------------+-------------------+------------------+-------------------------+-------------------+----------------------+ | CentOS Stream 10 | PASS | SKIPPED | SKIPPED | SKIPPED | SKIPPED | SKIPPED | +-----------------------------------+--------------------+-------------------+------------------+-------------------------+-------------------+----------------------+ | Fedora 40 (Clang) | PASS | PASS | SKIPPED | SKIPPED | SKIPPED | SKIPPED | +-----------------------------------+--------------------+-------------------+------------------+-------------------------+-------------------+----------------------+ | Debian 12 | PASS | PASS | SKIPPED | SKIPPED | SKIPPED | SKIPPED | +-----------------------------------+--------------------+-------------------+------------------+-------------------------+-------------------+----------------------+ | Fedora 40 | PASS | PASS | SKIPPED | SKIPPED | SKIPPED | SKIPPED | +-----------------------------------+--------------------+-------------------+------------------+-------------------------+-------------------+----------------------+ | Fedora 41 | PASS | PASS | PASS | SKIPPED | SKIPPED | SKIPPED | +-----------------------------------+--------------------+-------------------+------------------+-------------------------+-------------------+----------------------+ | Ubuntu 20.04 | PASS | SKIPPED | SKIPPED | SKIPPED | SKIPPED | SKIPPED | +-----------------------------------+--------------------+-------------------+------------------+-------------------------+-------------------+----------------------+ | Ubuntu 22.04 | PASS | PASS | SKIPPED | SKIPPED | SKIPPED | SKIPPED | +-----------------------------------+--------------------+-------------------+------------------+-------------------------+-------------------+----------------------+ | Fedora 41 (Clang) | PASS | PASS | PASS | SKIPPED | SKIPPED | SKIPPED | +-----------------------------------+--------------------+-------------------+------------------+-------------------------+-------------------+----------------------+ | openSUSE Leap 15 | PASS | SKIPPED | SKIPPED | SKIPPED | SKIPPED | SKIPPED | +-----------------------------------+--------------------+-------------------+------------------+-------------------------+-------------------+----------------------+ | RHEL8 | PASS | SKIPPED | SKIPPED | SKIPPED | SKIPPED | SKIPPED | +-----------------------------------+--------------------+-------------------+------------------+-------------------------+-------------------+----------------------+ | RHEL9 | PASS | SKIPPED | SKIPPED | SKIPPED | SKIPPED | SKIPPED | +-----------------------------------+--------------------+-------------------+------------------+-------------------------+-------------------+----------------------+ | Ubuntu 24.04 | PASS | PASS | PASS | SKIPPED | SKIPPED | SKIPPED | +-----------------------------------+--------------------+-------------------+------------------+-------------------------+-------------------+----------------------+ | Alpine | PASS | SKIPPED | SKIPPED | SKIPPED | SKIPPED | SKIPPED | +-----------------------------------+--------------------+-------------------+------------------+-------------------------+-------------------+----------------------+ | Ubuntu 24.04 32 Bit Cross Compile | PASS | SKIPPED | SKIPPED | SKIPPED | SKIPPED | SKIPPED | +-----------------------------------+--------------------+-------------------+------------------+-------------------------+-------------------+----------------------+ | FreeBSD 13.5 | PASS | SKIPPED | SKIPPED | SKIPPED | SKIPPED | SKIPPED | +-----------------------------------+--------------------+-------------------+------------------+-------------------------+-------------------+----------------------+ | FreeBSD 14.2 | PASS | SKIPPED | SKIPPED | SKIPPED | SKIPPED | SKIPPED | +-----------------------------------+--------------------+-------------------+------------------+-------------------------+-------------------+----------------------+ | Windows Server 2022 | SKIPPED | SKIPPED | SKIPPED | PASS | PASS | PASS | +-----------------------------------+--------------------+-------------------+------------------+-------------------------+-------------------+----------------------+ CentOS Stream 9 Kernel: Depends on container host Compiler: gcc 11.5.0 20240719 (Red Hat 11.5.0-2) CentOS Stream 10 Kernel: Depends on container host Compiler: gcc 14.2.1 20241104 (Red Hat 14.2.1-6) Fedora 40 (Clang) Kernel: Depends on container host Compiler: clang 18.1.8 (Fedora 18.1.8-1.fc40) Debian 12 Kernel: Depends on container host Compiler: gcc (Debian 12.2.0-14) 12.2.0 Fedora 40 Kernel: Depends on container host Compiler: gcc 14.2.1 20240912 (Red Hat 14.2.1-3) Fedora 41 Kernel: Depends on container host Compiler: gcc 14.2.1 20240912 (Red Hat 14.2.1-3) Ubuntu 20.04 Kernel: Depends on container host Compiler: gcc (Ubuntu 9.4.0-1ubuntu1~20.04.2) 9.4.0 Ubuntu 22.04 Kernel: Depends on container host Compiler: gcc (Ubuntu 11.4.0-1ubuntu1~22.04) 11.4.0 Fedora 41 (Clang) Kernel: Depends on container host Compiler: clang 19.1.5 (Fedora 19.1.5-1.fc41) openSUSE Leap 15 Kernel: Depends on container host Compiler: gcc (SUSE Linux) 7.5.0 RHEL8 Kernel: Depends on container host Compiler: gcc 8.5.0 20210514 (Red Hat 8.5.0-22) RHEL9 Kernel: Depends on container host Compiler: gcc 11.5.0 20240719 (Red Hat 11.5.0-2) Ubuntu 24.04 Kernel: Depends on container host Compiler: gcc (Ubuntu 13.3.0-6ubuntu2~24.04) 13.3.0 Alpine Kernel: Depends on container host Compiler: gcc (Alpine 14.2.0) 14.2.0 Ubuntu 24.04 32 Bit Cross Compile Kernel: Depends on container host Compiler: gcc (Ubuntu 13.3.0-6ubuntu2~24.04) 13.3.0 FreeBSD 13.5 Kernel: 13.5-RELEASE Compiler: clang 19.1.7 FreeBSD 14.2 Kernel: 14.2-RELEASE Compiler: clang 18.1.6 Windows Server 2022 Kernel: 10.0.20348.2031 Compiler: clang 15.0.7, gcc 14.1.0 (MinGW), and MSVC VS 19.39.33521 To view detailed results, visit: https://lab.dpdk.org/results/dashboard/patchsets/33129/ UNH-IOL DPDK Community Lab To manage your email subscriptions, visit: https://lab.dpdk.org/results/dashboard/preferences/subscriptions/