From mboxrd@z Thu Jan 1 00:00:00 1970 Return-Path: Received: from mails.dpdk.org (mails.dpdk.org [217.70.189.124]) by inbox.dpdk.org (Postfix) with ESMTP id B4E22466E1 for ; Tue, 6 May 2025 21:58:44 +0200 (CEST) Received: from mails.dpdk.org (localhost [127.0.0.1]) by mails.dpdk.org (Postfix) with ESMTP id 95B1C40261; Tue, 6 May 2025 21:58:44 +0200 (CEST) Received: from mail-oo1-f97.google.com (mail-oo1-f97.google.com [209.85.161.97]) by mails.dpdk.org (Postfix) with ESMTP id DFAC94025D for ; Tue, 6 May 2025 21:58:42 +0200 (CEST) Received: by mail-oo1-f97.google.com with SMTP id 006d021491bc7-6021e3daeabso2793421eaf.3 for ; Tue, 06 May 2025 12:58:42 -0700 (PDT) DKIM-Signature: v=1; a=rsa-sha256; c=relaxed/relaxed; d=iol.unh.edu; s=unh-iol; t=1746561522; x=1747166322; darn=dpdk.org; h=references:in-reply-to:cc:to:from:subject:message-id:date:from:to :cc:subject:date:message-id:reply-to; bh=t+JHIKFdv52l9XgdkgRweo58Egb2waP0itak0/7cryY=; b=iz8KFWu+XcBpnIg8hr+TBu7jAU39tdGtSz1npzVoCrLsqnKuVIXQXdq1oZwfhOhZJL CpcZ+NwYMEqEU8kGcTyKI+H9Tt6p11QbyESm7yxLoQnynb+PkZ7C8G6ukkL5nUqIs1Pk /QE+OsZuyib0hpoxQcJGykw350des0iMKS3ds= X-Google-DKIM-Signature: v=1; a=rsa-sha256; c=relaxed/relaxed; d=1e100.net; s=20230601; t=1746561522; x=1747166322; h=references:in-reply-to:cc:to:from:subject:message-id:date :x-gm-message-state:from:to:cc:subject:date:message-id:reply-to; bh=t+JHIKFdv52l9XgdkgRweo58Egb2waP0itak0/7cryY=; b=i7p8TT7yIkcFVVM7d9rRUS+MX8wuAuFP5o7l8dqnEnREr1dIUuKICgLz+i/0lxU87N 06DQ8k24LsPkLnBy6lW2gD2nXSYLt+jOTpUvVo62pSGhj/w6NRARKRjol0qBL+OfNSgk bJsIcHP/7fVMjsONNdnaGJdNBdo0rMgPP6DxQ/+U7TAOMoypoUWrNNzMywpuvQbw+Td1 SHz+/GQwXtlttXVqpRsya5ZDlwSTmI18+7H6dQZQYvEYJY7hWhCoTn6us08Nv9H6ffqh 8Uc26sEa0iCiFObdR3X0peIgxUe0E7h8O8Pqfz4VqZRrK6V5DY5eFzDNK0hcc2DhSh0z 914w== X-Gm-Message-State: AOJu0YzqkqhrbQs/mmpR/Lqqrd+dM/bMRExR4kAN4dTsULWDkSk7+Rgy hSnq1wgeVykF5YGYQwCAfYj3lHjOu1treDuwya81UGY7gH/66snkdh6fmt1i0iQ5lcC9nVmWwOb 8a2jH0sJ8G19/EJkwGn1oRF4mf8WPqUUVzZjN4yZvl7yjsK8EOj8EEimi X-Gm-Gg: ASbGnct8yJb4y1L99n5xGT5q4PPKEYxIwGoCfWMHwy6qI41Iln1/I4hO1Lnigu7YtAH Dzj6imD7JNc8RAT3O8mKMJxQZY8+OqYwEbesyFoQYO9p4Qi8wfjsuFFMtRDPBLfa78VS6n1Dz9F pkqd0FVaRiH6Had+qkNYfTPN39WlvZN8iSvyDBL7rQT7gLYQcT4Fsya3I5BbM9qpWVW38Vs6NIF 6TCrK3jfKYaJO9Fv70cSP3fWljUh//sHJNE2Al1TcWh3iXKC+SIDS41Naubz7ME7RM28T1nVAt3 tf4yt3/Ylebau+rI+YX9EPLz0F6RiDP4jwZt X-Google-Smtp-Source: AGHT+IGez2UAA5+B3v75ODKNZYxe89mC4k7e8f6Obq6VwZAzthnkYLxtgd8oD4/oPBY5hUqPKdDN/455HV8o X-Received: by 2002:a05:6871:687:b0:2d5:4b92:a787 with SMTP id 586e51a60fabf-2db5bedc10amr425263fac.18.1746561521955; Tue, 06 May 2025 12:58:41 -0700 (PDT) Received: from postal.iol.unh.edu (postal.iol.unh.edu. [2606:4100:3880:1234::84]) by smtp-relay.gmail.com with ESMTPS id 586e51a60fabf-2db5d0e2112sm12756fac.40.2025.05.06.12.58.41 (version=TLS1_2 cipher=ECDHE-ECDSA-AES128-GCM-SHA256 bits=128/128); Tue, 06 May 2025 12:58:41 -0700 (PDT) X-Relaying-Domain: iol.unh.edu Date: Tue, 06 May 2025 12:58:41 -0700 (PDT) Message-ID: <681a69f1.050a0220.67071.0b73SMTPIN_ADDED_MISSING@mx.google.com> Received: from [172.21.0.5] (unknown [172.18.0.240]) by postal.iol.unh.edu (Postfix) with ESMTP id 64B226052471; Tue, 6 May 2025 15:58:41 -0400 (EDT) Subject: |SUCCESS| pw153305 [PATCH] net/ice: fix support for 3 scheduler leve From: dpdklab@iol.unh.edu To: Test Report Cc: dpdk-test-reports@iol.unh.edu In-Reply-To: <20250506103414.892849-1-bruce.richardson@intel.com> References: <20250506103414.892849-1-bruce.richardson@intel.com> Content-Type: text/plain X-BeenThere: test-report@dpdk.org X-Mailman-Version: 2.1.29 Precedence: list List-Id: automatic DPDK test reports List-Unsubscribe: , List-Archive: List-Post: List-Help: List-Subscribe: , Errors-To: test-report-bounces@dpdk.org Test-Label: iol-sample-apps-testing Test-Status: SUCCESS http://dpdk.org/patch/153305 _Testing PASS_ Submitter: Bruce Richardson Date: Tuesday, May 06 2025 10:34:14 DPDK git baseline: Repo:dpdk Branch: master CommitID:2665bfb9838fec7ea6c3b2be5831f93ee087b288 153305 --> testing pass Upstream job id: ACVP-FIPS-testing#9727 Test environment and result as below: +--------------------+----------------------+----------------------+ | Environment | compressdev_zlib_pmd | dpdk_fips_validation | +====================+======================+======================+ | Ubuntu 22.04 (ARM) | PASS | SKIPPED | +--------------------+----------------------+----------------------+ | Ubuntu 22.04 | PASS | SKIPPED | +--------------------+----------------------+----------------------+ | Ubuntu 20.04 | SKIPPED | PASS | +--------------------+----------------------+----------------------+ Ubuntu 22.04 (ARM) Kernel: 5.15.0-97-generic Compiler: gcc gcc (Ubuntu 11.4.0-1ubuntu1~22.04) 11.4.0 Ubuntu 22.04 Kernel: 5.15.0-100-generic Compiler: gcc gcc (Ubuntu 11.4.0-1ubuntu1~22.04) 11.4.0 Ubuntu 20.04 Kernel: Depends on container host Compiler: gcc (Ubuntu 9.4.0-1ubuntu1~20.04.2) 9.4.0 To view detailed results, visit: https://lab.dpdk.org/results/dashboard/patchsets/33118/ UNH-IOL DPDK Community Lab To manage your email subscriptions, visit: https://lab.dpdk.org/results/dashboard/preferences/subscriptions/