From mboxrd@z Thu Jan 1 00:00:00 1970 Return-Path: Received: from mails.dpdk.org (mails.dpdk.org [217.70.189.124]) by inbox.dpdk.org (Postfix) with ESMTP id B41D5466E2 for ; Tue, 6 May 2025 22:07:50 +0200 (CEST) Received: from mails.dpdk.org (localhost [127.0.0.1]) by mails.dpdk.org (Postfix) with ESMTP id AEF7E40261; Tue, 6 May 2025 22:07:50 +0200 (CEST) Received: from mail-yb1-f228.google.com (mail-yb1-f228.google.com [209.85.219.228]) by mails.dpdk.org (Postfix) with ESMTP id B28B44025D for ; Tue, 6 May 2025 22:07:49 +0200 (CEST) Received: by mail-yb1-f228.google.com with SMTP id 3f1490d57ef6-e7387d4a336so5139834276.2 for ; Tue, 06 May 2025 13:07:49 -0700 (PDT) DKIM-Signature: v=1; a=rsa-sha256; c=relaxed/relaxed; d=iol.unh.edu; s=unh-iol; t=1746562069; x=1747166869; darn=dpdk.org; h=references:in-reply-to:cc:to:from:subject:message-id:date:from:to :cc:subject:date:message-id:reply-to; bh=/1Zt64vLr1+GmVOaZt3bFwMnhLF8v5EwiK/LpZNV4tU=; b=crOCUKA8R/knPhK7Sn4o4GL5LQ/FeBFVfqTIRk0RpjTL+FfA4xvvVUQue4XCgS8XRi ntr7DBq0xsLG5auQSvczMox/ZtqNczlDxn/Yup/+oretizMogWSH8Gm1XYw7hxgjulDe MPZ1Z29lJcyliX4E10cCchMfqy/Kdhezk6IkA= X-Google-DKIM-Signature: v=1; a=rsa-sha256; c=relaxed/relaxed; d=1e100.net; s=20230601; t=1746562069; x=1747166869; h=references:in-reply-to:cc:to:from:subject:message-id:date :x-gm-message-state:from:to:cc:subject:date:message-id:reply-to; bh=/1Zt64vLr1+GmVOaZt3bFwMnhLF8v5EwiK/LpZNV4tU=; b=Yy5HOYF3ugaPfne6S2pKi+EHbnFI4LrgcWK3L8bGGWl+VnRhEpLzfml0d8Qw/xbicF nX6hGHodeYtcMFfuMcTlZrmJChIrklqw8A/VK4QZL6VdrIGcbv1fTr/4HIj1d707L2CB 4JSRBGHW7nYqMmlo1dvkrIBkOOvCLW863LUTlT4TmLnQvXsAkrO+oOkAPPnFmCrpuC7T 8zGmzRL5q348q3zqAzyOBY6nsqphCpAtkeZnJGQ8y9/wThKl4LqV8auj21aR8NiZUxxR kA2fYZNVOJnRDfm7ozeMM9Z0PWM+jiMrkFjeuiD7hzT5QyaJ+/aWL/pBdtPCdMFoNDvp jtvA== X-Gm-Message-State: AOJu0YzZALmuvEzrnWutnvsmPIWtLBPiXTV21uFgtk3WR4PPcgBnNZ93 uHgeBG3nJGa32dCRkOWmkjZ0GXRg5OcVVzc4E6GurrlRQMHpM/0MNV70GpY7pj3Nw4Fll100Uin qTfnfq0Yfu3zsRebf4jTwt/ZFTSKrsZgZJlayYC1S X-Gm-Gg: ASbGncuRd0B2WWF+DV6nA0IzdMyTO5i9Dco/BZ4jC1Zc4OzUMpnXoXIHz7QeViujyW3 oihOLcjLclNw8pt7ZQHRXahmXPGJ8ZEAZ2gejmB6eOn1MwEedsQKgIOw6AB19///wDz9m/liKx3 qYHSyX/VN1bnWvVQjxNhvN8gqgyw4aVdxSpEP3esxQhRCdiAgaAEHVTV/Oc+Nmpv1ANGIPLyO+d c/NoecfOxbiZG3nJZDRzY5riEQJjTDA/TtxSYcY6EL/7/nW0TSqCwNDUYHhVzIsaCSY94LaHsgq VzxWHBkn2ay3q2cruBRR9O9xdvQac156oWJ2x8Izg+1vFEdC1KwP+fxSw5E= X-Google-Smtp-Source: AGHT+IGMwhCgwSdaIsk79XFeR0plXr0lYs850CDRHpphBa8MJ9DRQiVHZnKCJYXRTIV0NGvcIGzyKfASI2CQ X-Received: by 2002:a05:6902:1ac1:b0:e72:e4c0:56b0 with SMTP id 3f1490d57ef6-e7881442b70mr895041276.32.1746562069063; Tue, 06 May 2025 13:07:49 -0700 (PDT) Received: from postal.iol.unh.edu (postal.iol.unh.edu. [132.177.123.84]) by smtp-relay.gmail.com with ESMTPS id 3f1490d57ef6-e75608f4cf8sm1930059276.0.2025.05.06.13.07.48 (version=TLS1_2 cipher=ECDHE-ECDSA-AES128-GCM-SHA256 bits=128/128); Tue, 06 May 2025 13:07:49 -0700 (PDT) X-Relaying-Domain: iol.unh.edu Date: Tue, 06 May 2025 13:07:49 -0700 (PDT) Message-ID: <681a6c15.250a0220.124640.11c5SMTPIN_ADDED_MISSING@mx.google.com> Received: from [172.17.0.2] (unknown [172.18.0.74]) by postal.iol.unh.edu (Postfix) with ESMTP id AE79A6052471; Tue, 6 May 2025 16:07:48 -0400 (EDT) Subject: |SUCCESS| pw153333-153335 [PATCH] [3/3] eal/linux: Check hugepage ac From: dpdklab@iol.unh.edu To: Test Report Cc: dpdk-test-reports@iol.unh.edu In-Reply-To: <20250506175010.1141585-4-jfree@FreeBSD.org> References: <20250506175010.1141585-4-jfree@FreeBSD.org> Content-Type: text/plain X-BeenThere: test-report@dpdk.org X-Mailman-Version: 2.1.29 Precedence: list List-Id: automatic DPDK test reports List-Unsubscribe: , List-Archive: List-Post: List-Help: List-Subscribe: , Errors-To: test-report-bounces@dpdk.org Test-Label: iol-unit-amd64-testing Test-Status: SUCCESS http://dpdk.org/patch/153335 _Testing PASS_ Submitter: Jake Freeland Date: Tuesday, May 06 2025 17:50:09 DPDK git baseline: Repo:dpdk Branch: master CommitID:75f179ebe347b6098cf3af26d3d3b7168fe3fe24 153333-153335 --> testing pass Upstream job id: Generic-Unit-Test-DPDK#335834 Test environment and result as below: +---------------------+----------------+ | Environment | dpdk_unit_test | +=====================+================+ | CentOS Stream 10 | PASS | +---------------------+----------------+ | Debian 12 | PASS | +---------------------+----------------+ | CentOS Stream 9 | PASS | +---------------------+----------------+ | Fedora 40 | PASS | +---------------------+----------------+ | Fedora 41 (Clang) | PASS | +---------------------+----------------+ | Fedora 40 (Clang) | PASS | +---------------------+----------------+ | RHEL8 | PASS | +---------------------+----------------+ | RHEL9 | PASS | +---------------------+----------------+ | Fedora 41 | PASS | +---------------------+----------------+ | Ubuntu 20.04 | PASS | +---------------------+----------------+ | Ubuntu 22.04 | PASS | +---------------------+----------------+ | Ubuntu 24.04 | PASS | +---------------------+----------------+ | Windows Server 2022 | PASS | +---------------------+----------------+ CentOS Stream 10 Kernel: Depends on container host Compiler: gcc 14.2.1 20241104 (Red Hat 14.2.1-6) Debian 12 Kernel: Depends on container host Compiler: gcc (Debian 12.2.0-14) 12.2.0 CentOS Stream 9 Kernel: Depends on container host Compiler: gcc 11.5.0 20240719 (Red Hat 11.5.0-2) Fedora 40 Kernel: Depends on container host Compiler: gcc 14.2.1 20240912 (Red Hat 14.2.1-3) Fedora 41 (Clang) Kernel: Depends on container host Compiler: clang 19.1.5 (Fedora 19.1.5-1.fc41) Fedora 40 (Clang) Kernel: Depends on container host Compiler: clang 18.1.8 (Fedora 18.1.8-1.fc40) RHEL8 Kernel: Depends on container host Compiler: gcc 8.5.0 20210514 (Red Hat 8.5.0-22) RHEL9 Kernel: Depends on container host Compiler: gcc 11.5.0 20240719 (Red Hat 11.5.0-2) Fedora 41 Kernel: Depends on container host Compiler: gcc 14.2.1 20240912 (Red Hat 14.2.1-3) Ubuntu 20.04 Kernel: Depends on container host Compiler: gcc (Ubuntu 9.4.0-1ubuntu1~20.04.2) 9.4.0 Ubuntu 22.04 Kernel: Depends on container host Compiler: gcc (Ubuntu 11.4.0-1ubuntu1~22.04) 11.4.0 Ubuntu 24.04 Kernel: Depends on container host Compiler: gcc (Ubuntu 13.3.0-6ubuntu2~24.04) 13.3.0 Windows Server 2022 Kernel: 10.0.20348.2031 Compiler: clang 15.0.7, gcc 14.1.0 (MinGW), and MSVC VS 19.39.33521 To view detailed results, visit: https://lab.dpdk.org/results/dashboard/patchsets/33128/ UNH-IOL DPDK Community Lab To manage your email subscriptions, visit: https://lab.dpdk.org/results/dashboard/preferences/subscriptions/