From mboxrd@z Thu Jan 1 00:00:00 1970 Return-Path: Received: from mails.dpdk.org (mails.dpdk.org [217.70.189.124]) by inbox.dpdk.org (Postfix) with ESMTP id BBC7F466E2 for ; Tue, 6 May 2025 22:18:16 +0200 (CEST) Received: from mails.dpdk.org (localhost [127.0.0.1]) by mails.dpdk.org (Postfix) with ESMTP id A93C240261; Tue, 6 May 2025 22:18:16 +0200 (CEST) Received: from mail-il1-f225.google.com (mail-il1-f225.google.com [209.85.166.225]) by mails.dpdk.org (Postfix) with ESMTP id 336104025D for ; Tue, 6 May 2025 22:18:15 +0200 (CEST) Received: by mail-il1-f225.google.com with SMTP id e9e14a558f8ab-3d93f4fe5baso23511085ab.2 for ; Tue, 06 May 2025 13:18:15 -0700 (PDT) DKIM-Signature: v=1; a=rsa-sha256; c=relaxed/relaxed; d=iol.unh.edu; s=unh-iol; t=1746562694; x=1747167494; darn=dpdk.org; h=references:in-reply-to:cc:to:from:subject:message-id:date:from:to :cc:subject:date:message-id:reply-to; bh=yzOS4Eix/T8n2y1YnPVyCt8tL2/83VftDO+PfLj8zjE=; b=Nb8p/qsMKlN1tdaVrYDy9H5TfVNml8gNt0z1yySs1ELmKEP0kvs3xX9IQjYlzAsvVL F7p7s5bj+ndkDsE+i7C7asOGZTMgagUFQPgMI9gj8BeAMh4W7uhKb0PBrB1f15QAF3a5 l6cQQ8M3d8xcTmB3JCZ4Z/+i6ILxrm11hRrj8= X-Google-DKIM-Signature: v=1; a=rsa-sha256; c=relaxed/relaxed; d=1e100.net; s=20230601; t=1746562694; x=1747167494; h=references:in-reply-to:cc:to:from:subject:message-id:date :x-gm-message-state:from:to:cc:subject:date:message-id:reply-to; bh=yzOS4Eix/T8n2y1YnPVyCt8tL2/83VftDO+PfLj8zjE=; b=S3UJIyZcoC1CwXJk/qLlROS34lu65Tolaq1yDZzvcspYog8QKly2/j523Xegdj5O8u adGoB34/yVboX6LK7C4JYObaAR5AkopdPUTec4ATA80aGf2Ht3Q/z1okTXZKTK6+w2zu MR0ym45+y8SLwn5D/UhYB4UxPIHsX72m1WdiwhzReapHV39+7Oa0UuKxOE9iP3iMcQo2 E47oDXUni3qilQWt8HJknzYPFZN6qGH6CrqJLtGlCwR3wMIbL3sBlbJBXwrJrE2lNaug MaGiBt/HkGNLlAWrsH5A5Zbunkdi170QoulZEsO2US73Vzsr+o5j/7cjmpKrJZbq1nYl 49Ag== X-Gm-Message-State: AOJu0YyjF6Pg9EZveHXlzB3lBzkjNDVmy9ISP6W8Xq6aMQRmiwv+CxlY 4jdn6yE5WC3p+jj0Ta+v3jQtoYbDrYSQgyzigZ6PeHAjXi7jrbQZdRCth/2+euNNUd/yj/NLU3f 2TXbJcLDnhhv/iXStetPKXcb2v2tNcvSSc13Ai93U X-Gm-Gg: ASbGnctjfY0MnB7gVaafFeAWhjZ6pbJ0KCpqJumdjXhD5ZHMPA4si/kOCQL9QRNCwk3 LLc0XZKM2+2hX7h/tMq2qe/D3ywW/G9wFr41ikjQpGC3+dmM26mmefKNhw10A1GXdxfFoeFQtVC hjKxFHf85M0Zfq/vcX/eePtqJB85Agrh1uUSOi4MImcstwXydFKxkio/pLskStanBUGlxkPzD7e 7N++yk7CizFwHRpA2meZ5ndH550Ev+iGaEZ/axTdh5vLy9QhskmHyru8AeOOjVYDI11sibpgc0c 5lqJeQ7meIAvKyKYAyC3K/Aa6ZmLFzlNS0xXg4GOV44kfH3Cl5CeZXJoNy0= X-Google-Smtp-Source: AGHT+IEeoUPJnO0STkTN+pnk6qzj7Ju4yGAyMfCGflcvnWUYbL6VpUdlCkyjMa0CKWS6Z9RcQ1sI7KHxaoVg X-Received: by 2002:a05:6e02:2411:b0:3d8:2197:1aa0 with SMTP id e9e14a558f8ab-3da7390117bmr6676125ab.11.1746562694473; Tue, 06 May 2025 13:18:14 -0700 (PDT) Received: from postal.iol.unh.edu (postal.iol.unh.edu. [132.177.123.84]) by smtp-relay.gmail.com with ESMTPS id 8926c6da1cb9f-4f88a93e304sm2152290173.31.2025.05.06.13.18.14 (version=TLS1_2 cipher=ECDHE-ECDSA-AES128-GCM-SHA256 bits=128/128); Tue, 06 May 2025 13:18:14 -0700 (PDT) X-Relaying-Domain: iol.unh.edu Date: Tue, 06 May 2025 13:18:14 -0700 (PDT) Message-ID: <681a6e86.050a0220.35a6ab.d10fSMTPIN_ADDED_MISSING@mx.google.com> Received: from [172.17.0.2] (unknown [172.18.0.74]) by postal.iol.unh.edu (Postfix) with ESMTP id 0B2D06052471; Tue, 6 May 2025 16:18:14 -0400 (EDT) Subject: |SUCCESS| pw153333-153335 [PATCH] [3/3] eal/linux: Check hugepage ac From: dpdklab@iol.unh.edu To: Test Report Cc: dpdk-test-reports@iol.unh.edu In-Reply-To: <20250506175010.1141585-4-jfree@FreeBSD.org> References: <20250506175010.1141585-4-jfree@FreeBSD.org> Content-Type: text/plain X-BeenThere: test-report@dpdk.org X-Mailman-Version: 2.1.29 Precedence: list List-Id: automatic DPDK test reports List-Unsubscribe: , List-Archive: List-Post: List-Help: List-Subscribe: , Errors-To: test-report-bounces@dpdk.org Test-Label: iol-abi-testing Test-Status: SUCCESS http://dpdk.org/patch/153335 _Testing PASS_ Submitter: Jake Freeland Date: Tuesday, May 06 2025 17:50:09 DPDK git baseline: Repo:dpdk Branch: master CommitID:75f179ebe347b6098cf3af26d3d3b7168fe3fe24 153333-153335 --> testing pass Upstream job id: Generic-DPDK-Compile-ABI#125450 Test environment and result as below: +-------------------+----------+ | Environment | abi_test | +===================+==========+ | CentOS Stream 9 | PASS | +-------------------+----------+ | CentOS Stream 10 | PASS | +-------------------+----------+ | Fedora 41 (Clang) | PASS | +-------------------+----------+ | Fedora 40 (Clang) | PASS | +-------------------+----------+ | Fedora 40 | PASS | +-------------------+----------+ | Fedora 41 | PASS | +-------------------+----------+ | openSUSE Leap 15 | PASS | +-------------------+----------+ | RHEL8 | PASS | +-------------------+----------+ | RHEL9 | PASS | +-------------------+----------+ | Ubuntu 24.04 | PASS | +-------------------+----------+ | Ubuntu 22.04 | PASS | +-------------------+----------+ | Debian 12 | PASS | +-------------------+----------+ CentOS Stream 9 Kernel: Depends on container host Compiler: gcc 11.5.0 20240719 (Red Hat 11.5.0-2) CentOS Stream 10 Kernel: Depends on container host Compiler: gcc 14.2.1 20241104 (Red Hat 14.2.1-6) Fedora 41 (Clang) Kernel: Depends on container host Compiler: clang 19.1.5 (Fedora 19.1.5-1.fc41) Fedora 40 (Clang) Kernel: Depends on container host Compiler: clang 18.1.8 (Fedora 18.1.8-1.fc40) Fedora 40 Kernel: Depends on container host Compiler: gcc 14.2.1 20240912 (Red Hat 14.2.1-3) Fedora 41 Kernel: Depends on container host Compiler: gcc 14.2.1 20240912 (Red Hat 14.2.1-3) openSUSE Leap 15 Kernel: Depends on container host Compiler: gcc (SUSE Linux) 7.5.0 RHEL8 Kernel: Depends on container host Compiler: gcc 8.5.0 20210514 (Red Hat 8.5.0-22) RHEL9 Kernel: Depends on container host Compiler: gcc 11.5.0 20240719 (Red Hat 11.5.0-2) Ubuntu 24.04 Kernel: Depends on container host Compiler: gcc (Ubuntu 13.3.0-6ubuntu2~24.04) 13.3.0 Ubuntu 22.04 Kernel: Depends on container host Compiler: gcc (Ubuntu 11.4.0-1ubuntu1~22.04) 11.4.0 Debian 12 Kernel: Depends on container host Compiler: gcc (Debian 12.2.0-14) 12.2.0 To view detailed results, visit: https://lab.dpdk.org/results/dashboard/patchsets/33128/ UNH-IOL DPDK Community Lab To manage your email subscriptions, visit: https://lab.dpdk.org/results/dashboard/preferences/subscriptions/