From mboxrd@z Thu Jan 1 00:00:00 1970 Return-Path: Received: from mails.dpdk.org (mails.dpdk.org [217.70.189.124]) by inbox.dpdk.org (Postfix) with ESMTP id 4351F466B3 for ; Tue, 6 May 2025 22:23:10 +0200 (CEST) Received: from mails.dpdk.org (localhost [127.0.0.1]) by mails.dpdk.org (Postfix) with ESMTP id 2435A40261; Tue, 6 May 2025 22:23:10 +0200 (CEST) Received: from mail-qk1-f225.google.com (mail-qk1-f225.google.com [209.85.222.225]) by mails.dpdk.org (Postfix) with ESMTP id D9DD14025D for ; Tue, 6 May 2025 22:23:08 +0200 (CEST) Received: by mail-qk1-f225.google.com with SMTP id af79cd13be357-7c53b9d66fdso926115785a.3 for ; Tue, 06 May 2025 13:23:08 -0700 (PDT) DKIM-Signature: v=1; a=rsa-sha256; c=relaxed/relaxed; d=iol.unh.edu; s=unh-iol; t=1746562988; x=1747167788; darn=dpdk.org; h=references:in-reply-to:cc:to:from:subject:message-id:date:from:to :cc:subject:date:message-id:reply-to; bh=V9oZ4Gczph4IqoVwOV+cuS7Dv4JRqp54OjAsZ5f4FT0=; b=TZta935qJP/TphxsPsa3yyA+z3wE/9gR2BIfS9c8c27L/iuPrt0GAeAFsx85YJcRFJ ZgLQRvGGOOt/2lZKS9LYVODg/ymOCMp1ENaFkiEn+3an7KATqIBj5WI+/FDGvWNLkgKU 7I1qN2MSRmVI800JEpEWTdA8LFeyBxhFZqgqE= X-Google-DKIM-Signature: v=1; a=rsa-sha256; c=relaxed/relaxed; d=1e100.net; s=20230601; t=1746562988; x=1747167788; h=references:in-reply-to:cc:to:from:subject:message-id:date :x-gm-message-state:from:to:cc:subject:date:message-id:reply-to; bh=V9oZ4Gczph4IqoVwOV+cuS7Dv4JRqp54OjAsZ5f4FT0=; b=SdAJnm8y9xbZpDhYK4frw+2feIzst2ZrLnj1OoMdb3yaSZs6nFx5FoaTxX0NvDx/EE Fx3XOP+tz/93lfECYcjhrpz9CDEr6NF+MP4wFPA3GxnJpR/9qxviJEKGuIlBqgjljhjn PYf79/mHPRmvBkoCYDscF/o3QxR7lW8L2Bih662JiNLXbgfGVo7Nh4ifqIyjRIqPm+Uf wNGeXkQmRhtV6nWoxZolAja1d1fpehIgSVl+4AEqYlyNLsgvT5GUHLx8SA3RjH6qL3aj 4ddLGzQb/4GY9GJ9NuBnwa8fTc4Z71rZH9/7NVj2XGNwyKfSqWjz7IwEMFBrLQPm5+Ir nq4A== X-Gm-Message-State: AOJu0Yx54iANbhV7BrqgpIDqTv2fOki8gXrqF7wx0a1xpO0LBLBPjfjO sjLvX96xFCvX2vLNim9an54euNToZbaLHAeRNwo4oArsRF3yeNSTsyvtuwVjOFq5tFEFeBxac8n 5ibwKlzTs1Dyegr9KUULqAq3jfMGhmdLGYEwOAhjxph/7Yma+WfXoGpZu X-Gm-Gg: ASbGncuuuIcYzgzCFMWDG598wN5Vn3Dh/XXMjSDvPezA0TM0yQLaTOxcMI5YS7Ii9id PsXNafGFsQalgkt0asLTR8r2o/+yKjm6SMKC2gvA7k4JuuJ0yrXS5HZqyFU0O05BCcdaYxn/Ftn 0Ml6ckRLHGZS+95YY3NWCFkwOrMk1KcNchxJ5CE+/U3dZW7WFKEZaxcZlh+l25BPVZTVBN1Q2DQ TQ0T851el8bvM+W/XAh2s7X6rGffKe02cCartrEdsDTYlTowFZVtBdGqVJhs9Wsecux7wR1gntP r5JvhgFuXlY/WbFLIwYTEoYHZn9Vt/uqTWDe X-Google-Smtp-Source: AGHT+IGloQnciqqw8POWWWQ9U+a1QYCu02crBChJ0Y7tnhCPXhCwZ5e729975bn/0d2SEz8WQzoEIVzXDuoa X-Received: by 2002:a05:620a:2547:b0:7c7:ad45:b3d4 with SMTP id af79cd13be357-7caf73ac00emr85991485a.34.1746562988131; Tue, 06 May 2025 13:23:08 -0700 (PDT) Received: from postal.iol.unh.edu (postal.iol.unh.edu. [2606:4100:3880:1234::84]) by smtp-relay.gmail.com with ESMTPS id af79cd13be357-7caf759f534sm1672885a.7.2025.05.06.13.23.08 (version=TLS1_2 cipher=ECDHE-ECDSA-AES128-GCM-SHA256 bits=128/128); Tue, 06 May 2025 13:23:08 -0700 (PDT) X-Relaying-Domain: iol.unh.edu Date: Tue, 06 May 2025 13:23:08 -0700 (PDT) Message-ID: <681a6fac.050a0220.89c8.0f87SMTPIN_ADDED_MISSING@mx.google.com> Received: from [172.17.0.4] (unknown [172.18.0.74]) by postal.iol.unh.edu (Postfix) with ESMTP id CED776052471; Tue, 6 May 2025 16:23:07 -0400 (EDT) Subject: |SUCCESS| pw153336 [PATCH] net/ice: Localize dynamic mbuf timestamp From: dpdklab@iol.unh.edu To: Test Report Cc: dpdk-test-reports@iol.unh.edu In-Reply-To: <20250506175025.1141664-1-jfree@FreeBSD.org> References: <20250506175025.1141664-1-jfree@FreeBSD.org> Content-Type: text/plain X-BeenThere: test-report@dpdk.org X-Mailman-Version: 2.1.29 Precedence: list List-Id: automatic DPDK test reports List-Unsubscribe: , List-Archive: List-Post: List-Help: List-Subscribe: , Errors-To: test-report-bounces@dpdk.org Test-Label: iol-compile-arm64-testing Test-Status: SUCCESS http://dpdk.org/patch/153336 _Testing PASS_ Submitter: Jake Freeland Date: Tuesday, May 06 2025 17:50:24 DPDK git baseline: Repo:dpdk Branch: master CommitID:7cf0355db9fdab5648b05fd787356c391c510534 153336 --> testing pass Upstream job id: Generic-DPDK-Compile-Meson#385623 Test environment and result as below: +----------------------------------------+--------------------+ | Environment | dpdk_meson_compile | +========================================+====================+ | RHEL9 (ARM) | PASS | +----------------------------------------+--------------------+ | Ubuntu 20.04 ARM GCC Cross Compile | PASS | +----------------------------------------+--------------------+ | Ubuntu 20.04 ARM SVE | PASS | +----------------------------------------+--------------------+ | Fedora 40 (ARM Clang) | PASS | +----------------------------------------+--------------------+ | Debian 12 with MUSDK | PASS | +----------------------------------------+--------------------+ | Ubuntu 22.04 (ARM) | PASS | +----------------------------------------+--------------------+ | Fedora 41 (ARM Clang) | PASS | +----------------------------------------+--------------------+ | Ubuntu 20.04 (ARM) | PASS | +----------------------------------------+--------------------+ | Fedora 41 (ARM) | PASS | +----------------------------------------+--------------------+ | Ubuntu 24.04 (ARM) | PASS | +----------------------------------------+--------------------+ | CentOS Stream 9 (ARM) | PASS | +----------------------------------------+--------------------+ | CentOS Stream 10 (ARM) | PASS | +----------------------------------------+--------------------+ | Ubuntu 20.04 aarch32 GCC Cross Compile | PASS | +----------------------------------------+--------------------+ | Ubuntu 20.04 ARM Clang Cross Compile | PASS | +----------------------------------------+--------------------+ | Fedora 40 (ARM) | PASS | +----------------------------------------+--------------------+ | Debian 12 (arm) | PASS | +----------------------------------------+--------------------+ RHEL9 (ARM) Kernel: Depends on container host Compiler: gcc 11.5.0 20240719 (Red Hat 11.5.0-2) Ubuntu 20.04 ARM GCC Cross Compile Kernel: Depends on container host Compiler: aarch64-linux-gnu-gcc (Ubuntu 9.4.0-1ubuntu1~20.04.2) 9.4.0 Ubuntu 20.04 ARM SVE Kernel: Depends on container host Compiler: gcc (Ubuntu 10.5.0-1ubuntu1~20.04) 10.5.0 Fedora 40 (ARM Clang) Kernel: Depends on container host Compiler: clang 18.1.8 (Fedora 18.1.8-1.fc40) Debian 12 with MUSDK Kernel: Depends on container host Compiler: gcc (Debian 12.2.0-14) 12.2.0 Ubuntu 22.04 (ARM) Kernel: Depends on container host Compiler: gcc (Ubuntu 11.4.0-1ubuntu1~22.04) 11.4.0 Fedora 41 (ARM Clang) Kernel: Depends on container host Compiler: clang 19.1.5 (Fedora 19.1.5-1.fc41) Ubuntu 20.04 (ARM) Kernel: Depends on container host Compiler: gcc (Ubuntu 9.4.0-1ubuntu1~20.04.2) 9.4.0 Fedora 41 (ARM) Kernel: Depends on container host Compiler: gcc 14.2.1 20240912 (Red Hat 14.2.1-3) Ubuntu 24.04 (ARM) Kernel: Depends on container host Compiler: gcc (Ubuntu 13.3.0-6ubuntu2~24.04) 13.3.0 CentOS Stream 9 (ARM) Kernel: Depends on container host Compiler: gcc 11.5.0 20240719 (Red Hat 11.5.0-2) CentOS Stream 10 (ARM) Kernel: Depends on container host Compiler: gcc 14.2.1 20241104 (Red Hat 14.2.1-6) Ubuntu 20.04 aarch32 GCC Cross Compile Kernel: Depends on container host Compiler: gcc 9.4.0 Ubuntu 20.04 ARM Clang Cross Compile Kernel: Depends on container host Compiler: clang 10.0.0-4ubuntu1 Fedora 40 (ARM) Kernel: Depends on container host Compiler: gcc 14.2.1 20240912 (Red Hat 14.2.1-3) Debian 12 (arm) Kernel: Depends on container host Compiler: gcc (Debian 12.2.0-14) 12.2.0 To view detailed results, visit: https://lab.dpdk.org/results/dashboard/patchsets/33129/ UNH-IOL DPDK Community Lab To manage your email subscriptions, visit: https://lab.dpdk.org/results/dashboard/preferences/subscriptions/