From mboxrd@z Thu Jan 1 00:00:00 1970 Return-Path: Received: from mails.dpdk.org (mails.dpdk.org [217.70.189.124]) by inbox.dpdk.org (Postfix) with ESMTP id 6CC51466E2 for ; Tue, 6 May 2025 22:46:47 +0200 (CEST) Received: from mails.dpdk.org (localhost [127.0.0.1]) by mails.dpdk.org (Postfix) with ESMTP id 67B8D40261; Tue, 6 May 2025 22:46:47 +0200 (CEST) Received: from mail-ot1-f99.google.com (mail-ot1-f99.google.com [209.85.210.99]) by mails.dpdk.org (Postfix) with ESMTP id DC5CD4025D for ; Tue, 6 May 2025 22:46:46 +0200 (CEST) Received: by mail-ot1-f99.google.com with SMTP id 46e09a7af769-72c7336ed99so1553862a34.0 for ; Tue, 06 May 2025 13:46:46 -0700 (PDT) DKIM-Signature: v=1; a=rsa-sha256; c=relaxed/relaxed; d=iol.unh.edu; s=unh-iol; t=1746564406; x=1747169206; darn=dpdk.org; h=references:in-reply-to:cc:to:from:subject:message-id:date:from:to :cc:subject:date:message-id:reply-to; bh=uLuOm9zOZX84xjDJlZ4WjLT7RYF3zE0ddcHb4/SNLiY=; b=BvuHwq/f5wFvVqKVheisEEgyTk487V8g0UBARFMbP8HkfvDrTkgPOkYIsfOVKhdk2+ 4DEkR2e+fV0qAH4kFUaLsyRKR57H3eEd+q9cIXSVU0z0S1Ehi/AWQySWYS62tzTCOpBG FLNuo5zFgey5zvNlCPnbuJGppYGe+MbzQD5iE= X-Google-DKIM-Signature: v=1; a=rsa-sha256; c=relaxed/relaxed; d=1e100.net; s=20230601; t=1746564406; x=1747169206; h=references:in-reply-to:cc:to:from:subject:message-id:date :x-gm-message-state:from:to:cc:subject:date:message-id:reply-to; bh=uLuOm9zOZX84xjDJlZ4WjLT7RYF3zE0ddcHb4/SNLiY=; b=L0LKMEQkHFkslz5MS/y9G5UwSjrWEUrJyjl7ukkf0fRL8G8qNPWyX2ISjKSopdxOTg CAWeDNSZKd50uTJakDn0CRctHIN0UQ7XhH+f2uXwsSelL5Pv4UxVKypXOM6rIP0gSZo3 dFzymMlx9gI2rdd3SR1ViMORqa4AxLtOuV6MOKEdMCNZNbKyRz8fRnR2NSxe9hPQb0KP VoqsjpPU0pe7yIXIFFFTpwpK3Ic6plyqVkZxN2PHKqfSWZKaiM1sKZYk+MfeQrzU2iVs J+W6Yji7JBHTeAAGA2EON3kxJPl5pS5yDjVun4hMmnR1G59wDH0MS1ZWZr/FQmjsME3/ wd9A== X-Gm-Message-State: AOJu0YxHeZhDu33jr9mVKx7+4dAoGM1AIEYPJbTOj/ATGfNRUi1tqAI1 fIlRCnEnG6ashKfzLURr3zkl5yIyK3XisikbRzxJWpULhbCYri6DpyqZtHdUMq/BFLrQfY2LuAN v0uWxzYKOkimqz600+XV+iiWITSOANDdvIyvRG23dxi7C3bX1W3bTKl2L X-Gm-Gg: ASbGncsMJclRooOBLx0x7+1Mn39LRKgVZSaTCsGGjGgIkDN4xhgPZ0syQdnBulXU9zK d9Z9MXUj1IkoJpNUh7AlQ7+ydne2jYIhCI6y08ssCSJ0hAMd1CcrEmUD89iB2MAvtqkb5uBx7EV ZrD55Uz4svrPV+XrTJrjufDI+qyrzivu9xbQINCBbgfGm8R4crrpHwH7+aGWC1KI7APcBQpBZZG Z9vNflEB01Xd50OqatonVOZJt89nQ3G6ls2+PeF5UAtq8HfFVxcJx8zL+wWo1p1EpELFzIxS6S5 +DTatKkEKd8N2liHe/HMf2Ts2G/piUcjV7S5 X-Google-Smtp-Source: AGHT+IFnOinMba1bTeKWeLRpSXPnztfNp/KQukDLRR0aGlVH0pSRIt4sZqGTzu7l3nTedpkxytyFD1V0pAWV X-Received: by 2002:a05:6870:a7a0:b0:2b8:ec17:66e9 with SMTP id 586e51a60fabf-2db5be25ac5mr448471fac.11.1746564404655; Tue, 06 May 2025 13:46:44 -0700 (PDT) Received: from postal.iol.unh.edu (postal.iol.unh.edu. [2606:4100:3880:1234::84]) by smtp-relay.gmail.com with ESMTPS id 586e51a60fabf-2db5cd88026sm17653fac.17.2025.05.06.13.46.44 (version=TLS1_2 cipher=ECDHE-ECDSA-AES128-GCM-SHA256 bits=128/128); Tue, 06 May 2025 13:46:44 -0700 (PDT) X-Relaying-Domain: iol.unh.edu Date: Tue, 06 May 2025 13:46:44 -0700 (PDT) Message-ID: <681a7534.050a0220.2f0494.106aSMTPIN_ADDED_MISSING@mx.google.com> Received: from [172.21.0.11] (unknown [172.18.0.240]) by postal.iol.unh.edu (Postfix) with ESMTP id 4C3D96052471; Tue, 6 May 2025 16:46:44 -0400 (EDT) Subject: |SUCCESS| pw153333-153335 [PATCH] [3/3] eal/linux: Check hugepage ac From: dpdklab@iol.unh.edu To: Test Report Cc: dpdk-test-reports@iol.unh.edu In-Reply-To: <20250506175010.1141585-4-jfree@FreeBSD.org> References: <20250506175010.1141585-4-jfree@FreeBSD.org> Content-Type: text/plain X-BeenThere: test-report@dpdk.org X-Mailman-Version: 2.1.29 Precedence: list List-Id: automatic DPDK test reports List-Unsubscribe: , List-Archive: List-Post: List-Help: List-Subscribe: , Errors-To: test-report-bounces@dpdk.org Test-Label: iol-unit-amd64-testing Test-Status: SUCCESS http://dpdk.org/patch/153335 _Testing PASS_ Submitter: Jake Freeland Date: Tuesday, May 06 2025 17:50:09 DPDK git baseline: Repo:dpdk Branch: master CommitID:75f179ebe347b6098cf3af26d3d3b7168fe3fe24 153333-153335 --> testing pass Upstream job id: Generic-VM-Unit-Test-DPDK#28360 Test environment and result as below: +---------------------+----------------+ | Environment | dpdk_unit_test | +=====================+================+ | CentOS Stream 10 | PASS | +---------------------+----------------+ | Debian 12 | PASS | +---------------------+----------------+ | CentOS Stream 9 | PASS | +---------------------+----------------+ | Fedora 40 | PASS | +---------------------+----------------+ | Fedora 41 (Clang) | PASS | +---------------------+----------------+ | Fedora 40 (Clang) | PASS | +---------------------+----------------+ | RHEL8 | PASS | +---------------------+----------------+ | RHEL9 | PASS | +---------------------+----------------+ | Fedora 41 | PASS | +---------------------+----------------+ | Ubuntu 20.04 | PASS | +---------------------+----------------+ | Ubuntu 22.04 | PASS | +---------------------+----------------+ | Ubuntu 24.04 | PASS | +---------------------+----------------+ | Windows Server 2022 | PASS | +---------------------+----------------+ CentOS Stream 10 Kernel: Depends on container host Compiler: gcc 14.2.1 20241104 (Red Hat 14.2.1-6) Debian 12 Kernel: Depends on container host Compiler: gcc (Debian 12.2.0-14) 12.2.0 CentOS Stream 9 Kernel: Depends on container host Compiler: gcc 11.5.0 20240719 (Red Hat 11.5.0-2) Fedora 40 Kernel: Depends on container host Compiler: gcc 14.2.1 20240912 (Red Hat 14.2.1-3) Fedora 41 (Clang) Kernel: Depends on container host Compiler: clang 19.1.5 (Fedora 19.1.5-1.fc41) Fedora 40 (Clang) Kernel: Depends on container host Compiler: clang 18.1.8 (Fedora 18.1.8-1.fc40) RHEL8 Kernel: Depends on container host Compiler: gcc 8.5.0 20210514 (Red Hat 8.5.0-22) RHEL9 Kernel: Depends on container host Compiler: gcc 11.5.0 20240719 (Red Hat 11.5.0-2) Fedora 41 Kernel: Depends on container host Compiler: gcc 14.2.1 20240912 (Red Hat 14.2.1-3) Ubuntu 20.04 Kernel: Depends on container host Compiler: gcc (Ubuntu 9.4.0-1ubuntu1~20.04.2) 9.4.0 Ubuntu 22.04 Kernel: Depends on container host Compiler: gcc (Ubuntu 11.4.0-1ubuntu1~22.04) 11.4.0 Ubuntu 24.04 Kernel: Depends on container host Compiler: gcc (Ubuntu 13.3.0-6ubuntu2~24.04) 13.3.0 Windows Server 2022 Kernel: 10.0.20348.2031 Compiler: clang 15.0.7, gcc 14.1.0 (MinGW), and MSVC VS 19.39.33521 To view detailed results, visit: https://lab.dpdk.org/results/dashboard/patchsets/33128/ UNH-IOL DPDK Community Lab To manage your email subscriptions, visit: https://lab.dpdk.org/results/dashboard/preferences/subscriptions/