From mboxrd@z Thu Jan 1 00:00:00 1970 Return-Path: Received: from mails.dpdk.org (mails.dpdk.org [217.70.189.124]) by inbox.dpdk.org (Postfix) with ESMTP id D43A5466E2 for ; Tue, 6 May 2025 23:09:51 +0200 (CEST) Received: from mails.dpdk.org (localhost [127.0.0.1]) by mails.dpdk.org (Postfix) with ESMTP id 9ED1040261; Tue, 6 May 2025 23:09:51 +0200 (CEST) Received: from mail-pl1-f226.google.com (mail-pl1-f226.google.com [209.85.214.226]) by mails.dpdk.org (Postfix) with ESMTP id B104A4025D for ; Tue, 6 May 2025 23:09:50 +0200 (CEST) Received: by mail-pl1-f226.google.com with SMTP id d9443c01a7336-22423adf751so70852325ad.2 for ; Tue, 06 May 2025 14:09:50 -0700 (PDT) DKIM-Signature: v=1; a=rsa-sha256; c=relaxed/relaxed; d=iol.unh.edu; s=unh-iol; t=1746565790; x=1747170590; darn=dpdk.org; h=references:in-reply-to:cc:to:from:subject:message-id:date:from:to :cc:subject:date:message-id:reply-to; bh=rxvRzojjULJARh0HkYviXecN4CapKnd+NhRasp+GmYw=; b=Clb/mR7Ba1LmsSjqVYRca3/3HZP/UIBtPnShaRC80mPGCh8ZxzNOads5y8uhXiiZHT D28kdEeB+9m8O2NWUiOsAzF3ffm4e+yiKgDUb0h7PSAVxxMY9/4UwnDtWEdVCRVVQ+N9 5KwK/+8J+aVdq321NWAaBLB5KuYbvwJHORO7Y= X-Google-DKIM-Signature: v=1; a=rsa-sha256; c=relaxed/relaxed; d=1e100.net; s=20230601; t=1746565790; x=1747170590; h=references:in-reply-to:cc:to:from:subject:message-id:date :x-gm-message-state:from:to:cc:subject:date:message-id:reply-to; bh=rxvRzojjULJARh0HkYviXecN4CapKnd+NhRasp+GmYw=; b=a1bv1kSO7cu/baBvFrLK82nblAFiFs8JRDsHel+mcoq/K09QZmldn+sQ7psD9YPeVi OTo/orzO4m+YNjmNu/eqBCLGwlfeVaHHfB4wbMDF81Jylizg5wFDCXaRHIPb0GpCo1Ik 8rKPMsc2/QGJonPmcNeBMsIm3QK/Z9bZKSKKVD+jhqe6JF7qntCnuHl9sHqzhDwgGB2z ypMf+Yw5IvJz5gGJjF0iwd1uPzmbVg1otfNLCMXHveAWgOTZsXYiy8blV46HZpp8yE2S UaXdpErqfKQtBQzq9ksotvrcz5Ecn/IPSKfdJDrd7dtUVx2oiXYi/+ehDz+lhyBJJ07g Zh/g== X-Gm-Message-State: AOJu0YzG451CoRoCKfj6JmRFsG5NSrWv7YbwRThn/BgvY6SuRDu5oCaI YQ46PBirnZOPFdmPnd9AbYmnSN9uxq1qH89lLsSdguMMYM4QHPSd2AQGSGSwnZk0TI8aEy8DMtI WaMYVjZbDVeSHRV2iU5UB0igjIHkiYSya1acYQ8tOyOcgKg4PI2D0eTB3 X-Gm-Gg: ASbGncucott5BwqSbYWfHFw49cuj4jZpRPSOGDMsJLfxMBOmLcrdjjY6xs9V71wMst3 yTNEiNDdEWyX2Z17PrxZ41o/jHpY+7hAEXYN7edE1pbgyHrVytoSEktLZN7Dpa+W/BM9uqtXGYV ZfQufIRw9ZeDiPJyvTGDedVSDUR/rpcD9d9n26qi/5GrvPkStbz23qMdJtOLR8sMbOoQ71OrzLz XxMggVcTqdQUTeNZiLqxDrH3OCia0wcXBn/TB+77cJ/wMm6xkKdAdDznhc0kx8PQ/xFml1BUWwt CL1OvgU+/5voH8KW3rGoQMocdVfXqMzJBx6m X-Google-Smtp-Source: AGHT+IH0aQ82THeSvni3uxf4K5byeVIiwjYO8jApXGAYKb4m5tsOu7CBP334QERc+qUVkImotjh6DCLmNftp X-Received: by 2002:a17:902:d50f:b0:220:c911:3f60 with SMTP id d9443c01a7336-22e5ee1cc66mr9646705ad.47.1746565789784; Tue, 06 May 2025 14:09:49 -0700 (PDT) Received: from postal.iol.unh.edu (postal.iol.unh.edu. [2606:4100:3880:1234::84]) by smtp-relay.gmail.com with ESMTPS id d9443c01a7336-22e427da097sm800515ad.120.2025.05.06.14.09.49 (version=TLS1_2 cipher=ECDHE-ECDSA-AES128-GCM-SHA256 bits=128/128); Tue, 06 May 2025 14:09:49 -0700 (PDT) X-Relaying-Domain: iol.unh.edu Date: Tue, 06 May 2025 14:09:49 -0700 (PDT) Message-ID: <681a7a9d.170a0220.192133.4075SMTPIN_ADDED_MISSING@mx.google.com> Received: from [172.21.0.6] (unknown [172.18.0.240]) by postal.iol.unh.edu (Postfix) with ESMTP id 046C16052471; Tue, 6 May 2025 17:09:49 -0400 (EDT) Subject: |SUCCESS| pw153332 [PATCH] kernel/freebsd: Allow contigmem allocatio From: dpdklab@iol.unh.edu To: Test Report Cc: dpdk-test-reports@iol.unh.edu In-Reply-To: <20250506174941.1141140-1-jfree@FreeBSD.org> References: <20250506174941.1141140-1-jfree@FreeBSD.org> Content-Type: text/plain X-BeenThere: test-report@dpdk.org X-Mailman-Version: 2.1.29 Precedence: list List-Id: automatic DPDK test reports List-Unsubscribe: , List-Archive: List-Post: List-Help: List-Subscribe: , Errors-To: test-report-bounces@dpdk.org Test-Label: iol-unit-amd64-testing Test-Status: SUCCESS http://dpdk.org/patch/153332 _Testing PASS_ Submitter: Jake Freeland Date: Tuesday, May 06 2025 17:48:38 DPDK git baseline: Repo:dpdk Branch: master CommitID:75f179ebe347b6098cf3af26d3d3b7168fe3fe24 153332 --> testing pass Upstream job id: Generic-Unit-Test-DPDK#335860 Test environment and result as below: +-------------------+----------------+ | Environment | dpdk_unit_test | +===================+================+ | CentOS Stream 9 | PASS | +-------------------+----------------+ | Debian 12 | PASS | +-------------------+----------------+ | Fedora 40 (Clang) | PASS | +-------------------+----------------+ | Fedora 40 | PASS | +-------------------+----------------+ | Fedora 41 | PASS | +-------------------+----------------+ | RHEL8 | PASS | +-------------------+----------------+ | Ubuntu 22.04 | PASS | +-------------------+----------------+ | Ubuntu 20.04 | PASS | +-------------------+----------------+ | Fedora 41 (Clang) | PASS | +-------------------+----------------+ | CentOS Stream 10 | PASS | +-------------------+----------------+ | RHEL9 | PASS | +-------------------+----------------+ | Ubuntu 24.04 | PASS | +-------------------+----------------+ CentOS Stream 9 Kernel: Depends on container host Compiler: gcc 11.5.0 20240719 (Red Hat 11.5.0-2) Debian 12 Kernel: Depends on container host Compiler: gcc (Debian 12.2.0-14) 12.2.0 Fedora 40 (Clang) Kernel: Depends on container host Compiler: clang 18.1.8 (Fedora 18.1.8-1.fc40) Fedora 40 Kernel: Depends on container host Compiler: gcc 14.2.1 20240912 (Red Hat 14.2.1-3) Fedora 41 Kernel: Depends on container host Compiler: gcc 14.2.1 20240912 (Red Hat 14.2.1-3) RHEL8 Kernel: Depends on container host Compiler: gcc 8.5.0 20210514 (Red Hat 8.5.0-22) Ubuntu 22.04 Kernel: Depends on container host Compiler: gcc (Ubuntu 11.4.0-1ubuntu1~22.04) 11.4.0 Ubuntu 20.04 Kernel: Depends on container host Compiler: gcc (Ubuntu 9.4.0-1ubuntu1~20.04.2) 9.4.0 Fedora 41 (Clang) Kernel: Depends on container host Compiler: clang 19.1.5 (Fedora 19.1.5-1.fc41) CentOS Stream 10 Kernel: Depends on container host Compiler: gcc 14.2.1 20241104 (Red Hat 14.2.1-6) RHEL9 Kernel: Depends on container host Compiler: gcc 11.5.0 20240719 (Red Hat 11.5.0-2) Ubuntu 24.04 Kernel: Depends on container host Compiler: gcc (Ubuntu 13.3.0-6ubuntu2~24.04) 13.3.0 To view detailed results, visit: https://lab.dpdk.org/results/dashboard/patchsets/33127/ UNH-IOL DPDK Community Lab To manage your email subscriptions, visit: https://lab.dpdk.org/results/dashboard/preferences/subscriptions/