From mboxrd@z Thu Jan 1 00:00:00 1970 Return-Path: Received: from mails.dpdk.org (mails.dpdk.org [217.70.189.124]) by inbox.dpdk.org (Postfix) with ESMTP id 88380466E2 for ; Tue, 6 May 2025 23:29:01 +0200 (CEST) Received: from mails.dpdk.org (localhost [127.0.0.1]) by mails.dpdk.org (Postfix) with ESMTP id 6006D40261; Tue, 6 May 2025 23:29:01 +0200 (CEST) Received: from mail-pj1-f98.google.com (mail-pj1-f98.google.com [209.85.216.98]) by mails.dpdk.org (Postfix) with ESMTP id EDB344025D for ; Tue, 6 May 2025 23:28:59 +0200 (CEST) Received: by mail-pj1-f98.google.com with SMTP id 98e67ed59e1d1-30a8c9906e5so1589464a91.1 for ; Tue, 06 May 2025 14:28:59 -0700 (PDT) DKIM-Signature: v=1; a=rsa-sha256; c=relaxed/relaxed; d=iol.unh.edu; s=unh-iol; t=1746566939; x=1747171739; darn=dpdk.org; h=references:in-reply-to:cc:to:from:subject:message-id:date:from:to :cc:subject:date:message-id:reply-to; bh=tx36uuOtSFGgOVfGaluRJ+pjSTiHxRrCwWDd33ppX64=; b=b2TqUS0206B0brUNWg+SOd0FGulBQhqK9HrTIXaiPzhmzAfPaApADRxwvnZQ8y6+zc 8T36ewFGL5nWZTUxs/zx101bjj5fLu7ea7lbK4N05JTOaT8Y8OS/yZpqK3xnio1W4lDJ qneM/BBKKngJjo69DvKJUWI83AxDeJeNyuMdc= X-Google-DKIM-Signature: v=1; a=rsa-sha256; c=relaxed/relaxed; d=1e100.net; s=20230601; t=1746566939; x=1747171739; h=references:in-reply-to:cc:to:from:subject:message-id:date :x-gm-message-state:from:to:cc:subject:date:message-id:reply-to; bh=tx36uuOtSFGgOVfGaluRJ+pjSTiHxRrCwWDd33ppX64=; b=igR0ep64DgY805s/BCm80zzfuQV8N7G/aKUxnI9jHeap5lF7n29LMbC5t1hd8m1eGV 33j8t9unxuRwbfeoMXvr53BLwM+w46ykzDapOiF9MvlZB5+7kGb55XPw4qKt4SHUigPv q21ISDdqSnZ05qaZ4or7cqOsR4xwMyaX4Szs6ePxyU6nLypEdNiX0eDQV+zCxNtlLY3O u830vCG77LZCZOLUsBKSXd9lBZXHHLhDoMBVauSKXYJ2/Omg0Fl0yoE3XR3OxQik2A/Q H1Y+9uE8exYL3OYaNiwMhGMG0TtVOlvQYv0aAT6X9jxdG2P8KSanZ9O9xhYPhrwCnUUy fOlA== X-Gm-Message-State: AOJu0YyiILJviFTCWJUo+DXMtse62siCUzI9tTwN8dVc97AG/hTSrysW s/lRVLOdyU2qI7tu6Wut8s45quDqzln0v3eEQeAnNaHZs3tCXp87YADXoH30njzojuN7xlcLgGU QhHoNLmxj8YzsSxZkJp3AqT0IoWaTSfj7ZWR5F85t X-Gm-Gg: ASbGnctvHUCkUAs6OTbOn7v8j3AMP+1xR4KPQjU2FEsHcL238tRZ3vkF90n2A1kk27h 6vKVBNN5uLV2IsTH/YVK81ZW8XsBuSBc4gwSRrXlDGtGs2nFXhUSJPeGOBfrMXweEvPQGHMSYMz MHtDDm9mnBzbhL7Y1dDODN2TjasUvQgjVSpxCal+7GySK16i82m7bNEgYe2zFpan+xleBDJn17W qMDQ20Bzc7BVukqFl8kRnbV2DMH8LvqemI60er9hklN8iNprN3JEHt0EU4Mo9qb+dzeTnz5Im/q D481sXHXNDoXrBS+jiN7NcnFBwxzpz7EB0HPCevYc/UykJ0kyc5mU0mG0SQ= X-Google-Smtp-Source: AGHT+IES59RjKxT5X28xtGAiFsrL73f5UfxEsrl5Xuo3aQZBG9Yt3k+AUz2NfDETInz4xkMU5/nfVit8qd4Z X-Received: by 2002:a17:90b:3a85:b0:30a:4c44:cc05 with SMTP id 98e67ed59e1d1-30aac183aefmr1575670a91.10.1746566938707; Tue, 06 May 2025 14:28:58 -0700 (PDT) Received: from postal.iol.unh.edu (postal.iol.unh.edu. [132.177.123.84]) by smtp-relay.gmail.com with ESMTPS id 98e67ed59e1d1-30aaeb75f40sm21483a91.3.2025.05.06.14.28.58 (version=TLS1_2 cipher=ECDHE-ECDSA-AES128-GCM-SHA256 bits=128/128); Tue, 06 May 2025 14:28:58 -0700 (PDT) X-Relaying-Domain: iol.unh.edu Date: Tue, 06 May 2025 14:28:58 -0700 (PDT) Message-ID: <681a7f1a.170a0220.148818.13a5SMTPIN_ADDED_MISSING@mx.google.com> Received: from [172.21.0.14] (unknown [172.18.0.240]) by postal.iol.unh.edu (Postfix) with ESMTP id 642376052471; Tue, 6 May 2025 17:28:57 -0400 (EDT) Subject: |SUCCESS| pw153306 [PATCH] [v2] test/crypto: increment dequeue timeo From: dpdklab@iol.unh.edu To: Test Report Cc: dpdk-test-reports@iol.unh.edu In-Reply-To: <20250506124918.2018-1-gmuthukrishn@marvell.com> References: <20250506124918.2018-1-gmuthukrishn@marvell.com> Content-Type: text/plain X-BeenThere: test-report@dpdk.org X-Mailman-Version: 2.1.29 Precedence: list List-Id: automatic DPDK test reports List-Unsubscribe: , List-Archive: List-Post: List-Help: List-Subscribe: , Errors-To: test-report-bounces@dpdk.org Test-Label: iol-sample-apps-testing Test-Status: SUCCESS http://dpdk.org/patch/153306 _Testing PASS_ Submitter: Gowrishankar Muthukrishnan Date: Tuesday, May 06 2025 12:49:14 DPDK git baseline: Repo:dpdk Branch: master CommitID:ca1690ebd224f148268285b15b97441ccdbdd07e 153306 --> testing pass Upstream job id: ACVP-FIPS-testing#9728 Test environment and result as below: +--------------------+----------------------+----------------------+ | Environment | compressdev_zlib_pmd | dpdk_fips_validation | +====================+======================+======================+ | Ubuntu 22.04 (ARM) | PASS | SKIPPED | +--------------------+----------------------+----------------------+ | Ubuntu 22.04 | PASS | SKIPPED | +--------------------+----------------------+----------------------+ | Ubuntu 20.04 | SKIPPED | PASS | +--------------------+----------------------+----------------------+ Ubuntu 22.04 (ARM) Kernel: 5.15.0-97-generic Compiler: gcc gcc (Ubuntu 11.4.0-1ubuntu1~22.04) 11.4.0 Ubuntu 22.04 Kernel: 5.15.0-100-generic Compiler: gcc gcc (Ubuntu 11.4.0-1ubuntu1~22.04) 11.4.0 Ubuntu 20.04 Kernel: Depends on container host Compiler: gcc (Ubuntu 9.4.0-1ubuntu1~20.04.2) 9.4.0 To view detailed results, visit: https://lab.dpdk.org/results/dashboard/patchsets/33119/ UNH-IOL DPDK Community Lab To manage your email subscriptions, visit: https://lab.dpdk.org/results/dashboard/preferences/subscriptions/