From mboxrd@z Thu Jan 1 00:00:00 1970 Return-Path: Received: from mails.dpdk.org (mails.dpdk.org [217.70.189.124]) by inbox.dpdk.org (Postfix) with ESMTP id CE0E8466E2 for ; Tue, 6 May 2025 23:41:20 +0200 (CEST) Received: from mails.dpdk.org (localhost [127.0.0.1]) by mails.dpdk.org (Postfix) with ESMTP id A2F2340261; Tue, 6 May 2025 23:41:20 +0200 (CEST) Received: from mail-io1-f100.google.com (mail-io1-f100.google.com [209.85.166.100]) by mails.dpdk.org (Postfix) with ESMTP id D0B6A4025D for ; Tue, 6 May 2025 23:41:19 +0200 (CEST) Received: by mail-io1-f100.google.com with SMTP id ca18e2360f4ac-85de3e8d0adso130363639f.1 for ; Tue, 06 May 2025 14:41:19 -0700 (PDT) DKIM-Signature: v=1; a=rsa-sha256; c=relaxed/relaxed; d=iol.unh.edu; s=unh-iol; t=1746567679; x=1747172479; darn=dpdk.org; h=references:in-reply-to:cc:to:from:subject:message-id:date:from:to :cc:subject:date:message-id:reply-to; bh=FRt2+G3JDBKlr69JyFXggbzYSy45lviQhomv4dIXFko=; b=bW/A/8EGUrFfo0vMMhxzpovu64nanccrWx0svkbBDWE7MVXPQxLnrgJpB/yBv6cday jhraHuO/nlVAYK38AQagBHT82txya7XtTzqzZf5Pu3/Yc1arGCCGTIsARtrf2+ONUfGP 2ddGlZ5zku/RDe1fPzgkm9R3uku+/fi5Ch4RA= X-Google-DKIM-Signature: v=1; a=rsa-sha256; c=relaxed/relaxed; d=1e100.net; s=20230601; t=1746567679; x=1747172479; h=references:in-reply-to:cc:to:from:subject:message-id:date :x-gm-message-state:from:to:cc:subject:date:message-id:reply-to; bh=FRt2+G3JDBKlr69JyFXggbzYSy45lviQhomv4dIXFko=; b=u+Via0ZQlXlxn/2Ee6BZz5hPR2sTtoWjDxZlVQUyZ0Cd8kojkFr0Mu6dvHtlffi/78 A7hMCgIp5eyY6Mnyq92DAeJ7G/8pP7UKsBbC08V22542YHsjQzrDlDiqFCmGzRWAEvQI lV0VMoEdpJSWgJkBgzUzZKAzCgYmFmDwPo9LEAqbsigGt4EYrBsxfXi5rR/yIvH/oDEb EsuEbUy93+j+Bj2q0Mhk+oTlKAP/p98XHO47dr+l4oSkvoNz6QYE9fttAL7tGt6ORDaq xxk+/EdVsttk3M9zByflwFkX4UCNPWiBgPtybVjuU7MPxtvsTXDtVdy8o2i+C0wj6Mnu Y6zQ== X-Gm-Message-State: AOJu0YyMRaJM3qIX8yWMERh0GWN68/wV7+ruXvouKz+zecYTeCiHTHpi 7dc3aXd6bIKEOIY8z3WuwVIdZ4F5fZNLs3UW8ofF48vwYEIOEdt9hHwFyRIj2aK9opdv9oH7/Ua /lZ58sp8ooij31eM83eowDOrFTRmMaxbHO1xN+u2xS5WG/f1m6XBsk4Cv X-Gm-Gg: ASbGncuYkx/fPnEeCdTAXXcl6pC/08GKXiEX22zai4z3CvK65zrBxD37LrFK0cgbtWC hsNxE2pO+QTwzYFME0nOf/zv+G96XHBaCUc7EI7vlCty6ORhZtly12gvjVIVgKER5R/QEg+iVDU DdgoM1ODc9MzpflxdoPfl4DEw/draZrxc6EmIKmzfblDGOhhxvdEI8VyTO8w9meTxeiChE/bsOR t9roFkZgw6GDie4Tc8LUuyKh8zDPrWwHix700i7lOzZc7QIgzJ1wWsAdKZNzYZQlbkDukIrAoLZ Hw2yBVdeD2Nafn3KdLL0Fg+fR7PVWV0YQ3cZ X-Google-Smtp-Source: AGHT+IEAknny6SU9hRHON0OfgNbcAVrTyUYEaTZFRdPuhgtIJoMG9Ib+ppmjsc5IT/vatdRfi9S/DL40tD1J X-Received: by 2002:a05:6602:14c5:b0:867:235d:32d9 with SMTP id ca18e2360f4ac-86747236d03mr146891739f.1.1746567679055; Tue, 06 May 2025 14:41:19 -0700 (PDT) Received: from postal.iol.unh.edu (postal.iol.unh.edu. [2606:4100:3880:1234::84]) by smtp-relay.gmail.com with ESMTPS id 8926c6da1cb9f-4f88a8cd938sm2109695173.12.2025.05.06.14.41.18 (version=TLS1_2 cipher=ECDHE-ECDSA-AES128-GCM-SHA256 bits=128/128); Tue, 06 May 2025 14:41:19 -0700 (PDT) X-Relaying-Domain: iol.unh.edu Date: Tue, 06 May 2025 14:41:19 -0700 (PDT) Message-ID: <681a81ff.050a0220.1ff137.a836SMTPIN_ADDED_MISSING@mx.google.com> Received: from [172.21.0.13] (unknown [172.18.0.240]) by postal.iol.unh.edu (Postfix) with ESMTP id 8C7296052471; Tue, 6 May 2025 17:41:18 -0400 (EDT) Subject: |SUCCESS| pw153332 [PATCH] kernel/freebsd: Allow contigmem allocatio From: dpdklab@iol.unh.edu To: Test Report Cc: dpdk-test-reports@iol.unh.edu In-Reply-To: <20250506174941.1141140-1-jfree@FreeBSD.org> References: <20250506174941.1141140-1-jfree@FreeBSD.org> Content-Type: text/plain X-BeenThere: test-report@dpdk.org X-Mailman-Version: 2.1.29 Precedence: list List-Id: automatic DPDK test reports List-Unsubscribe: , List-Archive: List-Post: List-Help: List-Subscribe: , Errors-To: test-report-bounces@dpdk.org Test-Label: iol-abi-testing Test-Status: SUCCESS http://dpdk.org/patch/153332 _Testing PASS_ Submitter: Jake Freeland Date: Tuesday, May 06 2025 17:48:38 DPDK git baseline: Repo:dpdk Branch: master CommitID:75f179ebe347b6098cf3af26d3d3b7168fe3fe24 153332 --> testing pass Upstream job id: Generic-DPDK-Compile-ABI#125478 Test environment and result as below: +-------------------+----------+ | Environment | abi_test | +===================+==========+ | CentOS Stream 9 | PASS | +-------------------+----------+ | Debian 12 | PASS | +-------------------+----------+ | Fedora 40 (Clang) | PASS | +-------------------+----------+ | Fedora 40 | PASS | +-------------------+----------+ | CentOS Stream 10 | PASS | +-------------------+----------+ | Fedora 41 | PASS | +-------------------+----------+ | Fedora 41 (Clang) | PASS | +-------------------+----------+ | openSUSE Leap 15 | PASS | +-------------------+----------+ | RHEL8 | PASS | +-------------------+----------+ | Ubuntu 22.04 | PASS | +-------------------+----------+ | RHEL9 | PASS | +-------------------+----------+ | Ubuntu 24.04 | PASS | +-------------------+----------+ CentOS Stream 9 Kernel: Depends on container host Compiler: gcc 11.5.0 20240719 (Red Hat 11.5.0-2) Debian 12 Kernel: Depends on container host Compiler: gcc (Debian 12.2.0-14) 12.2.0 Fedora 40 (Clang) Kernel: Depends on container host Compiler: clang 18.1.8 (Fedora 18.1.8-1.fc40) Fedora 40 Kernel: Depends on container host Compiler: gcc 14.2.1 20240912 (Red Hat 14.2.1-3) CentOS Stream 10 Kernel: Depends on container host Compiler: gcc 14.2.1 20241104 (Red Hat 14.2.1-6) Fedora 41 Kernel: Depends on container host Compiler: gcc 14.2.1 20240912 (Red Hat 14.2.1-3) Fedora 41 (Clang) Kernel: Depends on container host Compiler: clang 19.1.5 (Fedora 19.1.5-1.fc41) openSUSE Leap 15 Kernel: Depends on container host Compiler: gcc (SUSE Linux) 7.5.0 RHEL8 Kernel: Depends on container host Compiler: gcc 8.5.0 20210514 (Red Hat 8.5.0-22) Ubuntu 22.04 Kernel: Depends on container host Compiler: gcc (Ubuntu 11.4.0-1ubuntu1~22.04) 11.4.0 RHEL9 Kernel: Depends on container host Compiler: gcc 11.5.0 20240719 (Red Hat 11.5.0-2) Ubuntu 24.04 Kernel: Depends on container host Compiler: gcc (Ubuntu 13.3.0-6ubuntu2~24.04) 13.3.0 To view detailed results, visit: https://lab.dpdk.org/results/dashboard/patchsets/33127/ UNH-IOL DPDK Community Lab To manage your email subscriptions, visit: https://lab.dpdk.org/results/dashboard/preferences/subscriptions/