From mboxrd@z Thu Jan 1 00:00:00 1970 Return-Path: Received: from mails.dpdk.org (mails.dpdk.org [217.70.189.124]) by inbox.dpdk.org (Postfix) with ESMTP id 2A845466E2 for ; Tue, 6 May 2025 23:44:28 +0200 (CEST) Received: from mails.dpdk.org (localhost [127.0.0.1]) by mails.dpdk.org (Postfix) with ESMTP id ECDBC40261; Tue, 6 May 2025 23:44:27 +0200 (CEST) Received: from mail-pj1-f99.google.com (mail-pj1-f99.google.com [209.85.216.99]) by mails.dpdk.org (Postfix) with ESMTP id 868724025D for ; Tue, 6 May 2025 23:44:26 +0200 (CEST) Received: by mail-pj1-f99.google.com with SMTP id 98e67ed59e1d1-30a8c9906e5so1603527a91.1 for ; Tue, 06 May 2025 14:44:26 -0700 (PDT) DKIM-Signature: v=1; a=rsa-sha256; c=relaxed/relaxed; d=iol.unh.edu; s=unh-iol; t=1746567865; x=1747172665; darn=dpdk.org; h=references:in-reply-to:cc:to:from:subject:message-id:date:from:to :cc:subject:date:message-id:reply-to; bh=tlpobsPtEmxxlV/yIuqSo8ARWJVl93RUN+rxNX17C2E=; b=P0f4fb0Ab16yUVBMs7JywvilbjNMtMneWLK9aScFuVi58KyB3T2KWR8t0K0nvnZxpG fdF9BBCwiHDbyWmsDu83RQrBiZF0XDDL1/6Ku/ejHVX3ByPyI12JPRBblwTdmzYkJWaP 28Lf400dn31Z9j2YlOY3vxMyBZ7j9b0ZUBvnc= X-Google-DKIM-Signature: v=1; a=rsa-sha256; c=relaxed/relaxed; d=1e100.net; s=20230601; t=1746567865; x=1747172665; h=references:in-reply-to:cc:to:from:subject:message-id:date :x-gm-message-state:from:to:cc:subject:date:message-id:reply-to; bh=tlpobsPtEmxxlV/yIuqSo8ARWJVl93RUN+rxNX17C2E=; b=dmC4uKPmnCqVDdwaM7Hznxi2sKLayM+QmwAbYInma5yv2U2/j4oNxTy1X3JInrw9NP dJCNMAXnl3wMXjov6o2hMpBuebhv4kaj2kivVj+xKVfMqOBM8i8Qng+IQAdbp0b2B+ys lzG0yacLwosToySzLYv+JujRJ/davTgGbWSwL270mvrZClD8Qven+Ee0CTYSizTGOzex IvYBBpD7hxTGaE9uB9djP/ZmoGIlDap+e6+NEo3+nAk9g7kTb017SwRQfF6WwLNuFEjM XMzwW1n1FTolFHcORWgsfGnIhJtoIadlfbDvvFzjpnLsiaKTBVZtlJ6r/PF1UWVXN+Q+ rW+A== X-Gm-Message-State: AOJu0YyUdiF5hU3YgaKqCrTB73o4ZQhA8wwL/rnCXU6WeT4lktjaGuLm 6SNYQnZ2N8nXtCTxKQUIFFNt/Z4d8NBuydYpgCs6o0hcjJ+Na8no8XnWi/elZzWxMLadq1q68wa ITKI7tr/XZBScvEmfOXU+DGSepm9Oms1RjvvrqJ1s X-Gm-Gg: ASbGncuo3Qz9JVGgV8UXGlBBr5LfeX1YFGWsUf1D3iRMwU8owXnfdiTtT78sOkP6hTU 0ttwvSEvD8GUJ9ykHR/qRc+zBjrJfS6DFUd1B/3XyxrDoanIcjHcMwZwnuX2vBeMhwY6PjeQpPd rkLjPTTzXiDhDMhdJRIlcuXl2Ead2spT2FT93d/nBbrDEU9TfmJjB56XTsfOrX+WLd23pkOaWIz 4eLZQ6znVDeqF7HhLI7fP/3FXTKFXOKTgdxCnvpQlj/grdhLnShnOwGKM8OQed2YDorzj0QfO9R MTYcvmcu9TdoPrwMKQxHXlDNVI5wfT4l9p31x6+hudpryI1NATXAweM7Awc= X-Google-Smtp-Source: AGHT+IE6eEtq3aFP8Eg0ETB+lkMAGy4XoEVRS+dZZTkv+mA017n9Jnlxo6iqk7w7+BrXaB6YXWv7pe0FQfhl X-Received: by 2002:a17:90b:278e:b0:309:fd87:820e with SMTP id 98e67ed59e1d1-30aac1f04edmr1366817a91.26.1746567865391; Tue, 06 May 2025 14:44:25 -0700 (PDT) Received: from postal.iol.unh.edu (postal.iol.unh.edu. [132.177.123.84]) by smtp-relay.gmail.com with ESMTPS id 98e67ed59e1d1-30aaeae5215sm23658a91.11.2025.05.06.14.44.25 (version=TLS1_2 cipher=ECDHE-ECDSA-AES128-GCM-SHA256 bits=128/128); Tue, 06 May 2025 14:44:25 -0700 (PDT) X-Relaying-Domain: iol.unh.edu Date: Tue, 06 May 2025 14:44:25 -0700 (PDT) Message-ID: <681a82b9.170a0220.132f77.16b3SMTPIN_ADDED_MISSING@mx.google.com> Received: from [172.17.0.2] (unknown [172.18.0.77]) by postal.iol.unh.edu (Postfix) with ESMTP id 914B56052471; Tue, 6 May 2025 17:44:24 -0400 (EDT) Subject: |SUCCESS| pw153332 [PATCH] kernel/freebsd: Allow contigmem allocatio From: dpdklab@iol.unh.edu To: Test Report Cc: dpdk-test-reports@iol.unh.edu In-Reply-To: <20250506174941.1141140-1-jfree@FreeBSD.org> References: <20250506174941.1141140-1-jfree@FreeBSD.org> Content-Type: text/plain X-BeenThere: test-report@dpdk.org X-Mailman-Version: 2.1.29 Precedence: list List-Id: automatic DPDK test reports List-Unsubscribe: , List-Archive: List-Post: List-Help: List-Subscribe: , Errors-To: test-report-bounces@dpdk.org Test-Label: iol-unit-arm64-testing Test-Status: SUCCESS http://dpdk.org/patch/153332 _Testing PASS_ Submitter: Jake Freeland Date: Tuesday, May 06 2025 17:48:38 DPDK git baseline: Repo:dpdk Branch: master CommitID:75f179ebe347b6098cf3af26d3d3b7168fe3fe24 153332 --> testing pass Upstream job id: Aarch32-Unit-Test#6152 Test environment and result as below: +-----------------------------+------------------------------+----------------+--------------+---------------------------+ | Environment | cryptodev_sw_snow3g_autotest | dpdk_unit_test | lpm_autotest | cryptodev_sw_zuc_autotest | +=============================+==============================+================+==============+===========================+ | Debian 12 (arm) | PASS | PASS | SKIPPED | PASS | +-----------------------------+------------------------------+----------------+--------------+---------------------------+ | CentOS Stream 9 (ARM) | SKIPPED | PASS | SKIPPED | SKIPPED | +-----------------------------+------------------------------+----------------+--------------+---------------------------+ | CentOS Stream 10 (ARM) | SKIPPED | PASS | SKIPPED | SKIPPED | +-----------------------------+------------------------------+----------------+--------------+---------------------------+ | Ubuntu 20.04 (ARM) | SKIPPED | PASS | SKIPPED | SKIPPED | +-----------------------------+------------------------------+----------------+--------------+---------------------------+ | Fedora 40 (ARM) | SKIPPED | PASS | SKIPPED | SKIPPED | +-----------------------------+------------------------------+----------------+--------------+---------------------------+ | Fedora 41 (ARM Clang) | SKIPPED | PASS | SKIPPED | SKIPPED | +-----------------------------+------------------------------+----------------+--------------+---------------------------+ | RHEL9 (ARM) | SKIPPED | PASS | SKIPPED | SKIPPED | +-----------------------------+------------------------------+----------------+--------------+---------------------------+ | Fedora 41 (ARM) | SKIPPED | PASS | SKIPPED | SKIPPED | +-----------------------------+------------------------------+----------------+--------------+---------------------------+ | Ubuntu 22.04 (ARM) | SKIPPED | PASS | SKIPPED | SKIPPED | +-----------------------------+------------------------------+----------------+--------------+---------------------------+ | Fedora 40 (ARM Clang) | SKIPPED | PASS | SKIPPED | SKIPPED | +-----------------------------+------------------------------+----------------+--------------+---------------------------+ | Ubuntu 24.04 (ARM) | SKIPPED | PASS | SKIPPED | SKIPPED | +-----------------------------+------------------------------+----------------+--------------+---------------------------+ | 32-bit Ubuntu 22.04.4 (ARM) | SKIPPED | PASS | SKIPPED | SKIPPED | +-----------------------------+------------------------------+----------------+--------------+---------------------------+ | Ubuntu 20.04 ARM SVE | SKIPPED | SKIPPED | PASS | SKIPPED | +-----------------------------+------------------------------+----------------+--------------+---------------------------+ Debian 12 (arm) Kernel: Depends on container host Compiler: gcc (Debian 12.2.0-14) 12.2.0 CentOS Stream 9 (ARM) Kernel: Depends on container host Compiler: gcc 11.5.0 20240719 (Red Hat 11.5.0-2) CentOS Stream 10 (ARM) Kernel: Depends on container host Compiler: gcc 14.2.1 20241104 (Red Hat 14.2.1-6) Ubuntu 20.04 (ARM) Kernel: Depends on container host Compiler: gcc (Ubuntu 9.4.0-1ubuntu1~20.04.2) 9.4.0 Fedora 40 (ARM) Kernel: Depends on container host Compiler: gcc 14.2.1 20240912 (Red Hat 14.2.1-3) Fedora 41 (ARM Clang) Kernel: Depends on container host Compiler: clang 19.1.5 (Fedora 19.1.5-1.fc41) RHEL9 (ARM) Kernel: Depends on container host Compiler: gcc 11.5.0 20240719 (Red Hat 11.5.0-2) Fedora 41 (ARM) Kernel: Depends on container host Compiler: gcc 14.2.1 20240912 (Red Hat 14.2.1-3) Ubuntu 22.04 (ARM) Kernel: Depends on container host Compiler: gcc (Ubuntu 11.4.0-1ubuntu1~22.04) 11.4.0 Fedora 40 (ARM Clang) Kernel: Depends on container host Compiler: clang 18.1.8 (Fedora 18.1.8-1.fc40) Ubuntu 24.04 (ARM) Kernel: Depends on container host Compiler: gcc (Ubuntu 13.3.0-6ubuntu2~24.04) 13.3.0 32-bit Ubuntu 22.04.4 (ARM) Kernel: 5.15.83+ aarch64 Compiler: gcc (Ubuntu 11.4.0-1ubuntu1~22.04) 11.4.0 Ubuntu 20.04 ARM SVE Kernel: Depends on container host Compiler: gcc (Ubuntu 10.5.0-1ubuntu1~20.04) 10.5.0 To view detailed results, visit: https://lab.dpdk.org/results/dashboard/patchsets/33127/ UNH-IOL DPDK Community Lab To manage your email subscriptions, visit: https://lab.dpdk.org/results/dashboard/preferences/subscriptions/